BEGIN:VCALENDAR
VERSION:2.0
PRODID:-//ITF International Taekwon-Do Federation - ECPv6.15.20//NONSGML v1.0//EN
CALSCALE:GREGORIAN
METHOD:PUBLISH
X-WR-CALNAME:ITF International Taekwon-Do Federation
X-ORIGINAL-URL:https://itftkd.sport
X-WR-CALDESC:Events for ITF International Taekwon-Do Federation
REFRESH-INTERVAL;VALUE=DURATION:PT1H
X-Robots-Tag:noindex
X-PUBLISHED-TTL:PT1H
BEGIN:VTIMEZONE
TZID:Europe/Madrid
BEGIN:DAYLIGHT
TZOFFSETFROM:+0100
TZOFFSETTO:+0200
TZNAME:CEST
DTSTART:20170326T010000
END:DAYLIGHT
BEGIN:STANDARD
TZOFFSETFROM:+0200
TZOFFSETTO:+0100
TZNAME:CET
DTSTART:20171029T010000
END:STANDARD
BEGIN:DAYLIGHT
TZOFFSETFROM:+0100
TZOFFSETTO:+0200
TZNAME:CEST
DTSTART:20180325T010000
END:DAYLIGHT
BEGIN:STANDARD
TZOFFSETFROM:+0200
TZOFFSETTO:+0100
TZNAME:CET
DTSTART:20181028T010000
END:STANDARD
BEGIN:DAYLIGHT
TZOFFSETFROM:+0100
TZOFFSETTO:+0200
TZNAME:CEST
DTSTART:20190331T010000
END:DAYLIGHT
BEGIN:STANDARD
TZOFFSETFROM:+0200
TZOFFSETTO:+0100
TZNAME:CET
DTSTART:20191027T010000
END:STANDARD
END:VTIMEZONE
BEGIN:VEVENT
DTSTART;TZID=Europe/Madrid:20180721T000000
DTEND;TZID=Europe/Madrid:20180722T235959
DTSTAMP:20260426T061339
CREATED:20180621T133045Z
LAST-MODIFIED:20180621T133045Z
UID:10000290-1532131200-1532303999@itftkd.sport
SUMMARY:ITF Taekwon-Do Seminar Nairobi\, Kenya
DESCRIPTION:
URL:https://itftkd.sport/event/itf-taekwon-do-seminar-nairobi-kenya/
LOCATION:Ngong Yputh Empowerment Hall\, Nairobi\, Kenya
CATEGORIES:Regional Activities
ATTACH;FMTTYPE=:
ORGANIZER;CN="ITF Kenya":MAILTO:ngucie013@gmail.com
END:VEVENT
END:VCALENDAR