BEGIN:VCALENDAR
VERSION:2.0
PRODID:-//ITF International Taekwon-Do Federation - ECPv6.15.20//NONSGML v1.0//EN
CALSCALE:GREGORIAN
METHOD:PUBLISH
X-WR-CALNAME:ITF International Taekwon-Do Federation
X-ORIGINAL-URL:https://itftkd.sport
X-WR-CALDESC:Events for ITF International Taekwon-Do Federation
REFRESH-INTERVAL;VALUE=DURATION:PT1H
X-Robots-Tag:noindex
X-PUBLISHED-TTL:PT1H
BEGIN:VTIMEZONE
TZID:Europe/Madrid
BEGIN:DAYLIGHT
TZOFFSETFROM:+0100
TZOFFSETTO:+0200
TZNAME:CEST
DTSTART:20230326T010000
END:DAYLIGHT
BEGIN:STANDARD
TZOFFSETFROM:+0200
TZOFFSETTO:+0100
TZNAME:CET
DTSTART:20231029T010000
END:STANDARD
BEGIN:DAYLIGHT
TZOFFSETFROM:+0100
TZOFFSETTO:+0200
TZNAME:CEST
DTSTART:20240331T010000
END:DAYLIGHT
BEGIN:STANDARD
TZOFFSETFROM:+0200
TZOFFSETTO:+0100
TZNAME:CET
DTSTART:20241027T010000
END:STANDARD
BEGIN:DAYLIGHT
TZOFFSETFROM:+0100
TZOFFSETTO:+0200
TZNAME:CEST
DTSTART:20250330T010000
END:DAYLIGHT
BEGIN:STANDARD
TZOFFSETFROM:+0200
TZOFFSETTO:+0100
TZNAME:CET
DTSTART:20251026T010000
END:STANDARD
END:VTIMEZONE
BEGIN:VEVENT
DTSTART;TZID=Europe/Madrid:20240531T000000
DTEND;TZID=Europe/Madrid:20240602T235959
DTSTAMP:20260423T212757
CREATED:20240214T164854Z
LAST-MODIFIED:20240315T212607Z
UID:10000500-1717113600-1717372799@itftkd.sport
SUMMARY:IIC Burkina Faso
DESCRIPTION:First time IIC in Ouagadougou\, Burkina Faso\, with Master Jurek Jedut\, Member of the ITF Technical and Instruction Committee\, and as a special guest GM Paul Weiler\, ITF President! \n\n\n\nMore information at \n\n\n\nEmail: claudnikiema@gmail.comTel: + 226 78414129 and + 226 70023063
URL:https://itftkd.sport/event/iic-burkina-faso/
CATEGORIES:International Instructor Course
ATTACH;FMTTYPE=image/jpeg:https://itftkd.sport/wp-content/uploads/2024/02/20240531_feature-image_IIC_BurkinaFaso.jpg
END:VEVENT
BEGIN:VEVENT
DTSTART;TZID=Europe/Madrid:20240601T090000
DTEND;TZID=Europe/Madrid:20240602T160000
DTSTAMP:20260423T212757
CREATED:20240502T115442Z
LAST-MODIFIED:20240506T012620Z
UID:10000515-1717232400-1717344000@itftkd.sport
SUMMARY:First Official Adapted Umpire Course Online
DESCRIPTION:Dear ITF Members\, Grand Masters\, Masters\, Instructors and Umpires\, \n\n\n\nOn behalf of the International Taekwon-Do Federation (ITF)\, the ITF Umpire Committee\, and the ITF Inclusion Committee\, we are pleased to extend a warm invitation to the First International Qualifying Course for Umpires and Referees of Adapted Taekwon-Do – Online\, scheduled for June 1st and 2nd\, 2024. \n\n\n\nThe course will be led by Grand Master Abelardo Benzaquén\, Chair of the ITF Umpire Committee\, along with Sabum Nim Anabel Vicario\, Chair of the ITF Inclusion Committee. \n\n\n\nThe ITF regularly organizes International Umpires Courses worldwide\, especially before major championships such as the World Cups\, World Championships\, and continental competitions\, to ensure that all officials are up to date with rules\, regulations\, and the latest technical aspects. \n\n\n\nThis inaugural International Course for Adapted Taekwon-Do Referees coincides with the 2024 Center and South American Championship in Paraguay later this month\, and four months prior to the ITF World Cup 2024\, scheduled for October in Mar del Plata\, Argentina. This course serves as a Qualifying Course for referees seeking certification as Adapted Umpire A (4th Dan and above) and Adapted Umpires (2nd Dan and above). The course is open to all ITF members from 2nd Kup\, aged 16 and above. \n\n\n\nRegistration: All National Associations or Affiliate Organizations can register participants through the ITF database: https://data.itftkd.sport/signin \n\n\n\nCosts: For Kups and Dans up to 6th Dan: 175 U$S; for Masters 7th and 8th Dan: 135 U$S \n\n\n\nPayments: Payments must be made through the itf-books.org platform \n\n\n\nRegistration Deadline: May 30th\, 2024 \n\n\n\nLanguages: The first course will be conducted in Spanish. \n\n\n\nWe look forward to your participation in this significant event. \n\n\n\nWarm regards on behalf of the ITF Umpire Committee and the ITF Inclusion Committee. \n\n\n\nGrand Master Abelardo BenzaquénChair of the ITF Umpire Committee \n\n\n\nSabum Nim Anabel VicarioChair of the ITF Inclusion Committee
URL:https://itftkd.sport/event/first-official-adapted-umpire-course-online/
CATEGORIES:International Umpire Course
ATTACH;FMTTYPE=image/jpeg:https://itftkd.sport/wp-content/uploads/2024/05/1er-Curso-Online-Umpire-Adaptado-8000x600-2.jpg
END:VEVENT
BEGIN:VEVENT
DTSTART;TZID=Europe/Madrid:20240605T080000
DTEND;TZID=Europe/Madrid:20240605T170000
DTSTAMP:20260423T212757
CREATED:20241127T132210Z
LAST-MODIFIED:20241127T132211Z
UID:10000545-1717574400-1717606800@itftkd.sport
SUMMARY:TAEKWON-DO FOR THE RIGHTS
DESCRIPTION:The TAEKWON-DO FOR THE RIGHTS project with № 101133552 aims to encourage young people who actively practice sports to increase civic participation in their communities by establishing interaction with law enforcement agencies and thereby improving social inclusion. \n\n\n\nThe project will bring together young Taekwon-Do players aged 12-17 years and adults to promote together sports activities in their communities and active involvement in the local life of adults and young people. \n\n\n\nThe project aims not only to popularize Taekwon-Do practices for a healthy and active lifestyle\, but also to apply the values of Taekwon-Do as a tool for building trust between young and old\, endurance and resilience. The project will create a new concept for a sporting event that encourages athletes to engage in civic engagement as a precondition for participating in the event. It will be held in October 2024 in Sofia\, and during its conduct\, numerous opportunities will be provided for the participants to build connectivity and intercultural understanding. \n\n\n\nTAEKWON-DO FOR THE RIGHTS is a complementary project to two previous projects of the Central Police Taekwon-Do Club – Taekwon-Do for the mind – get a black belt in values and BeValue Reload. \n\n\n\nPartners of the CENTRAL POLICE TAEKWON-DO CLUB on the project are: \n\n\n\n\nTKD AHAC SENTJUR\, SLOVENIA\n\n\n\nSC ARISTOTELIS\, GREECE\n\n\n\nROMANIAN TAEKWON-DO ITF FEDERATION\n\n\n\nINTERNATIONAL TOPFLIGHT BRUSSELS ASBL\n\n\n\nTKD SPIRIT ASSOCIATION\, HUNGARY\n\n\n\nTAEKWON-DO GE-BAEK\, SLOVAKIA\n\n\n\nCIN-GU\, LATVIA\n\n\n\nTAEKWON-DO CLUB SOKO\, BACKA TOPOLA\, SERBIA\n\n\n\nMIEJSKI KLUB SPORTOWY LEWART AGS LUBARTOW\, POLAND\n\n\n\n\nEach participating team will find a role model from the National Police or other law enforcement agencies\, a famous athlete\, female athlete/police officer\, outstanding young people with achievements in Tae Kwon-Do who will talk about their training regime\, how this regime targets healthy lifestyle\, how sports contribute to professional orientation\, values in sports\, etc. The major events of the Project including the Taekwon-Do sports competition with all Taekwon-Do competition disciplines according to ITF Competition Rules will be held in ASICS Arena in Sofia\, Bulgaria\, on 17-21 October 2024.
URL:https://itftkd.sport/event/taekwon-do-for-the-rights/
CATEGORIES:Regional Activities,Regional Championship
ATTACH;FMTTYPE=image/jpeg:https://itftkd.sport/wp-content/uploads/2024/11/Featured-TKD-Rights-1.jpg
END:VEVENT
BEGIN:VEVENT
DTSTART;TZID=Europe/Madrid:20240608T073000
DTEND;TZID=Europe/Madrid:20240608T200000
DTSTAMP:20260423T212757
CREATED:20240319T193652Z
LAST-MODIFIED:20240322T175806Z
UID:10000507-1717831800-1717876800@itftkd.sport
SUMMARY:Sardinia Open Championship 2024
DESCRIPTION:Dear Grand Masters\, Masters\, instructors and Studentslt’s a pleasure to invite you to the ITF SARDINIA OPEN that will be held on the beautiful island of Sardinia (Italy) on June 8 of 2024.The competition is open to kids\, juniors\, adults and veterans (all belts).You also have the opportunity to visit natural and historical places of the amazing island.We hope to see you enjoying this event with all the participants.All the details below. \n\n\n\nINVITATION.Download
URL:https://itftkd.sport/event/sardinia-open-championship-2024/
CATEGORIES:Regional Championship
ATTACH;FMTTYPE=image/jpeg:https://itftkd.sport/wp-content/uploads/2024/03/Futured-Sadinia-Open-2024.jpg
END:VEVENT
BEGIN:VEVENT
DTSTART;TZID=Europe/Madrid:20240608T080000
DTEND;TZID=Europe/Madrid:20240608T170000
DTSTAMP:20260423T212757
CREATED:20240322T144917Z
LAST-MODIFIED:20240322T221910Z
UID:10000508-1717833600-1717866000@itftkd.sport
SUMMARY:Seminar in Taiwan
DESCRIPTION:This seminar is organized by the ITF Association of Taiwan in collaboration with ITF Vietnam\, with the main purpose of promote the art of Taekwon-Do in the Asian region\, and will be conducted by Master Mariusz Steckiewicz\, a recognized instructor from Poland with over 35 years of experience.  \n\n\n\nBelow is the the basic information:  \n\n\n\n\n\n\n\nMain Topics of the Seminar: \n\n\n\n\nBiomechanics and Generation of Power in Taekwon-Do\n\n\n\nInjury prevention during our daily Training routine\n\n\n\n\nGoals of the Seminar: \n\n\n\n\nUnderstand Practical Application of Taekwon-Do Training Secrets.\n\n\n\nOptimizing Techniques for Power Development.\n\n\n\nTailoring Taekwon-Do techniques and training to fit individual needs\, which is essential for maximizing potential. \n\n\n\nHow to Recognize and Minimize the Injuries in Taekwon-Do training. \n\n\n\n\nLecturer: \n\n\n\nMaster Mariusz Steckiewicz is an 8th degree black belt and professional ACE (American Council on Exercise) Certified Personal Trainer and sports coach\, who’s currently based in Ho Chi Minh City\, Vietnam.  \n\n\n\nDate: 2024\, June 8th (Saturday) \n\n\n\nVenue: Taipei\, Taiwan (National Taiwan Normal University)  \n\n\n\nYou will find more information about the seminar in the attached invitation. \n\n\n\nBest Regards\, \n\n\n\nCarlos Machado \n\n\n\nITF Chinese Taipei (Taiwan) Chairman \n\n\n\nInvitation to Taekwon-Do Technical Seminar (Taipei\, Taiwan)Download
URL:https://itftkd.sport/event/seminar-in-taiwan/
CATEGORIES:Regional Activities
ATTACH;FMTTYPE=image/jpeg:https://itftkd.sport/wp-content/uploads/2024/03/Featured-Image-Seminar-in-Taiwan-1.jpg
END:VEVENT
BEGIN:VEVENT
DTSTART;TZID=Europe/Madrid:20240610T000000
DTEND;TZID=Europe/Madrid:20240616T235959
DTSTAMP:20260423T212757
CREATED:20240313T145803Z
LAST-MODIFIED:20240501T185254Z
UID:10000504-1717977600-1718582399@itftkd.sport
SUMMARY:India Seminar and Tournament
DESCRIPTION:Seminars and Tournaments with GM Paul Weiler and Guest Instructor Master Yogi Chand in India the week of June 10 to 16: \n\n\n\n\n\n\n\nITF President’s Seminar on June 10-11  \n\n\n\nMore information:Phone: +91 886 0616 168web: www.itfind.in \n\n\n\n\n			\n				\n			\n		\n\n\n\n\n\n\n\nBlack Belt Training Camp on June 12&13 in Chennai \n\n\n\nMore information:Phone: +91 98407 20308 \n\n\n\n\n			\n				\n			\n		\n\n\n\n\n\n\n\nSouth Zonal Taekwon-Do Black Belt Training on June 15\, and Championship on June 16 in Bangalore(ATTENTION: location updated) \n\n\n\nMore information:Phone: +95 3803 1682Web: www.bit-itf.com
URL:https://itftkd.sport/event/india-seminar-and-tournament/
CATEGORIES:Regional Activities
ATTACH;FMTTYPE=image/jpeg:https://itftkd.sport/wp-content/uploads/2024/03/20240610_India_feature.jpg
END:VEVENT
BEGIN:VEVENT
DTSTART;TZID=Europe/Madrid:20240624T080000
DTEND;TZID=Europe/Madrid:20240630T170000
DTSTAMP:20260423T212757
CREATED:20240318T164427Z
LAST-MODIFIED:20240319T151744Z
UID:10000505-1719216000-1719766800@itftkd.sport
SUMMARY:IX Campeonato Centro y Sudamericano
DESCRIPTION:IX Campeonato Centro y Sudamericano de Taekwon-Do ITF_Descarga
URL:https://itftkd.sport/event/ix-campeonato-centro-y-sudamericano/
CATEGORIES:Regional Championship
ATTACH;FMTTYPE=image/jpeg:https://itftkd.sport/wp-content/uploads/2024/03/Featured-Image-Centro-Sudamericano.jpg
END:VEVENT
BEGIN:VEVENT
DTSTART;TZID=Europe/Madrid:20240629T080000
DTEND;TZID=Europe/Madrid:20240630T170000
DTSTAMP:20260423T212757
CREATED:20231025T193043Z
LAST-MODIFIED:20231027T110409Z
UID:10000482-1719648000-1719766800@itftkd.sport
SUMMARY:IIC Japan
DESCRIPTION:
URL:https://itftkd.sport/event/iic-japan/
CATEGORIES:International Instructor Course
ATTACH;FMTTYPE=image/jpeg:https://itftkd.sport/wp-content/uploads/2023/10/Featured-Image-IIC-Japan.jpg
END:VEVENT
END:VCALENDAR