BEGIN:VCALENDAR
VERSION:2.0
PRODID:-//ITF International Taekwon-Do Federation - ECPv6.15.20//NONSGML v1.0//EN
CALSCALE:GREGORIAN
METHOD:PUBLISH
X-ORIGINAL-URL:https://itftkd.sport
X-WR-CALDESC:Events for ITF International Taekwon-Do Federation
REFRESH-INTERVAL;VALUE=DURATION:PT1H
X-Robots-Tag:noindex
X-PUBLISHED-TTL:PT1H
BEGIN:VTIMEZONE
TZID:Europe/Madrid
BEGIN:DAYLIGHT
TZOFFSETFROM:+0100
TZOFFSETTO:+0200
TZNAME:CEST
DTSTART:20230326T010000
END:DAYLIGHT
BEGIN:STANDARD
TZOFFSETFROM:+0200
TZOFFSETTO:+0100
TZNAME:CET
DTSTART:20231029T010000
END:STANDARD
BEGIN:DAYLIGHT
TZOFFSETFROM:+0100
TZOFFSETTO:+0200
TZNAME:CEST
DTSTART:20240331T010000
END:DAYLIGHT
BEGIN:STANDARD
TZOFFSETFROM:+0200
TZOFFSETTO:+0100
TZNAME:CET
DTSTART:20241027T010000
END:STANDARD
BEGIN:DAYLIGHT
TZOFFSETFROM:+0100
TZOFFSETTO:+0200
TZNAME:CEST
DTSTART:20250330T010000
END:DAYLIGHT
BEGIN:STANDARD
TZOFFSETFROM:+0200
TZOFFSETTO:+0100
TZNAME:CET
DTSTART:20251026T010000
END:STANDARD
END:VTIMEZONE
BEGIN:VEVENT
DTSTART;TZID=Europe/Madrid:20240406T000000
DTEND;TZID=Europe/Madrid:20240407T235959
DTSTAMP:20260424T001046
CREATED:20231223T145815Z
LAST-MODIFIED:20240104T195616Z
UID:10000494-1712361600-1712534399@itftkd.sport
SUMMARY:QIUC 44 - Argentina
DESCRIPTION:Please find the full invitation below.  \n\n\n\nInvitation QIUC 44th ArgentinaDownload
URL:https://itftkd.sport/event/iuc-44-argentina/
CATEGORIES:International Umpire Course
ATTACH;FMTTYPE=image/jpeg:https://itftkd.sport/wp-content/uploads/2023/12/feature-image-IUC44-ENG.jpg
END:VEVENT
BEGIN:VEVENT
DTSTART;TZID=Europe/Madrid:20240406T220000
DTEND;TZID=Europe/Madrid:20240406T230000
DTSTAMP:20260424T001046
CREATED:20240402T164558Z
LAST-MODIFIED:20240402T164600Z
UID:10000510-1712440800-1712444400@itftkd.sport
SUMMARY:World Cup: registration instructions
DESCRIPTION:Online MS Teams meeting about registration instructions \n\n\n\nStarting time: 8:00 pm UTC. \n\n\n\nAccess Link: https://teams.live.com/meet/9439153491760?p=IMz-FWj2eAdSimrkh
URL:https://itftkd.sport/event/world-cup-registration-instructions/
CATEGORIES:World Cup
ATTACH;FMTTYPE=image/jpeg:https://itftkd.sport/wp-content/uploads/2024/02/World-Cup-2024-800x600-1.jpg
END:VEVENT
BEGIN:VEVENT
DTSTART;TZID=Europe/Madrid:20240414T000000
DTEND;TZID=Europe/Madrid:20240415T235959
DTSTAMP:20260424T001046
CREATED:20240121T191207Z
LAST-MODIFIED:20240123T102129Z
UID:10000497-1713052800-1713225599@itftkd.sport
SUMMARY:QIUC 45 - India
DESCRIPTION:Dear ITF Members \n\n\n\nOn behalf of Sbn Santosh Kumar Yadav\, Secretary General ITF Taekwon-Do Federation of India\, and the International Taekwon-Do Federation Umpire Committee (ITF UC)\, we invite and welcome you to the 45th Qualifying International Umpire Course (QIUC) to be held on April 14th and 15th\, 2024\, in Gorakhpur\, Uttar Pradesh\, India. \n\n\n\nThe ITF runs International Umpire Courses around the world on a regular basis\, especially prior to all major championships such as World Cups and World Championships\, to ensure all officials are up to date with the rules\, regulations\, and the latest technical aspects. \n\n\n\nThis International Umpire Course takes place just six months before the 9th ITF World Cup in Argentina and serves as a Qualifying course for those umpires wishing to apply for the competition. \n\n\n\nParticipants can also apply for the Umpire A certificate (4th Degree and above)\, and Umpire B certificate (2nd Degree and above). \n\n\n\nThe course is open to all ITF members from red belts and above\, from 16 years old and above and all participants will receive a participation diploma. \n\n\n\nIt will take place at GORAKHPUR\, HOTEL CLARKS GRAND located at .6 Park Road\, Civil Lines Gorakhpur\, U.P. -INDIA -273001 (Phone + 91-9936799061/63\, Web: https://hotelclarksgrand.com) \n\n\n\nThe Course will be conducted by the ITF International Umpire Committee\, led by its Chairman Grand Master Abelardo Benzaquen. It is organized by Sbn Santosh Kumar Yadav\, Secretary General ITF Taekwon-Do Federation of India\,.For receiving more information and inscription please contact:India: Sbn Santosh Kumar Yadav\, +91-7007901819\,9451980340\, Email: y.santosh83@gmail.com\, INTERNATIONAL: Ms. Priyanka Singh +91-8840265526\,7348310689\, Email: itfindiaofficial@gmail.com \n\n\n\nWe look forward to meeting you in India!Yours in Taekwon-Do\, \n\n\n\nSbn Santosh Kumar YadavSecretary GeneralITF Taekwon-Do Federation of India \n\n\n\nGrand Master Abelardo BenzaquénChair of the ITF Umpire Committee
URL:https://itftkd.sport/event/iuc-45-india/
LOCATION:HOTEL CLARKS GRAND\, 6 Park Road\, GORAKHPUR\, Civil Lines\, 273001\, India
CATEGORIES:International Umpire Course
ATTACH;FMTTYPE=image/jpeg:https://itftkd.sport/wp-content/uploads/2024/01/feature-QIUC45_India.jpg
END:VEVENT
BEGIN:VEVENT
DTSTART;TZID=Europe/Madrid:20240417T080000
DTEND;TZID=Europe/Madrid:20240421T170000
DTSTAMP:20260424T001046
CREATED:20231203T125930Z
LAST-MODIFIED:20240109T095408Z
UID:10000492-1713340800-1713718800@itftkd.sport
SUMMARY:European Taekwon-Do Championship 2024 in Poland
DESCRIPTION:The 38th European Taekwon-Do Championships\, 29th Junior European Taekwon-Do Championships\,  1st Pre-Junior European Taekwon-Do Championships  will be held From 17th to 21st April 2024 in Lublin\, Poland. \n\n\n\nThe competition will take place in the Sports and Entertainment hall of the Medical University of Lublin 15 Chodźki Str.\, 20-093 Lublin. \n\n\n\nThe date of organizing the European Taekwon-Do Championship in Poland is not accidental. \n\n\n\nIn 2024\, the Polish Taekwon-Do Association will be celebrating the 50th anniversary of introducing Taekwon-Do in Poland. Lublin already hosted the 9th Senior European Taekwon-Do Championships from 14 to 15 May of 1994\, and next year will mark exactly 30 years since this event. \n\n\n\n\n\n\n\nIn order to prepare well for the Euros 2024\, the Organizing Committee hosted the 12th Open European Taekwon-Do Cup in June 2023\, which was an opportunity to examine organizational possibilities\, venue\, locations\, hotel facilities and to enable participants to reconnoiter. \n\n\n\n\n\n\n\nThe Polish Taekwon-Do National Team won the medal classification of the Senior European Championships 28 times and the Junior medal classification 15 times.Time will tell whether victory will be achieved again in 2024. \n\n\n\n\n\n\n\nFor the convenience of participants and efficient communication\, there is a FB profile for the European Taekwon-Do Championship 2024 at: https://www.facebook.com/profile.php?id=61553700399268.We encourage you to like and follow the profile. \n\n\n\nStatistics and results will be available on SportData\, which will be open on 1st December 2023. \n\n\n\nAdults: https://www.sportdata.org/taekwondo_itf/set-online/veranstaltung_info_main.php?active_menu=calendar&vernr=475#a_eventheadJuniors: https://www.sportdata.org/taekwondo_itf/set-online/veranstaltung_info_main.php?active_menu=calendar&vernr=476#a_eventhead \n\n\n\nPre-Juniors: https://www.sportdata.org/taekwondo_itf/set-online/veranstaltung_info_main.php?active_menu=calendar&vernr=477#a_eventhead \n\n\n\nThe championships are open to all National Associations affiliated to All Europe Taekwon-Do Federation. \n\n\n\nWe look forward to seeing you in Lublin – the City of Inspiration – in April 2024. \n\n\n\n\n\n\n\n\n\nOrganizing Committee \n\n\n\nEuros_2024 Poland – INVITATION v2Download\n\n\n\n European Taekwon-Do Championship 2024 -LOGODownload\n\n\n\nEuros 2024-AccommodationDownload
URL:https://itftkd.sport/event/european-taekwon-do-championship-2024-in-poland/
CATEGORIES:Continental Championship
ATTACH;FMTTYPE=image/jpeg:https://itftkd.sport/wp-content/uploads/2023/12/Highlighit-Euros-2024-Poland.jpg
ORGANIZER;CN="Polish Taekwon-do Assocaition":MAILTO:info@pztkdlublin.pl
END:VEVENT
END:VCALENDAR