BEGIN:VCALENDAR
VERSION:2.0
PRODID:-//ITF International Taekwon-Do Federation - ECPv6.15.20//NONSGML v1.0//EN
CALSCALE:GREGORIAN
METHOD:PUBLISH
X-ORIGINAL-URL:https://itftkd.sport
X-WR-CALDESC:Events for ITF International Taekwon-Do Federation
REFRESH-INTERVAL;VALUE=DURATION:PT1H
X-Robots-Tag:noindex
X-PUBLISHED-TTL:PT1H
BEGIN:VTIMEZONE
TZID:UTC
BEGIN:STANDARD
TZOFFSETFROM:+0000
TZOFFSETTO:+0000
TZNAME:UTC
DTSTART:20220101T000000
END:STANDARD
END:VTIMEZONE
BEGIN:VTIMEZONE
TZID:Europe/Madrid
BEGIN:DAYLIGHT
TZOFFSETFROM:+0100
TZOFFSETTO:+0200
TZNAME:CEST
DTSTART:20220327T010000
END:DAYLIGHT
BEGIN:STANDARD
TZOFFSETFROM:+0200
TZOFFSETTO:+0100
TZNAME:CET
DTSTART:20221030T010000
END:STANDARD
BEGIN:DAYLIGHT
TZOFFSETFROM:+0100
TZOFFSETTO:+0200
TZNAME:CEST
DTSTART:20230326T010000
END:DAYLIGHT
BEGIN:STANDARD
TZOFFSETFROM:+0200
TZOFFSETTO:+0100
TZNAME:CET
DTSTART:20231029T010000
END:STANDARD
BEGIN:DAYLIGHT
TZOFFSETFROM:+0100
TZOFFSETTO:+0200
TZNAME:CEST
DTSTART:20240331T010000
END:DAYLIGHT
BEGIN:STANDARD
TZOFFSETFROM:+0200
TZOFFSETTO:+0100
TZNAME:CET
DTSTART:20241027T010000
END:STANDARD
END:VTIMEZONE
BEGIN:VTIMEZONE
TZID:Africa/Addis_Ababa
BEGIN:STANDARD
TZOFFSETFROM:+0300
TZOFFSETTO:+0300
TZNAME:EAT
DTSTART:20220101T000000
END:STANDARD
END:VTIMEZONE
BEGIN:VEVENT
DTSTART;TZID=UTC:20230429T080000
DTEND;TZID=UTC:20230501T170000
DTSTAMP:20260426T032052
CREATED:20220918T122013Z
LAST-MODIFIED:20220918T122646Z
UID:10000421-1682755200-1682960400@itftkd.sport
SUMMARY:IIC Brasil 2023
DESCRIPTION:Contact: rramirez@abt. \n\n\n\nPhone: +55 19 99305 8468
URL:https://itftkd.sport/event/iic-brasil-2023/
LOCATION:Círculo Militar de Campinas\, Av. Getúlio Vargas 200 Jardim Chapadão\, Campinas\, San Pablo\, 13070-087\, Brasil
CATEGORIES:International Instructor Course
ATTACH;FMTTYPE=image/jpeg:https://itftkd.sport/wp-content/uploads/2022/09/Featured-Image-IIC-Brasil-2023.jpg
ORGANIZER;CN="Associacao Brasileira de Taekwon-do":MAILTO:rramirez@abt.esp.br
END:VEVENT
BEGIN:VEVENT
DTSTART;TZID=Europe/Madrid:20230505T000000
DTEND;TZID=Europe/Madrid:20230507T235959
DTSTAMP:20260426T032052
CREATED:20230211T155836Z
LAST-MODIFIED:20230225T180043Z
UID:10000444-1683244800-1683503999@itftkd.sport
SUMMARY:IUC Malaysia
DESCRIPTION:We are pleased to announce that the 41st IUC 2023 will be held in Sungai Petani\, Malaysia from May 5-7\, 2023. This #41stIUC2023 is open to all #ITFTaekwonDo members around the world from any federation.  \n\n\n\nMembers from other federations or outside Malaysia may submit the application form\, along with accommodation form to iuc2023@mytkd.org. The final course fee will be confirmed upon verification of the country’s economic status. \n\n\n\nDue to venue capacity and to maintain the quality\, the course participants are limited to the first 100 registrants only. Kindly submit your registration with full payment by 31st Mar 2022! \n\n\n\nSee you soon in Sungai Petani! \n\n\n\n41_IUC_2023_InfoPackDownload\n\n\n\n41_IUC_2023_MTF_Member_FormDownload\n\n\n\n41_IUC_2023_ITF_Member_FormDownload\n\n\n\n41_IUC_2023_Non-ITF_Member_FormDownload\n\n\n\n41_IUC_2023_Accomodation_Booking_FormDownload\n\n\n\n41_IUC_2023_Buffet_Dinner_FormDownload
URL:https://itftkd.sport/event/iuc-malaysia/
CATEGORIES:International Umpire Course
ATTACH;FMTTYPE=image/jpeg:https://itftkd.sport/wp-content/uploads/2023/02/230505_IUC_Malaysia-1.jpg
END:VEVENT
BEGIN:VEVENT
DTSTART;TZID=Europe/Madrid:20230508T000000
DTEND;TZID=Europe/Madrid:20230514T235959
DTSTAMP:20260426T032052
CREATED:20230210T140147Z
LAST-MODIFIED:20230210T140150Z
UID:10000440-1683504000-1684108799@itftkd.sport
SUMMARY:Panamerican Cup 2023
DESCRIPTION:More information: http://www.panamericanotkd.com.ar \n\n\n\nPlease find the official invitation below. \n\n\n\ninvitacionDownload
URL:https://itftkd.sport/event/panamerican-cup-2023/
CATEGORIES:Regional Championship
ATTACH;FMTTYPE=image/jpeg:https://itftkd.sport/wp-content/uploads/2023/02/invitacion.jpg
END:VEVENT
BEGIN:VEVENT
DTSTART;TZID=Europe/Madrid:20230512T000000
DTEND;TZID=Europe/Madrid:20230513T235959
DTSTAMP:20260426T032052
CREATED:20230508T200128Z
LAST-MODIFIED:20230508T200131Z
UID:10000455-1683849600-1684022399@itftkd.sport
SUMMARY:ITF Uganda Open Championships
DESCRIPTION:
URL:https://itftkd.sport/event/itf-uganda-open-championships/
CATEGORIES:Regional Championship
ATTACH;FMTTYPE=image/jpeg:https://itftkd.sport/wp-content/uploads/2023/05/230512_UgandaOpenChampionships_feature.jpg
END:VEVENT
BEGIN:VEVENT
DTSTART;TZID=Europe/Madrid:20230520T170000
DTEND;TZID=Europe/Madrid:20230521T210000
DTSTAMP:20260426T032052
CREATED:20230317T155311Z
LAST-MODIFIED:20230318T072016Z
UID:10000450-1684602000-1684702800@itftkd.sport
SUMMARY:Online IT-Umpire Course
DESCRIPTION:The ITF Umpire Committee and the ITF IT Committee offer a joint online course to qualify as an ITF IT-Umpire for international ITF competitions. \n\n\n\nFor further information\, please read the full invitation. \n\n\n\n230520_Invitation_Online_IT-Umpire_CourseDownload
URL:https://itftkd.sport/event/online-it-umpire-course/
CATEGORIES:International Umpire Course
ATTACH;FMTTYPE=image/jpeg:https://itftkd.sport/wp-content/uploads/2023/03/230520_IT-Umpire_banner.jpg
END:VEVENT
BEGIN:VEVENT
DTSTART;TZID=UTC:20230521T080000
DTEND;TZID=UTC:20230521T170000
DTSTAMP:20260426T032052
CREATED:20220910T010007Z
LAST-MODIFIED:20230208T133608Z
UID:10000420-1684656000-1684688400@itftkd.sport
SUMMARY:THE ANXUR BATTLE 2023
DESCRIPTION:THE ANXUR BATTLE OPEN COMPETITIONFONDI (LT)\, ITALYPALAZZO DELLO SPORTVIA MOLA SANTA MARIAMAY 21\, 2023INDIVIDUAL COMPETITION (PATTERN AND SPARRING) FOR ALL CATEGORIES AND BELTS \n\n\n\n\n\n\n\nFONDI (LT)\, Italy\, on May 21\, 2023.Info: GM Carmine Caiazzo +39 348 0336728Ms. Catia Savarese +39 328 266339 Sbn. Mikhail Voronstov +39 328 8052557 \n\n\n\nE-mail: sia-terracina@iperadsl.com / mastercarmine@libero.it / info@handlesport.com \n\n\n\nINVITATION ANXUR 21 MAY 2023 ENGDownload\n\n\n\nACCOMMODATION ANXUR 21 MAY 2023Download
URL:https://itftkd.sport/event/the-anxur-battle-2023/
CATEGORIES:Regional Activities,Regional Championship
ATTACH;FMTTYPE=image/jpeg:https://itftkd.sport/wp-content/uploads/2022/09/230521_ANXUR-2023-800X600.jpg
END:VEVENT
BEGIN:VEVENT
DTSTART;TZID=Europe/Madrid:20230521T140000
DTEND;TZID=Europe/Madrid:20230528T210000
DTSTAMP:20260426T032052
CREATED:20230210T142358Z
LAST-MODIFIED:20230415T091918Z
UID:10000442-1684677600-1685307600@itftkd.sport
SUMMARY:International Do Course (online\, Spanish)
DESCRIPTION:International Do Course (online) conducted by the ITF Do & Ethics Committee. \n\n\n\nThis IDC is taught in Spanish and it is specifically scheduled to accomodate members Europe and the Americas. Please notice that the IDC is a two day course (2 x 6h). \n\n\n\n*1st day: May 21\, 2pm – 9pm (UTC)*2nd day: May 28\, 2pm – 9pm (UTC) \n\n\n\nThe official invitation is available below. \n\n\n\nInformation_IDC_online_English_May2023Download\n\n\n\nInformacion_IDC-en_linea_Spanish_May2023Download
URL:https://itftkd.sport/event/international-do-course-online-spanish/
CATEGORIES:International Do Course
ATTACH;FMTTYPE=image/jpeg:https://itftkd.sport/wp-content/uploads/2023/01/IDC-International-Do-Course-2023.jpg
END:VEVENT
BEGIN:VEVENT
DTSTART;TZID=Europe/Madrid:20230526T080000
DTEND;TZID=Europe/Madrid:20230528T170000
DTSTAMP:20260426T032052
CREATED:20230203T155417Z
LAST-MODIFIED:20230204T130312Z
UID:10000439-1685088000-1685293200@itftkd.sport
SUMMARY:3rd Open Asian ITF Championships 2023 - New Delhi\, India
DESCRIPTION:Download 3rd Open Asian Championship – New Delhi\, India – 2023 – Invitation
URL:https://itftkd.sport/event/3rd-open-asian-itf-championships-2023-new-delhi-india/
LOCATION:Talkatora Indoor Stadium\, New Delhi\, India\, New Delhi\, 110004\, India
CATEGORIES:Championships,Regional Activities,Regional Championship
ATTACH;FMTTYPE=image/jpeg:https://itftkd.sport/wp-content/uploads/2023/02/3rd-Open-Asian-Taekwon-Do-ITF-Championships-2023.jpg
END:VEVENT
BEGIN:VEVENT
DTSTART;TZID=Europe/Madrid:20230527T000000
DTEND;TZID=Europe/Madrid:20230527T235959
DTSTAMP:20260426T032052
CREATED:20230515T144325Z
LAST-MODIFIED:20230515T144334Z
UID:10000456-1685145600-1685231999@itftkd.sport
SUMMARY:Tanzania Kids Championships 2023
DESCRIPTION:The East Africa Taekwon-Do Kids Program together with the Tanzania Taekwon-Do Association (TTA) invites to the Tanzania Kids Championships 2023 in Dar Es Salam\, Tanzania. \n\n\n\nMore information at tkd.itftta@gmail.com
URL:https://itftkd.sport/event/tanzania-kids-championships-2023/
CATEGORIES:Regional Activities,Regional Championship
ATTACH;FMTTYPE=image/jpeg:https://itftkd.sport/wp-content/uploads/2023/05/230527_TanzaniaKids_800x600.jpg
END:VEVENT
BEGIN:VEVENT
DTSTART;TZID=Africa/Addis_Ababa:20230527T080000
DTEND;TZID=Africa/Addis_Ababa:20230529T170000
DTSTAMP:20260426T032052
CREATED:20230117T170034Z
LAST-MODIFIED:20230118T125306Z
UID:10000432-1685174400-1685379600@itftkd.sport
SUMMARY:Sparring & Pattern Seminar in Ethiopia
DESCRIPTION:
URL:https://itftkd.sport/event/sparring-pattern-seminar-in-ethiopia/
CATEGORIES:Regional Activities
ATTACH;FMTTYPE=image/jpeg:https://itftkd.sport/wp-content/uploads/2023/01/Featured-Image-Ethiopia-sparring-patterns-Seminar.jpg
ORGANIZER;CN="Ehiopian International Taekwon-Do Association":MAILTO:eitatkd@yahoo.com
END:VEVENT
END:VCALENDAR