BEGIN:VCALENDAR
VERSION:2.0
PRODID:-//ITF International Taekwon-Do Federation - ECPv6.15.20//NONSGML v1.0//EN
CALSCALE:GREGORIAN
METHOD:PUBLISH
X-WR-CALNAME:ITF International Taekwon-Do Federation
X-ORIGINAL-URL:https://itftkd.sport
X-WR-CALDESC:Events for ITF International Taekwon-Do Federation
REFRESH-INTERVAL;VALUE=DURATION:PT1H
X-Robots-Tag:noindex
X-PUBLISHED-TTL:PT1H
BEGIN:VTIMEZONE
TZID:Europe/Madrid
BEGIN:DAYLIGHT
TZOFFSETFROM:+0100
TZOFFSETTO:+0200
TZNAME:CEST
DTSTART:20200329T010000
END:DAYLIGHT
BEGIN:STANDARD
TZOFFSETFROM:+0200
TZOFFSETTO:+0100
TZNAME:CET
DTSTART:20201025T010000
END:STANDARD
BEGIN:DAYLIGHT
TZOFFSETFROM:+0100
TZOFFSETTO:+0200
TZNAME:CEST
DTSTART:20210328T010000
END:DAYLIGHT
BEGIN:STANDARD
TZOFFSETFROM:+0200
TZOFFSETTO:+0100
TZNAME:CET
DTSTART:20211031T010000
END:STANDARD
BEGIN:DAYLIGHT
TZOFFSETFROM:+0100
TZOFFSETTO:+0200
TZNAME:CEST
DTSTART:20220327T010000
END:DAYLIGHT
BEGIN:STANDARD
TZOFFSETFROM:+0200
TZOFFSETTO:+0100
TZNAME:CET
DTSTART:20221030T010000
END:STANDARD
END:VTIMEZONE
BEGIN:VEVENT
DTSTART;TZID=Europe/Madrid:20211113T080000
DTEND;TZID=Europe/Madrid:20211114T170000
DTSTAMP:20260424T183603
CREATED:20211008T045739Z
LAST-MODIFIED:20211008T051034Z
UID:10000394-1636790400-1636909200@itftkd.sport
SUMMARY:Open Asia Cup 2021
DESCRIPTION:Open Asia Cup 2021 to be held on 13-14 November 2021 in Tashkent\, Uzbekistan \n\n\n\nSoon more information
URL:https://itftkd.sport/event/open-asia-cup-2021/
CATEGORIES:Championships,Regional Championship
ATTACH;FMTTYPE=image/jpeg:https://itftkd.sport/wp-content/uploads/2021/10/Uzbekistan-Open-Asia-Cup-800x600-1.jpg
END:VEVENT
BEGIN:VEVENT
DTSTART;TZID=Europe/Madrid:20211114T080000
DTEND;TZID=Europe/Madrid:20211114T170000
DTSTAMP:20260424T183603
CREATED:20210830T123111Z
LAST-MODIFIED:20211011T120855Z
UID:10000240-1636876800-1636909200@itftkd.sport
SUMMARY:THE ANXUR BATTLE - TERRACINA (LT) ITALY
DESCRIPTION:The competition is open to colored and black belts: \n\n\n\nCHILDREN \n\n\n\nJUNIORS \n\n\n\nSENIORS \n\n\n\nE-mail: sia-terracina@iperadsl.com / maestrcamine@libero.it / info@handlesport.com \n\n\n\nSoon more information \n\n\n\nINVITO ANXUR 14 November 2021 ENGDownload\n\n\n\nACCOMODATION-FORMS-ANXUR-BATTLE 14 november 2021 ENDownload
URL:https://itftkd.sport/event/the-anxur-battle-terracina-lt-italy/
CATEGORIES:Regional Championship
ATTACH;FMTTYPE=image/jpeg:https://itftkd.sport/wp-content/uploads/2021/08/ANXUR-2021-800x600-1-scaled.jpg
END:VEVENT
BEGIN:VEVENT
DTSTART;TZID=Europe/Madrid:20211114T100000
DTEND;TZID=Europe/Madrid:20211114T110000
DTSTAMP:20260424T183603
CREATED:20211110T144951Z
LAST-MODIFIED:20211110T144954Z
UID:10000401-1636884000-1636887600@itftkd.sport
SUMMARY:Talk: Introduction to Anti-Doping Rules
DESCRIPTION:
URL:https://itftkd.sport/event/talk-introduction-to-anti-doping-rules/
CATEGORIES:ITF Conventions & Seminars
ATTACH;FMTTYPE=image/jpeg:https://itftkd.sport/wp-content/uploads/2021/10/Introduction-to-rules.jpg
END:VEVENT
BEGIN:VEVENT
DTSTART;TZID=Europe/Madrid:20211123T000000
DTEND;TZID=Europe/Madrid:20211128T235959
DTSTAMP:20260424T183603
CREATED:20210715T192908Z
LAST-MODIFIED:20210909T212028Z
UID:10000235-1637625600-1638143999@itftkd.sport
SUMMARY:2021 European Taekwon-Do ITF Championships in La Nucia\, Spain
DESCRIPTION:The sport venue will be the Sport City Camilo Cano\, european village of sport. The Sports City Camilo Cano is one of the most modern sports complex and a sports tourism benchmark throughout the national and international territory\, as certified by the recent awards received: NATIONAL  SPORT AWARD\, awarded by the High Sport Council of Spain\, and EUROPEAN TOWN OF SPORT granted by Aces Europe. A total of 66 sports facilities in 120\,000 m2. \n\n\n\n\n\n\n\n\n\n2021 Invitation Letter 1 july 2021Download\n\n\n\n2021 Euros Beniconnect INFODownload\n\n\n\n2021 DECLARATION OF CONSENTDownload\n\n\n\nUmpire application form Euros 2021 SpainDownload\n\n\n\nBeniconnect Booking form Euros 2021_UPDATEDDownload\n\n\n\n2021 Euros DOSSIER LA NUCIA 2021 AugustDownload
URL:https://itftkd.sport/event/2021-european-taekwon-do-itf-championships-in-la-nucia-spain/
CATEGORIES:Regional Championship
ATTACH;FMTTYPE=image/jpeg:https://itftkd.sport/wp-content/uploads/2021/07/Banner-europeo-800x600-1.jpg
END:VEVENT
BEGIN:VEVENT
DTSTART;TZID=Europe/Madrid:20211126T080000
DTEND;TZID=Europe/Madrid:20211212T170000
DTSTAMP:20260424T183603
CREATED:20210913T172413Z
LAST-MODIFIED:20210913T172416Z
UID:10000245-1637913600-1639328400@itftkd.sport
SUMMARY:All North American and Caribbean Taekwon-Do Federation Open eTournament
DESCRIPTION:“Canada Welcomes the World to the first All North American and Caribbean Taekwon-Do Federation Open eTournament”. \n\n\n\nWe are excited to invite you to participate in a very special event: the first ever tournament for the newly formed All North American and Caribbean Taekwon-Do Federation! This open event will be held 100% online from November 26 to approximately December 12\, 2021. All members of the ITF led by Grand Master Paul Weiler\, ages 6 and above\, all ranks from White Belt and above\, from any ITF-affiliated country/dojang are invited to participate in this event as athletes\, coaches\, or umpires. \n\n\n\nOur main goal for this event is to provide exciting competition to motivate your members to continue training and improving their skills. We also hope this event will motivate our Canadian members to participate in the first “real” tournament in Canada in more than 2 years – the Canadian National Championshipsbeing held in mid-March 2022.Many thanks to our Canadian coaches and instructors for the excellent turn-out for the first ever Canadian National eTourament last April. Now let’s bring that enthusiasm to this international event! \n\n\n\nFor more information on registration\, rules\, etc.\, we invite you to go to the CTFI website or the SportData website. \n\n\n\nSincerely\,Master Clint Norman\, VIII DanCTFI President \n\n\n\n2021-Nov-All-North-Amer-Caribb-eTournament-Invitation-Package-V4-1Download
URL:https://itftkd.sport/event/all-north-american-and-caribbean-taekwon-do-federation-open-etournament/
CATEGORIES:Regional Championship
ATTACH;FMTTYPE=image/jpeg:https://itftkd.sport/wp-content/uploads/2021/09/ANAC-Poster-800x500-.jpg
END:VEVENT
END:VCALENDAR