BEGIN:VCALENDAR
VERSION:2.0
PRODID:-//ITF International Taekwon-Do Federation - ECPv6.15.20//NONSGML v1.0//EN
CALSCALE:GREGORIAN
METHOD:PUBLISH
X-WR-CALNAME:ITF International Taekwon-Do Federation
X-ORIGINAL-URL:https://itftkd.sport
X-WR-CALDESC:Events for ITF International Taekwon-Do Federation
REFRESH-INTERVAL;VALUE=DURATION:PT1H
X-Robots-Tag:noindex
X-PUBLISHED-TTL:PT1H
BEGIN:VTIMEZONE
TZID:Europe/Madrid
BEGIN:DAYLIGHT
TZOFFSETFROM:+0100
TZOFFSETTO:+0200
TZNAME:CEST
DTSTART:20170326T010000
END:DAYLIGHT
BEGIN:STANDARD
TZOFFSETFROM:+0200
TZOFFSETTO:+0100
TZNAME:CET
DTSTART:20171029T010000
END:STANDARD
BEGIN:DAYLIGHT
TZOFFSETFROM:+0100
TZOFFSETTO:+0200
TZNAME:CEST
DTSTART:20180325T010000
END:DAYLIGHT
BEGIN:STANDARD
TZOFFSETFROM:+0200
TZOFFSETTO:+0100
TZNAME:CET
DTSTART:20181028T010000
END:STANDARD
BEGIN:DAYLIGHT
TZOFFSETFROM:+0100
TZOFFSETTO:+0200
TZNAME:CEST
DTSTART:20190331T010000
END:DAYLIGHT
BEGIN:STANDARD
TZOFFSETFROM:+0200
TZOFFSETTO:+0100
TZNAME:CET
DTSTART:20191027T010000
END:STANDARD
END:VTIMEZONE
BEGIN:VEVENT
DTSTART;TZID=Europe/Madrid:20180517T000000
DTEND;TZID=Europe/Madrid:20180519T235959
DTSTAMP:20260425T141516
CREATED:20170811T083343Z
LAST-MODIFIED:20170811T083343Z
UID:10000242-1526515200-1526774399@itftkd.sport
SUMMARY:XIV Pan-Americano Taekwon-do ITF
DESCRIPTION:Invitation \nConvite Portugues \n 
URL:https://itftkd.sport/event/xiv-pan-americano-taekwon-do-itf/
LOCATION:Arena Santos\, Avda.Rangel Pestana 184\, Santos S/P\, Brazil
CATEGORIES:Regional Activities
ATTACH;FMTTYPE=:
END:VEVENT
BEGIN:VEVENT
DTSTART;TZID=Europe/Madrid:20180518T000000
DTEND;TZID=Europe/Madrid:20180519T235959
DTSTAMP:20260425T141516
CREATED:20180423T164327Z
LAST-MODIFIED:20180423T164327Z
UID:10000128-1526601600-1526774399@itftkd.sport
SUMMARY:Technical Course Grand Master Wim Bos
DESCRIPTION:Technical course with Grand Master Wim Bos in Spain . \n18th and 19th May 2018
URL:https://itftkd.sport/event/technical-course-grand-master-wim-bos/
LOCATION:Foietes\, Benidorm\, Alicante\, Spain
CATEGORIES:Regional Activities
ATTACH;FMTTYPE=:
ORGANIZER;CN="TAE BENIDORM":MAILTO:taebenidorm@gmail.com
END:VEVENT
BEGIN:VEVENT
DTSTART;TZID=Europe/Madrid:20180525T000000
DTEND;TZID=Europe/Madrid:20180527T235959
DTSTAMP:20260425T141516
CREATED:20171031T073557Z
LAST-MODIFIED:20171031T073557Z
UID:10000112-1527206400-1527465599@itftkd.sport
SUMMARY:IIC 129 Orlando\, Florida
DESCRIPTION:IIC Orlando Info Packet
URL:https://itftkd.sport/event/iic-orlando-florida/
LOCATION:Wyndham Orlando Hotel\, Orlando\, FL\, United States
CATEGORIES:International Instructor Course
ATTACH;FMTTYPE=:
END:VEVENT
BEGIN:VEVENT
DTSTART;TZID=Europe/Madrid:20180609T000000
DTEND;TZID=Europe/Madrid:20180610T235959
DTSTAMP:20260425T141516
CREATED:20180221T111316Z
LAST-MODIFIED:20180221T111316Z
UID:10000272-1528502400-1528675199@itftkd.sport
SUMMARY:IUC Posadas \, Argentina
DESCRIPTION:
URL:https://itftkd.sport/event/iuc-posadas-argentina/
LOCATION:Unnamed Venue\, Posadas\, Argentina
CATEGORIES:International Umpire Course
ATTACH;FMTTYPE=:
END:VEVENT
BEGIN:VEVENT
DTSTART;TZID=Europe/Madrid:20180616T000000
DTEND;TZID=Europe/Madrid:20180616T235959
DTSTAMP:20260425T141516
CREATED:20180503T065432Z
LAST-MODIFIED:20180503T065432Z
UID:10000130-1529107200-1529193599@itftkd.sport
SUMMARY:Seminar with Silvia Farigu & Christian Oriolani
DESCRIPTION:Silvia Farigu and Christian Oriolani the couple from the time of the ITF Taekwon-do world will give sports combat seminars and pre-established fighting \n 
URL:https://itftkd.sport/event/seminar-with-silvia-farigu-christian-oriolani/
LOCATION:Unnamed Venue\, Buenos Aires\, Argentina
CATEGORIES:Regional Activities
ATTACH;FMTTYPE=:
END:VEVENT
BEGIN:VEVENT
DTSTART;TZID=Europe/Madrid:20180623T000000
DTEND;TZID=Europe/Madrid:20180624T235959
DTSTAMP:20260425T141516
CREATED:20180511T134018Z
LAST-MODIFIED:20180511T134018Z
UID:10000135-1529712000-1529884799@itftkd.sport
SUMMARY:Taekwon-Do Technical Seminar GM Bos
DESCRIPTION:
URL:https://itftkd.sport/event/taekwon-do-technical-seminar-gm-bos/
LOCATION:Unnamed Venue\, Kathmandu\, Nepal
CATEGORIES:Regional Activities
ATTACH;FMTTYPE=:
ORGANIZER;CN="ITF Taekwon-do Nepal":MAILTO:giricr005@gmail.com
END:VEVENT
BEGIN:VEVENT
DTSTART;TZID=Europe/Madrid:20180623T000000
DTEND;TZID=Europe/Madrid:20180624T235959
DTSTAMP:20260425T141516
CREATED:20180410T090131Z
LAST-MODIFIED:20180410T090131Z
UID:10000132-1529712000-1529884799@itftkd.sport
SUMMARY:IHC 9 Vancouver\, Canada
DESCRIPTION:2018 IHC #9 Invitation Information Letter \nIHC #9 Application Form \n  \nItfofbc.org/event/ihc-9-vancouver
URL:https://itftkd.sport/event/ihc-9-vancouver-canada/
LOCATION:The Port Coquitlam Recreation Complex\, Vancouver\, Canada
CATEGORIES:International Harmony Course
ATTACH;FMTTYPE=:
ORGANIZER;CN="Unnamed Organizer":MAILTO:mr_l@shaw.ca
END:VEVENT
BEGIN:VEVENT
DTSTART;TZID=Europe/Madrid:20180626T000000
DTEND;TZID=Europe/Madrid:20180626T235959
DTSTAMP:20260425T141516
CREATED:20180511T133801Z
LAST-MODIFIED:20180511T133801Z
UID:10000133-1529971200-1530057599@itftkd.sport
SUMMARY:Taekwon-do Seminar Grand Master Bos
DESCRIPTION:
URL:https://itftkd.sport/event/taekwon-do-seminar-grand-master-bos/
LOCATION:Unnamed Venue\, Colombo YMCA\, Sri Lanka
CATEGORIES:Regional Activities
ATTACH;FMTTYPE=:
ORGANIZER;CN="Unnamed Organizer":MAILTO:cyrils.antony@yahoo.com
END:VEVENT
BEGIN:VEVENT
DTSTART;TZID=Europe/Madrid:20180629T000000
DTEND;TZID=Europe/Madrid:20180630T235959
DTSTAMP:20260425T141516
CREATED:20180511T133601Z
LAST-MODIFIED:20180511T133601Z
UID:10000139-1530230400-1530403199@itftkd.sport
SUMMARY:ITF Dynamic Grand Master Bos Seminar
DESCRIPTION:
URL:https://itftkd.sport/event/itf-dynamic-grand-master-bos-seminar/
LOCATION:Unnamed Venue\, Delhi\, India
CATEGORIES:Regional Activities
ATTACH;FMTTYPE=:
ORGANIZER;CN="Mr Verma":MAILTO:iitf@hotmail.com
END:VEVENT
BEGIN:VEVENT
DTSTART;TZID=Europe/Madrid:20180630T000000
DTEND;TZID=Europe/Madrid:20180701T235959
DTSTAMP:20260425T141516
CREATED:20171218T080022Z
LAST-MODIFIED:20171218T080022Z
UID:10000257-1530316800-1530489599@itftkd.sport
SUMMARY:IIC 130  Hong Kong\, China
DESCRIPTION:Invitation International Instructors Course HK 2018
URL:https://itftkd.sport/event/iic-hong-kong-china/
LOCATION:Panda Hotel\, Hong Kong\, Hong Kong\, China
CATEGORIES:International Instructor Course
ATTACH;FMTTYPE=:
ORGANIZER;CN="ITF China":MAILTO:itfchinaitf@gmail.com
END:VEVENT
BEGIN:VEVENT
DTSTART;TZID=Europe/Madrid:20180713T000000
DTEND;TZID=Europe/Madrid:20180715T235959
DTSTAMP:20260425T141516
CREATED:20180108T163538Z
LAST-MODIFIED:20180108T163538Z
UID:10000259-1531440000-1531699199@itftkd.sport
SUMMARY:IKC 30 +IHC 10 Guatemala
DESCRIPTION:
URL:https://itftkd.sport/event/ikcihc-guatemala/
LOCATION:Unnamed Venue\, Guatemala\, Guatemala
CATEGORIES:International Harmony Course,International Kids Course
ATTACH;FMTTYPE=:
END:VEVENT
BEGIN:VEVENT
DTSTART;TZID=Europe/Madrid:20180713T000000
DTEND;TZID=Europe/Madrid:20180716T235959
DTSTAMP:20260425T141516
CREATED:20180315T083517Z
LAST-MODIFIED:20180315T083517Z
UID:10000284-1531440000-1531785599@itftkd.sport
SUMMARY:ITA Summer Camp 2018
DESCRIPTION:2018 TKD Summer Camp Club_Group registration \nITA Summer Camp 2018 Application form \nTaekwon-Do Summer Camp 2018
URL:https://itftkd.sport/event/ita-summer-camp-2018/
LOCATION:Villiers School\, Limerick\, Ireland
CATEGORIES:Regional Activities
ATTACH;FMTTYPE=:
END:VEVENT
BEGIN:VEVENT
DTSTART;TZID=Europe/Madrid:20180721T000000
DTEND;TZID=Europe/Madrid:20180722T235959
DTSTAMP:20260425T141516
CREATED:20180621T133045Z
LAST-MODIFIED:20180621T133045Z
UID:10000290-1532131200-1532303999@itftkd.sport
SUMMARY:ITF Taekwon-Do Seminar Nairobi\, Kenya
DESCRIPTION:
URL:https://itftkd.sport/event/itf-taekwon-do-seminar-nairobi-kenya/
LOCATION:Ngong Yputh Empowerment Hall\, Nairobi\, Kenya
CATEGORIES:Regional Activities
ATTACH;FMTTYPE=:
ORGANIZER;CN="ITF Kenya":MAILTO:ngucie013@gmail.com
END:VEVENT
BEGIN:VEVENT
DTSTART;TZID=Europe/Madrid:20180804T000000
DTEND;TZID=Europe/Madrid:20180805T235959
DTSTAMP:20260425T141516
CREATED:20180403T164311Z
LAST-MODIFIED:20180403T164311Z
UID:10000285-1533340800-1533513599@itftkd.sport
SUMMARY:ITF CONVENTION
DESCRIPTION:Habla Hispana\nPlazas limitadas
URL:https://itftkd.sport/event/itf-convention/
LOCATION:EL CENACULO- LA MONTONERA\, Av. Arturo Frondizi 2303\, Buenos Aires\, Argentina
CATEGORIES:ITF Conventions & Seminars
ATTACH;FMTTYPE=:
ORGANIZER;CN="ITF":MAILTO:convencionitfargentina2018@gmail.com
END:VEVENT
BEGIN:VEVENT
DTSTART;TZID=Europe/Madrid:20180808T000000
DTEND;TZID=Europe/Madrid:20180808T235959
DTSTAMP:20260425T141516
CREATED:20180712T063332Z
LAST-MODIFIED:20180712T063332Z
UID:10000292-1533686400-1533772799@itftkd.sport
SUMMARY:ITF Taekwon-Do Seminar Zanzibar
DESCRIPTION:
URL:https://itftkd.sport/event/itf-taekwon-do-seminar-zanzibar/
LOCATION:Feza Schhols Kisauni & Amani Stadium\, Zanzibar
CATEGORIES:Regional Activities
ATTACH;FMTTYPE=:
ORGANIZER;CN="Zanzibar TKD Association":MAILTO:maxkaila@hotmail.com
END:VEVENT
BEGIN:VEVENT
DTSTART;TZID=Europe/Madrid:20180810T000000
DTEND;TZID=Europe/Madrid:20180811T235959
DTSTAMP:20260425T141516
CREATED:20180629T063350Z
LAST-MODIFIED:20180629T063350Z
UID:10000291-1533859200-1534031999@itftkd.sport
SUMMARY:ITF Taekwon-Do Seminar Bujumbura\, Burundi
DESCRIPTION:
URL:https://itftkd.sport/event/itf-taekwon-do-seminar-bujumbura-burundi/
LOCATION:Tigers apartment Hotel\, Bujumbura\, Burundi
CATEGORIES:Regional Activities
ATTACH;FMTTYPE=:
ORGANIZER;CN="ITF Burundi":MAILTO:itfburundiassociation9@gmail.com
END:VEVENT
BEGIN:VEVENT
DTSTART;TZID=Europe/Madrid:20180811T000000
DTEND;TZID=Europe/Madrid:20180812T235959
DTSTAMP:20260425T141516
CREATED:20180712T063546Z
LAST-MODIFIED:20180712T063546Z
UID:10000293-1533945600-1534118399@itftkd.sport
SUMMARY:ITF Taekwon-Do Seminar Dar-es-Salaam
DESCRIPTION:
URL:https://itftkd.sport/event/itf-taekwon-do-seminar-dar-es-salaam/
LOCATION:Splendid Secretarial College\, Ilala Bungoni\, Dar es Salaam\, Tanzania\, United Republic Of
CATEGORIES:Regional Activities
ATTACH;FMTTYPE=:
ORGANIZER;CN="Tanzania TKD Association":MAILTO:kenedyissack@gmail.com
END:VEVENT
BEGIN:VEVENT
DTSTART;TZID=Europe/Madrid:20180813T000000
DTEND;TZID=Europe/Madrid:20180815T235959
DTSTAMP:20260425T141516
CREATED:20180309T170539Z
LAST-MODIFIED:20180309T170539Z
UID:10000282-1534118400-1534377599@itftkd.sport
SUMMARY:IIC 131 Addis Ababa\, Ethiopia
DESCRIPTION:
URL:https://itftkd.sport/event/iic-addis-ababa-ethiopia/
LOCATION:Federal Youth Academy Sport Hall\, Addis Ababa\, Ethiopia
CATEGORIES:International Instructor Course
ATTACH;FMTTYPE=:
ORGANIZER;CN="Ethiopian Intenational Taekwon-do Association":MAILTO:eitatkd@yahoo.com
END:VEVENT
BEGIN:VEVENT
DTSTART;TZID=Europe/Madrid:20180815T000000
DTEND;TZID=Europe/Madrid:20180816T235959
DTSTAMP:20260425T141516
CREATED:20180309T170651Z
LAST-MODIFIED:20180309T170651Z
UID:10000283-1534291200-1534463999@itftkd.sport
SUMMARY:IUC 30 Addis Ababa\, Ethiopia
DESCRIPTION:
URL:https://itftkd.sport/event/iuc-addis-ababa-ethiopia/
LOCATION:Federal Youth Academy Sport Hall\, Addis Ababa\, Ethiopia
CATEGORIES:International Umpire Course
ATTACH;FMTTYPE=:
ORGANIZER;CN="Ethiopian Intenational Taekwon-do Association":MAILTO:eitatkd@yahoo.com
END:VEVENT
BEGIN:VEVENT
DTSTART;TZID=Europe/Madrid:20180817T000000
DTEND;TZID=Europe/Madrid:20180819T235959
DTSTAMP:20260425T141516
CREATED:20180220T102720Z
LAST-MODIFIED:20180220T102720Z
UID:10000270-1534464000-1534723199@itftkd.sport
SUMMARY:IIC 132 Skövde\, Sweden
DESCRIPTION:IIC_sweden_invitation
URL:https://itftkd.sport/event/iic-skovde-sweden-2/
LOCATION:Sports Center Arena Skovde\, Skovde\, Sweden
CATEGORIES:International Instructor Course
ATTACH;FMTTYPE=:
END:VEVENT
BEGIN:VEVENT
DTSTART;TZID=Europe/Madrid:20180818T000000
DTEND;TZID=Europe/Madrid:20180819T235959
DTSTAMP:20260425T141516
CREATED:20180309T170433Z
LAST-MODIFIED:20180309T170433Z
UID:10000281-1534550400-1534723199@itftkd.sport
SUMMARY:1st African Continental Championship
DESCRIPTION:
URL:https://itftkd.sport/event/1st-african-continental-championship/
LOCATION:Federal Youth Academy Sport Hall\, Addis Ababa\, Ethiopia
CATEGORIES:Regional Activities
ATTACH;FMTTYPE=:
ORGANIZER;CN="Ethiopian Intenational Taekwon-do Association":MAILTO:eitatkd@yahoo.com
END:VEVENT
END:VCALENDAR