BEGIN:VCALENDAR
VERSION:2.0
PRODID:-//ITF International Taekwon-Do Federation - ECPv6.15.20//NONSGML v1.0//EN
CALSCALE:GREGORIAN
METHOD:PUBLISH
X-WR-CALNAME:ITF International Taekwon-Do Federation
X-ORIGINAL-URL:https://itftkd.sport
X-WR-CALDESC:Events for ITF International Taekwon-Do Federation
REFRESH-INTERVAL;VALUE=DURATION:PT1H
X-Robots-Tag:noindex
X-PUBLISHED-TTL:PT1H
BEGIN:VTIMEZONE
TZID:Europe/Madrid
BEGIN:DAYLIGHT
TZOFFSETFROM:+0100
TZOFFSETTO:+0200
TZNAME:CEST
DTSTART:20130331T010000
END:DAYLIGHT
BEGIN:STANDARD
TZOFFSETFROM:+0200
TZOFFSETTO:+0100
TZNAME:CET
DTSTART:20131027T010000
END:STANDARD
BEGIN:DAYLIGHT
TZOFFSETFROM:+0100
TZOFFSETTO:+0200
TZNAME:CEST
DTSTART:20140330T010000
END:DAYLIGHT
BEGIN:STANDARD
TZOFFSETFROM:+0200
TZOFFSETTO:+0100
TZNAME:CET
DTSTART:20141026T010000
END:STANDARD
BEGIN:DAYLIGHT
TZOFFSETFROM:+0100
TZOFFSETTO:+0200
TZNAME:CEST
DTSTART:20150329T010000
END:DAYLIGHT
BEGIN:STANDARD
TZOFFSETFROM:+0200
TZOFFSETTO:+0100
TZNAME:CET
DTSTART:20151025T010000
END:STANDARD
BEGIN:DAYLIGHT
TZOFFSETFROM:+0100
TZOFFSETTO:+0200
TZNAME:CEST
DTSTART:20160327T010000
END:DAYLIGHT
BEGIN:STANDARD
TZOFFSETFROM:+0200
TZOFFSETTO:+0100
TZNAME:CET
DTSTART:20161030T010000
END:STANDARD
END:VTIMEZONE
BEGIN:VEVENT
DTSTART;TZID=Europe/Madrid:20141124T080000
DTEND;TZID=Europe/Madrid:20141228T170000
DTSTAMP:20260421T025653
CREATED:20141023T184623Z
LAST-MODIFIED:20141023T184623Z
UID:10000035-1416816000-1419786000@itftkd.sport
SUMMARY:Seminar - Zimbabwe - with Master Paul Weiler
DESCRIPTION:
URL:https://itftkd.sport/event/seminar-zimbabwe-with-master-paul-weiler/
ATTACH;FMTTYPE=:
END:VEVENT
BEGIN:VEVENT
DTSTART;TZID=Europe/Madrid:20141129T080000
DTEND;TZID=Europe/Madrid:20141130T170000
DTSTAMP:20260421T025653
CREATED:20141115T094758Z
LAST-MODIFIED:20141115T094758Z
UID:10000047-1417248000-1417366800@itftkd.sport
SUMMARY:Seminar - Paris - with Jaroslaw Suska
DESCRIPTION:
URL:https://itftkd.sport/event/seminar-paris-with-jaroslaw-suska/
ATTACH;FMTTYPE=:
END:VEVENT
BEGIN:VEVENT
DTSTART;TZID=Europe/Madrid:20141129T080000
DTEND;TZID=Europe/Madrid:20141130T170000
DTSTAMP:20260421T025653
CREATED:20141023T184750Z
LAST-MODIFIED:20141023T184750Z
UID:10000037-1417248000-1417366800@itftkd.sport
SUMMARY:Championships - ITA Cork Open
DESCRIPTION:ITA have the pleasure of inviting you to the ITA Irish Cup Championships\, which will be held in The UL Sports Arena\, University of Limerick\, on the weekend of the 29th and 30th November 2014. This competition will include pattern and sparring for all grades\, special technique for all blue belt and above from aged 11 upward and power test for black belts. Saturday 29th November is for the cadet and senior categories and is open to yellow belts and above aged 14 and over. Sunday 30th November is for the junior categories and is open to yellow belts and above aged 7 to 13yrs. \nPlease email your entries to entries@taekwondo.ie no later than Saturday\, the 22nd of November. Please note that this is a pre-registration only event. No club entries will be accepted after 22nd of November. All entries should be made using the ITA Irish Cup excel spreadsheet. Entries will be confirmed by return of email (within 24 hours). If you have not received a confirmation email\, your entries have not yet been received. Completed hardcopy forms should be brought on the day of the event. Please remember that accurate information is the responsibility of the instructor and any errors\, which require correction on the day\, will incur a fine as detailed below. \nSparring for Cadet and Senior Black Belts will be run using a pool & requalification system\, guaranteeing more bouts for all competitors in those categories. This event is open to all Taekwon-Do Associations. \nIf you have any questions about this event please email me at the above address. \nLooking forward to seeing you at this event\, \nMr. Mark Buckley VI Dan \nITA Tournament Director \nInvite and Info Pack \nIndividual Entry (to be used by instructor in club) \nClub entry (to be sent to entries@taekwondo.ie by 22nd November)
URL:https://itftkd.sport/event/championships-ita-irish-cup/
CATEGORIES:Regional Activities
ATTACH;FMTTYPE=:
END:VEVENT
BEGIN:VEVENT
DTSTART;TZID=Europe/Madrid:20150101T000000
DTEND;TZID=Europe/Madrid:20150105T235959
DTSTAMP:20260421T025653
CREATED:20141115T094708Z
LAST-MODIFIED:20141115T094708Z
UID:10000040-1420070400-1420502399@itftkd.sport
SUMMARY:Seminar - Kenya - with Master Weiler
DESCRIPTION:30th Nov – 4th Dec 2014 \nVenue: wida high way hotel \nStarting time: 8:30 am – 3:30 pm \n30th November \nSunday- 8:30am – 9:30am – Introduction \n9:30am – 12:30pm – Interpretation of patterns/Tuls. \n12:30pm – 1:30pm – Lunch \n1:30pm – 3:30pm – Patterns \n1st December \nMonday -8:30am -12:30pm – Tuls Training \n12:30pm – 1:30pm – Lunch \n1:30pm – 3:30pm – Training secrets of Taekwon-Do \n2nd December \nTuesday-8:30am – 2:30pm – Colour belts promotion. \n3rd December \nWednesday- 9:00am – 1:30pm – Meetings
URL:https://itftkd.sport/event/seminar-kenya-with-master-weiler/
ATTACH;FMTTYPE=:
END:VEVENT
BEGIN:VEVENT
DTSTART;TZID=Europe/Madrid:20150118T080000
DTEND;TZID=Europe/Madrid:20150118T220000
DTSTAMP:20260421T025653
CREATED:20141115T094927Z
LAST-MODIFIED:20141115T094927Z
UID:10000048-1421568000-1421618400@itftkd.sport
SUMMARY:Championships - Open Dutch 2015
DESCRIPTION:Dear Masters\, Instructors\, Competitors and Friends\, \nHereby we would like to invite you for participation in the fourth edition of the “Open Dutch” Championships 2015. This year the same location for the tournament\, also this year into 2 hall’s! Last year we had 750 competitors from 18 different country’s. \n(See the A.E.T.F. report: http://www.itfeurope.org/NL2014-01-19.html ) \nThe competition will be held on 18th of January 2015 in sports hall “Naestebest” in Best\, the Netherlands. \nThe tournament is open for kids\, juniors and seniors\, who will have the chance to compete in patterns and sparring and high jump only for B-class. \nIn 2014 we has from competitors from the following country’s: Germany\, Belgium\, England\, Ireland\, Italy\, Poland\, Scotland\, Spain\, Slovenia\, Uzbekistan\, Bosnia & Herzegovina\, Canada\, France\, Wales\, Finland\, Portugal\, Norway and the Netherlands. We got a special guest in the person of Grandmaster WimBos from Italy who will also be present at the tournament. \nDeadline for sending the entry forms is on Sunday the 8th of January 2015. \nFor all info you can look at the website follow this link: www.open-dutch.nl. (updated soon!) \nLooking forward to seeing you in the Netherlands! \nMaster Willy van de Mortel \nOrganizer “Open Dutch Championships”
URL:https://itftkd.sport/event/championships-open-dutch-2015/
CATEGORIES:Championships,Regional Activities
ATTACH;FMTTYPE=:
END:VEVENT
BEGIN:VEVENT
DTSTART;TZID=Europe/Madrid:20150124T000000
DTEND;TZID=Europe/Madrid:20150125T235959
DTSTAMP:20260421T025653
CREATED:20150112T152831Z
LAST-MODIFIED:20150112T152831Z
UID:10000049-1422057600-1422230399@itftkd.sport
SUMMARY:IUC 20 -New York \, USA
DESCRIPTION:  \nEvent:                   International Umpire Course in USA \nConducted By:  Grandmaster Bos and the ITF Umpire committee \nWhere:                 Queens\, NY \nPlace:                    Holiday Inn-LaGuardia Airport\, located at 37-10 114th St\, Corona\, NY 11369 \nDate:                     January 24-25\, 2015 \nMore information is coming soon or contact Master Suarez at mastersuarez@qtc-itf.com or call at 718-639-6998 \nOfficial Invite \nOnline Registration
URL:https://itftkd.sport/event/iuc-20-new-york-usa/
CATEGORIES:International Umpire Course
ATTACH;FMTTYPE=:
END:VEVENT
END:VCALENDAR