BEGIN:VCALENDAR
VERSION:2.0
PRODID:-//ITF International Taekwon-Do Federation - ECPv6.15.20//NONSGML v1.0//EN
CALSCALE:GREGORIAN
METHOD:PUBLISH
X-WR-CALNAME:ITF International Taekwon-Do Federation
X-ORIGINAL-URL:https://itftkd.sport
X-WR-CALDESC:Events for ITF International Taekwon-Do Federation
REFRESH-INTERVAL;VALUE=DURATION:PT1H
X-Robots-Tag:noindex
X-PUBLISHED-TTL:PT1H
BEGIN:VTIMEZONE
TZID:Europe/Madrid
BEGIN:DAYLIGHT
TZOFFSETFROM:+0100
TZOFFSETTO:+0200
TZNAME:CEST
DTSTART:20150329T010000
END:DAYLIGHT
BEGIN:STANDARD
TZOFFSETFROM:+0200
TZOFFSETTO:+0100
TZNAME:CET
DTSTART:20151025T010000
END:STANDARD
BEGIN:DAYLIGHT
TZOFFSETFROM:+0100
TZOFFSETTO:+0200
TZNAME:CEST
DTSTART:20160327T010000
END:DAYLIGHT
BEGIN:STANDARD
TZOFFSETFROM:+0200
TZOFFSETTO:+0100
TZNAME:CET
DTSTART:20161030T010000
END:STANDARD
BEGIN:DAYLIGHT
TZOFFSETFROM:+0100
TZOFFSETTO:+0200
TZNAME:CEST
DTSTART:20170326T010000
END:DAYLIGHT
BEGIN:STANDARD
TZOFFSETFROM:+0200
TZOFFSETTO:+0100
TZNAME:CET
DTSTART:20171029T010000
END:STANDARD
END:VTIMEZONE
BEGIN:VEVENT
DTSTART;TZID=Europe/Madrid:20160717T000000
DTEND;TZID=Europe/Madrid:20160717T235959
DTSTAMP:20260419T215321
CREATED:20160614T133624Z
LAST-MODIFIED:20160614T133624Z
UID:10000162-1468713600-1468799999@itftkd.sport
SUMMARY:Black belt Seminar\, Kampala
DESCRIPTION:
URL:https://itftkd.sport/event/black-belt-seminar-kampala/
LOCATION:Big Mikes TKD Club\, Accacia Ave\, Kampala\, Uganda
CATEGORIES:Regional Activities
ATTACH;FMTTYPE=:
ORGANIZER;CN="Robert Ojiambo":MAILTO:ojiamborobert24@gmail.com
END:VEVENT
BEGIN:VEVENT
DTSTART;TZID=Europe/Madrid:20160721T000000
DTEND;TZID=Europe/Madrid:20160724T235959
DTSTAMP:20260419T215321
CREATED:20160509T051733Z
LAST-MODIFIED:20160509T051733Z
UID:10000147-1469059200-1469404799@itftkd.sport
SUMMARY:1st MIT National Taekwon-do\, Malaysia
DESCRIPTION:
URL:https://itftkd.sport/event/1st-mit-national-taekwon-do-malaysia/
LOCATION:Dewan Perdana MSN/ISN\, Bukit Jalit\, Kuala Lumpur\, Malaysia
CATEGORIES:Regional Activities
ATTACH;FMTTYPE=:
END:VEVENT
BEGIN:VEVENT
DTSTART;TZID=Europe/Madrid:20160723T000000
DTEND;TZID=Europe/Madrid:20160724T235959
DTSTAMP:20260419T215321
CREATED:20160510T051802Z
LAST-MODIFIED:20160510T051802Z
UID:10000149-1469232000-1469404799@itftkd.sport
SUMMARY:22 ITF Kids Course \, Rosario\, Argentina
DESCRIPTION:Consideraciones Generales \nInvitacion Oficial y programa. \nIKC N° 22 – PLANILLA DE INSCRIPCION \nInformacion Hoteleria
URL:https://itftkd.sport/event/22-itf-kids-course-rosario-argentina/
LOCATION:Complejo Municipal Belgrano Centro\, Belgrano 621\, Rosario\, Argentina
CATEGORIES:International Kids Course
ATTACH;FMTTYPE=:
ORGANIZER;CN="Master Marchini//Master Samara":MAILTO:rubenmarchini@gmail.com// samararodolfo@yahoo.com.ar
END:VEVENT
BEGIN:VEVENT
DTSTART;TZID=Europe/Madrid:20160724T000000
DTEND;TZID=Europe/Madrid:20160724T235959
DTSTAMP:20260419T215321
CREATED:20160614T133940Z
LAST-MODIFIED:20160614T133940Z
UID:10000164-1469318400-1469404799@itftkd.sport
SUMMARY:Self defense Seminar\, Kampala
DESCRIPTION:
URL:https://itftkd.sport/event/self-defense-seminar-kampala/
LOCATION:Big Mikes TKD Club\, Accacia Ave\, Kampala\, Uganda
CATEGORIES:Regional Activities
ATTACH;FMTTYPE=:
ORGANIZER;CN="Robert Ojiambo":MAILTO:ojiamborobert24@gmail.com
END:VEVENT
BEGIN:VEVENT
DTSTART;TZID=Europe/Madrid:20160726T000000
DTEND;TZID=Europe/Madrid:20160727T235959
DTSTAMP:20260419T215321
CREATED:20160704T054054Z
LAST-MODIFIED:20160704T054054Z
UID:10000168-1469491200-1469663999@itftkd.sport
SUMMARY:Soonwhan Do Seminar- Nairobi
DESCRIPTION:
URL:https://itftkd.sport/event/soonwhan-do-seminar-nairobi/
LOCATION:Fit-Wise ITF Club\, Kawangare\, Nairobi\, Nairobi\, Kenya
CATEGORIES:Regional Activities
ATTACH;FMTTYPE=:
ORGANIZER;CN="William Wamweya":MAILTO:williwaya.ww@gmail.com
END:VEVENT
BEGIN:VEVENT
DTSTART;TZID=Europe/Madrid:20160729T000000
DTEND;TZID=Europe/Madrid:20160730T235959
DTSTAMP:20260419T215321
CREATED:20160704T054834Z
LAST-MODIFIED:20160704T054834Z
UID:10000169-1469750400-1469923199@itftkd.sport
SUMMARY:Soonwhan Do Seminar -Mombasa
DESCRIPTION:
URL:https://itftkd.sport/event/soonwhan-do-seminar-mombasa/
LOCATION:Ack Church\, Likoni\, Mombasa\, Kenya
CATEGORIES:Regional Activities
ATTACH;FMTTYPE=:
ORGANIZER;CN="William Wamweya":MAILTO:williwaya.ww@gmail.com
END:VEVENT
BEGIN:VEVENT
DTSTART;TZID=Europe/Madrid:20160802T000000
DTEND;TZID=Europe/Madrid:20160805T235959
DTSTAMP:20260419T215321
CREATED:20160628T125853Z
LAST-MODIFIED:20160628T125853Z
UID:10000167-1470096000-1470441599@itftkd.sport
SUMMARY:Ethiopian International Taekwon-do Association\, Events
DESCRIPTION:
URL:https://itftkd.sport/event/ethiopian-international-taekwon-do-association-events-2/
LOCATION:Youth and sport Academy\, Addis Ababa\, Ethiopia
CATEGORIES:Regional Activities
ATTACH;FMTTYPE=:
ORGANIZER;CN="Unnamed Organizer":MAILTO:eitatkd@yahoo.com
END:VEVENT
BEGIN:VEVENT
DTSTART;TZID=Europe/Madrid:20160805T000000
DTEND;TZID=Europe/Madrid:20160807T235959
DTSTAMP:20260419T215321
CREATED:20160126T090819Z
LAST-MODIFIED:20160126T090819Z
UID:10000124-1470355200-1470614399@itftkd.sport
SUMMARY:IIC 111-Guatemala
DESCRIPTION:
URL:https://itftkd.sport/event/iic-111-guatemala/
LOCATION:Unnamed Venue\, Guatemala\, Guatemala
CATEGORIES:International Instructor Course
ATTACH;FMTTYPE=:
END:VEVENT
BEGIN:VEVENT
DTSTART;TZID=Europe/Madrid:20160806T000000
DTEND;TZID=Europe/Madrid:20160807T235959
DTSTAMP:20260419T215321
CREATED:20160517T063318Z
LAST-MODIFIED:20160517T063318Z
UID:10000150-1470441600-1470614399@itftkd.sport
SUMMARY:5th Taekwon-do ITF African Cup
DESCRIPTION:Invitation_to_the_constitutive_meeting \nAgenda_for_the_2nd_Africa_Continental_Meeting_ \nProgram
URL:https://itftkd.sport/event/5-th-taekwon-do-itf-african-cup/
LOCATION:Unnamed Venue\, Addis Abada\, Ethiopia
CATEGORIES:Regional Activities
ATTACH;FMTTYPE=:
END:VEVENT
END:VCALENDAR