BEGIN:VCALENDAR
VERSION:2.0
PRODID:-//ITF International Taekwon-Do Federation - ECPv6.15.20//NONSGML v1.0//EN
CALSCALE:GREGORIAN
METHOD:PUBLISH
X-ORIGINAL-URL:https://itftkd.sport
X-WR-CALDESC:Events for ITF International Taekwon-Do Federation
REFRESH-INTERVAL;VALUE=DURATION:PT1H
X-Robots-Tag:noindex
X-PUBLISHED-TTL:PT1H
BEGIN:VTIMEZONE
TZID:Europe/Madrid
BEGIN:DAYLIGHT
TZOFFSETFROM:+0100
TZOFFSETTO:+0200
TZNAME:CEST
DTSTART:20130331T010000
END:DAYLIGHT
BEGIN:STANDARD
TZOFFSETFROM:+0200
TZOFFSETTO:+0100
TZNAME:CET
DTSTART:20131027T010000
END:STANDARD
BEGIN:DAYLIGHT
TZOFFSETFROM:+0100
TZOFFSETTO:+0200
TZNAME:CEST
DTSTART:20140330T010000
END:DAYLIGHT
BEGIN:STANDARD
TZOFFSETFROM:+0200
TZOFFSETTO:+0100
TZNAME:CET
DTSTART:20141026T010000
END:STANDARD
BEGIN:DAYLIGHT
TZOFFSETFROM:+0100
TZOFFSETTO:+0200
TZNAME:CEST
DTSTART:20150329T010000
END:DAYLIGHT
BEGIN:STANDARD
TZOFFSETFROM:+0200
TZOFFSETTO:+0100
TZNAME:CET
DTSTART:20151025T010000
END:STANDARD
BEGIN:DAYLIGHT
TZOFFSETFROM:+0100
TZOFFSETTO:+0200
TZNAME:CEST
DTSTART:20160327T010000
END:DAYLIGHT
BEGIN:STANDARD
TZOFFSETFROM:+0200
TZOFFSETTO:+0100
TZNAME:CET
DTSTART:20161030T010000
END:STANDARD
END:VTIMEZONE
BEGIN:VEVENT
DTSTART;TZID=Europe/Madrid:20141023T080000
DTEND;TZID=Europe/Madrid:20141226T200000
DTSTAMP:20260422T032550
CREATED:20141023T142041Z
LAST-MODIFIED:20141023T142041Z
UID:10000085-1414051200-1419624000@itftkd.sport
SUMMARY:Pan-American Championships - Paraguay
DESCRIPTION:Facebook Page of event: https://www.facebook.com/panamericanoitf \nOfficial Invite \nInfo Pack
URL:https://itftkd.sport/event/pan-american-championships-paraguay/
CATEGORIES:Regional Activities
ATTACH;FMTTYPE=:
END:VEVENT
BEGIN:VEVENT
DTSTART;TZID=Europe/Madrid:20141120T080000
DTEND;TZID=Europe/Madrid:20141122T170000
DTSTAMP:20260422T032550
CREATED:20141023T184846Z
LAST-MODIFIED:20141023T184846Z
UID:10000045-1416470400-1416675600@itftkd.sport
SUMMARY:Seminar - Mozambique - with Master Paul Weiler
DESCRIPTION:
URL:https://itftkd.sport/event/seminar-mozambique-with-master-paul-weiler/
CATEGORIES:Regional Activities
ATTACH;FMTTYPE=:
END:VEVENT
BEGIN:VEVENT
DTSTART;TZID=Europe/Madrid:20141120T080000
DTEND;TZID=Europe/Madrid:20141123T200000
DTSTAMP:20260422T032550
CREATED:20141023T143406Z
LAST-MODIFIED:20141023T143406Z
UID:10000033-1416470400-1416772800@itftkd.sport
SUMMARY:Championships - 2nd Open Asia ITF Cup
DESCRIPTION:To: ITF Associations\, Clubs and all Taekwon-do members \nIt is with honor and great pleasure from National Sport Federation of Taekwon-do ITF that I extend to you our personal invitation in the 2nd Open Asian ITF Cup\, which held 20th–23rdNovember\, 2014\, Almaty City\, Kazakhstan. \nAlmaty\, as its name suggests\, is the city famous for its apple gardens.Almaty is the largest city in Kazakhstan and is the country’s heartbeat in terms offinancial\, cultural and tourism sectors. Population–2 million people. \nWe will make every attempt to make this event as fair and enjoyable for all participants as possible and it is our sincere hope that we will exceed your expectations. \nYouth sincerely \nPresident Aidos Amanzholov«National Sport Federation of Taekwon-do ITF» \nOfficial Invite
URL:https://itftkd.sport/event/championships-2nd-open-asia-itf-cup/
LOCATION:Unnamed Venue\, Almaty\, Kazakhstan
CATEGORIES:Regional Activities
ATTACH;FMTTYPE=:
END:VEVENT
BEGIN:VEVENT
DTSTART;TZID=Europe/Madrid:20141129T080000
DTEND;TZID=Europe/Madrid:20141130T170000
DTSTAMP:20260422T032550
CREATED:20141023T184750Z
LAST-MODIFIED:20141023T184750Z
UID:10000037-1417248000-1417366800@itftkd.sport
SUMMARY:Championships - ITA Cork Open
DESCRIPTION:ITA have the pleasure of inviting you to the ITA Irish Cup Championships\, which will be held in The UL Sports Arena\, University of Limerick\, on the weekend of the 29th and 30th November 2014. This competition will include pattern and sparring for all grades\, special technique for all blue belt and above from aged 11 upward and power test for black belts. Saturday 29th November is for the cadet and senior categories and is open to yellow belts and above aged 14 and over. Sunday 30th November is for the junior categories and is open to yellow belts and above aged 7 to 13yrs. \nPlease email your entries to entries@taekwondo.ie no later than Saturday\, the 22nd of November. Please note that this is a pre-registration only event. No club entries will be accepted after 22nd of November. All entries should be made using the ITA Irish Cup excel spreadsheet. Entries will be confirmed by return of email (within 24 hours). If you have not received a confirmation email\, your entries have not yet been received. Completed hardcopy forms should be brought on the day of the event. Please remember that accurate information is the responsibility of the instructor and any errors\, which require correction on the day\, will incur a fine as detailed below. \nSparring for Cadet and Senior Black Belts will be run using a pool & requalification system\, guaranteeing more bouts for all competitors in those categories. This event is open to all Taekwon-Do Associations. \nIf you have any questions about this event please email me at the above address. \nLooking forward to seeing you at this event\, \nMr. Mark Buckley VI Dan \nITA Tournament Director \nInvite and Info Pack \nIndividual Entry (to be used by instructor in club) \nClub entry (to be sent to entries@taekwondo.ie by 22nd November)
URL:https://itftkd.sport/event/championships-ita-irish-cup/
CATEGORIES:Regional Activities
ATTACH;FMTTYPE=:
END:VEVENT
BEGIN:VEVENT
DTSTART;TZID=Europe/Madrid:20150118T080000
DTEND;TZID=Europe/Madrid:20150118T220000
DTSTAMP:20260422T032550
CREATED:20141115T094927Z
LAST-MODIFIED:20141115T094927Z
UID:10000048-1421568000-1421618400@itftkd.sport
SUMMARY:Championships - Open Dutch 2015
DESCRIPTION:Dear Masters\, Instructors\, Competitors and Friends\, \nHereby we would like to invite you for participation in the fourth edition of the “Open Dutch” Championships 2015. This year the same location for the tournament\, also this year into 2 hall’s! Last year we had 750 competitors from 18 different country’s. \n(See the A.E.T.F. report: http://www.itfeurope.org/NL2014-01-19.html ) \nThe competition will be held on 18th of January 2015 in sports hall “Naestebest” in Best\, the Netherlands. \nThe tournament is open for kids\, juniors and seniors\, who will have the chance to compete in patterns and sparring and high jump only for B-class. \nIn 2014 we has from competitors from the following country’s: Germany\, Belgium\, England\, Ireland\, Italy\, Poland\, Scotland\, Spain\, Slovenia\, Uzbekistan\, Bosnia & Herzegovina\, Canada\, France\, Wales\, Finland\, Portugal\, Norway and the Netherlands. We got a special guest in the person of Grandmaster WimBos from Italy who will also be present at the tournament. \nDeadline for sending the entry forms is on Sunday the 8th of January 2015. \nFor all info you can look at the website follow this link: www.open-dutch.nl. (updated soon!) \nLooking forward to seeing you in the Netherlands! \nMaster Willy van de Mortel \nOrganizer “Open Dutch Championships”
URL:https://itftkd.sport/event/championships-open-dutch-2015/
CATEGORIES:Championships,Regional Activities
ATTACH;FMTTYPE=:
END:VEVENT
BEGIN:VEVENT
DTSTART;TZID=Europe/Madrid:20150222T000000
DTEND;TZID=Europe/Madrid:20150222T235959
DTSTAMP:20260422T032550
CREATED:20150130T145937Z
LAST-MODIFIED:20150130T145937Z
UID:10000014-1424563200-1424649599@itftkd.sport
SUMMARY:Roma Open 2015
DESCRIPTION:Championships – Roma Open 2015 \nDate; 22nd February 2015 \nThe ROMA OPEN TAEKWON-DO ITF Championship\, organized by “Extreme Fighters Team”\, will be held on February 22nd\, 2015 in Rome in the sports hall PALAZZETTO DELLO SPORT FLAMINIO\, in Piazza Apollodoro 10\, in the city heart. \nThe complex is easy to reach from the city centre Piazzale Flaminio (Metro A)\, tram line 2 (4 stops). \nGM Wim Bos\, Mr. Leandro Iagher\, Mr. Paolo Gentile\, Mr. Stefano Minotti and Mr. Francesco Picchi are pleased to invite you to this Pattern and Sparring competition for Cadet (10/13 yrs)\, Junior (14/17 yrs) and Senior (18 yrs and older) athletes. \nDowload the OFFICIAL INVITATION\, the COMPETITION RULES and the APPLICATION FORM at: http://www.fitaeitf.com/item.php?id=51&title=eventi \nPlease send the application form by February 15\, 2015 to:extremefightersromaopen@gmail.com \nFind your accomodation in the numerous hotels and B&B in the surrounding area. You have an unique chance to compete at a walking distance from Piazza del Popolo\, Villa Borghese\, Spanish Steps and enjoy the beauty of Rome capital city. Don’t miss it! \nFollow us on Facebook at ROMA OPEN. \nIf you need assistance\, please contact us at: extremefightersromaopen@gmail.com
URL:https://itftkd.sport/event/roma-open-2015/
LOCATION:Sport Hall Palazzetto dello Sport Flaminio\, Piazze Apollodoro 10\, Italia
CATEGORIES:Regional Activities
ATTACH;FMTTYPE=:
ORGANIZER;CN="Unnamed Organizer":MAILTO:extremefightersromaopen@gmail.com
END:VEVENT
BEGIN:VEVENT
DTSTART;TZID=Europe/Madrid:20150307T000000
DTEND;TZID=Europe/Madrid:20150307T235959
DTSTAMP:20260422T032550
CREATED:20150130T143506Z
LAST-MODIFIED:20150130T143506Z
UID:10000069-1425686400-1425772799@itftkd.sport
SUMMARY:Barcelona  Cup
DESCRIPTION:
URL:https://itftkd.sport/event/barcelona-cup/
LOCATION:Lugar sin nombre\, Barcelona \, España
CATEGORIES:Regional Activities
ATTACH;FMTTYPE=:
END:VEVENT
BEGIN:VEVENT
DTSTART;TZID=Europe/Madrid:20150326T000000
DTEND;TZID=Europe/Madrid:20150326T235959
DTSTAMP:20260422T032550
CREATED:20150130T144648Z
LAST-MODIFIED:20150130T144648Z
UID:10000012-1427328000-1427414399@itftkd.sport
SUMMARY:The Anxur Battle
DESCRIPTION:
URL:https://itftkd.sport/event/the-anxur-battle/
LOCATION:Lugar sin nombre\, Palacarrucci\, Italia
CATEGORIES:Regional Activities
ATTACH;FMTTYPE=:
ORGANIZER;CN="Master Caiazzo":MAILTO:sia-terracina@iperadsl.it
END:VEVENT
BEGIN:VEVENT
DTSTART;TZID=Europe/Madrid:20150328T000000
DTEND;TZID=Europe/Madrid:20150328T235959
DTSTAMP:20260422T032550
CREATED:20150130T144055Z
LAST-MODIFIED:20150130T144055Z
UID:10000016-1427500800-1427587199@itftkd.sport
SUMMARY:Unity Championships-USA
DESCRIPTION:
URL:https://itftkd.sport/event/unit-championships-usa/
CATEGORIES:Regional Activities
ATTACH;FMTTYPE=:
END:VEVENT
BEGIN:VEVENT
DTSTART;TZID=Europe/Madrid:20150328T000000
DTEND;TZID=Europe/Madrid:20150329T235959
DTSTAMP:20260422T032550
CREATED:20150130T143805Z
LAST-MODIFIED:20150130T143805Z
UID:10000070-1427500800-1427673599@itftkd.sport
SUMMARY:ITA Dublin Open\, Ireland
DESCRIPTION:March 28th & 29th 2015 \nNational Basketball Arena\, Tallaght\, Dublin \nwww.taekwondo.ie
URL:https://itftkd.sport/event/ita-dublin-open-ireland/
CATEGORIES:Regional Activities
ATTACH;FMTTYPE=:
END:VEVENT
BEGIN:VEVENT
DTSTART;TZID=Europe/Madrid:20150402T000000
DTEND;TZID=Europe/Madrid:20150406T235959
DTSTAMP:20260422T032550
CREATED:20150223T163450Z
LAST-MODIFIED:20150223T163450Z
UID:10000071-1427932800-1428364799@itftkd.sport
SUMMARY:Seminar in Madagascar with Master Weiler
DESCRIPTION:  \nSeminar program for Madagascar
URL:https://itftkd.sport/event/seminar-in-madagascar-with-master-weiler/
CATEGORIES:Regional Activities
ATTACH;FMTTYPE=:
END:VEVENT
BEGIN:VEVENT
DTSTART;TZID=Europe/Madrid:20150411T080000
DTEND;TZID=Europe/Madrid:20150411T170000
DTSTAMP:20260422T032550
CREATED:20150130T144445Z
LAST-MODIFIED:20150130T144445Z
UID:10000011-1428739200-1428771600@itftkd.sport
SUMMARY:Holland Cup
DESCRIPTION:Championships – Holland Cup \nDates: April 11th & 12th 2015
URL:https://itftkd.sport/event/holland-cup/
CATEGORIES:Regional Activities
ATTACH;FMTTYPE=:
ORGANIZER;CN="Unnamed Organizer":MAILTO:woc@hollandcup.net
END:VEVENT
BEGIN:VEVENT
DTSTART;TZID=Europe/Madrid:20150418T000000
DTEND;TZID=Europe/Madrid:20150418T235959
DTSTAMP:20260422T032550
CREATED:20150223T163420Z
LAST-MODIFIED:20150223T163420Z
UID:10000015-1429315200-1429401599@itftkd.sport
SUMMARY:BEST OF THE BEST 2015
DESCRIPTION:PROPOSITION BEST OF THE BEST 2015 CZECH REPUBLIC \nINVITATION BEST OF THE BEST 2015 CZECH REPUBLIC
URL:https://itftkd.sport/event/best-of-the-best-2015/
LOCATION:Sport Centre Na Fialce\, Ricany\, Czech Republic
CATEGORIES:Regional Activities
ATTACH;FMTTYPE=:
END:VEVENT
BEGIN:VEVENT
DTSTART;TZID=Europe/Madrid:20150425T100000
DTEND;TZID=Europe/Madrid:20150426T220000
DTSTAMP:20260422T032550
CREATED:20150227T093613Z
LAST-MODIFIED:20150227T093613Z
UID:10000073-1429956000-1430085600@itftkd.sport
SUMMARY:ITF Radix Self Defence Seminar
DESCRIPTION:Our next seminar in Amsterdam \nAdress: Jan van Galenstraat 31\,1051 KM\, Amsterdam\n \n   Fee:                 € 95\,-\n \n\n\nPayments to:   Robert Boer Trainingen\n \n\n\nIBAN:               NL68 INGB 0002 4963 52\n \n\n\nBIC:                  INGBNL2A\n \n\n\nMentioning:     Radix Amsterdam 2015 (and your name)\n \n\n\n\nProgram:        Saturday  10.00 – 17.00 h \n                         Sunday     10.00 – 15.00 h \nKind regards\, \nSabum Robert Boer and sabum Roy Rolstad \nNeed assistance in finding a hotel? Here some suggestions… \nhttp://www.hotelhortus.com/ \nhttp://www.hansbrinker.com/ \nhttp://www.hotel-abba.nl/ \nhttps://www.airbnb.nl/rooms/4708117?checkin=24%2F04%2F2015&checkout=26%2F04%2F2015&s=-CVx \nhttps://www.airbnb.nl/rooms/3917155?checkin=24%2F04%2F2015&checkout=26%2F04%2F2015&s=bWzv \n\n\n\nOr: mail us or give us a call…. \n\n\n\nContact for Amsterdam: Robert Boer \n\n\nrobertboer@lycos.com \n\n\n++31(0)6 110 180 77 \n\n\n 
URL:https://itftkd.sport/event/itf-radix-self-defence-seminar/
LOCATION:Marcanti College\, an van Galenstraat 31\,1051 KM\, Amsterdam\, Amsterdam\, Netherlands
CATEGORIES:Regional Activities
ATTACH;FMTTYPE=:
END:VEVENT
BEGIN:VEVENT
DTSTART;TZID=Europe/Madrid:20150502T000000
DTEND;TZID=Europe/Madrid:20150502T235959
DTSTAMP:20260422T032550
CREATED:20150129T143545Z
LAST-MODIFIED:20150129T143545Z
UID:10000068-1430524800-1430611199@itftkd.sport
SUMMARY:Red Tiger Cup
DESCRIPTION:For more information\, please visit : www.red-tiger.com
URL:https://itftkd.sport/event/red-tiger-cup/
LOCATION:Byrn Athyn College´s\, Aspundh field house\, Philadelphia\, 2775
CATEGORIES:Regional Activities
ATTACH;FMTTYPE=:
ORGANIZER;CN="Red Tiger Taekwon-do":MAILTO:tigerrojo@aol.com
END:VEVENT
BEGIN:VEVENT
DTSTART;TZID=Europe/Madrid:20150516T000000
DTEND;TZID=Europe/Madrid:20150516T235959
DTSTAMP:20260422T032550
CREATED:20150402T071007Z
LAST-MODIFIED:20150402T071007Z
UID:10000079-1431734400-1431820799@itftkd.sport
SUMMARY:Czech Republic Championship
DESCRIPTION:Invitation Championship 2015
URL:https://itftkd.sport/event/czech-republic-championship/
LOCATION:Sport Hall ZS Benatky nad Jizeron\, S.Kvetna Street 746\, Czech Republic
CATEGORIES:Regional Activities
ATTACH;FMTTYPE=:
ORGANIZER;CN="Unnamed Organizer":MAILTO:technicka@taekwondocz.com
END:VEVENT
BEGIN:VEVENT
DTSTART;TZID=Europe/Madrid:20150606T080000
DTEND;TZID=Europe/Madrid:20150607T170000
DTSTAMP:20260422T032550
CREATED:20150505T093008Z
LAST-MODIFIED:20150505T093008Z
UID:10000004-1433577600-1433696400@itftkd.sport
SUMMARY:Stephen Tapilatu Seminar - Brighton\, England
DESCRIPTION:Invitation and Information: StephenTapilatuSemINV 160315
URL:https://itftkd.sport/event/stephen-tapilatu-seminar-brighton-england/
CATEGORIES:Regional Activities
ATTACH;FMTTYPE=:
END:VEVENT
BEGIN:VEVENT
DTSTART;TZID=Europe/Madrid:20150606T080000
DTEND;TZID=Europe/Madrid:20150607T170000
DTSTAMP:20260422T032550
CREATED:20150507T123313Z
LAST-MODIFIED:20150507T123313Z
UID:10000005-1433577600-1433696400@itftkd.sport
SUMMARY:ITF Radix Seminar - Oslo\, Norway
DESCRIPTION:
URL:https://itftkd.sport/event/itf-radix-seminar-oslo-norway/
LOCATION:Unnamed Venue\, Oslo
CATEGORIES:Regional Activities
ATTACH;FMTTYPE=:
END:VEVENT
BEGIN:VEVENT
DTSTART;TZID=Europe/Madrid:20150620T080000
DTEND;TZID=Europe/Madrid:20150621T170000
DTSTAMP:20260422T032550
CREATED:20150130T145231Z
LAST-MODIFIED:20150130T145231Z
UID:10000013-1434787200-1434906000@itftkd.sport
SUMMARY:Seminar Scotland with Katya Solovey
DESCRIPTION:Seminar – Scotland\, with Katya Solovey \nDates: 20th – 21st Jne 2015 \nDear Masters\, Instructors\, Blackbelts and Students\, \nWe are delighted Mrs Solovey has agreed to visit us here in Aberdeen\, Scotland and we hope that she enjoys here visit very much. She\, along with her assistant Miss Viktoria Sokolovska\, will conduct three sessions. As we have a very large competitive junior contingency\, here in Aberdeen \, we will conduct a session of all grades up to 13 yrs. Teens and adults kup grades up to 3rd kup will also have their own session. The final one will be for red and blackbelts. Mrs Solovey is well known to our students and they are all looking forward to this great opportunity. Full details about the venue\, costs\, times etc will be posted in due course. \nBest regards \nMaster Gordon Wallace VIII \nNorthern Taekwon-Do Academies \nAffiliated to ITF Scotland
URL:https://itftkd.sport/event/seminar-scotland-with-katia-solovey/
CATEGORIES:Regional Activities
ATTACH;FMTTYPE=:
END:VEVENT
BEGIN:VEVENT
DTSTART;TZID=Europe/Madrid:20150627T000000
DTEND;TZID=Europe/Madrid:20150628T235959
DTSTAMP:20260422T032550
CREATED:20150619T052429Z
LAST-MODIFIED:20150619T052429Z
UID:10000007-1435363200-1435535999@itftkd.sport
SUMMARY:Aristoteleion Open Cup
DESCRIPTION:
URL:https://itftkd.sport/event/aristoteleion-open-cup/
LOCATION:Filippion Stadium\, Veroia
CATEGORIES:Regional Activities
ATTACH;FMTTYPE=:
END:VEVENT
BEGIN:VEVENT
DTSTART;TZID=Europe/Madrid:20150710T020000
DTEND;TZID=Europe/Madrid:20150713T140000
DTSTAMP:20260422T032550
CREATED:20150414T100439Z
LAST-MODIFIED:20150414T100439Z
UID:10000008-1436493600-1436796000@itftkd.sport
SUMMARY:Summer Camp - Ireland
DESCRIPTION:
URL:https://itftkd.sport/event/espanol-summer-camp-ireland/
LOCATION:Villiers School\, Limerick\, Limerick\, Munster\, Ireland
CATEGORIES:Regional Activities
ATTACH;FMTTYPE=:
END:VEVENT
BEGIN:VEVENT
DTSTART;TZID=Europe/Madrid:20150820T080000
DTEND;TZID=Europe/Madrid:20150823T170000
DTSTAMP:20260422T032550
CREATED:20150223T163754Z
LAST-MODIFIED:20150223T163754Z
UID:10000072-1440057600-1440349200@itftkd.sport
SUMMARY:V Campeonato Centro Sudamericano
DESCRIPTION:INFORMACIÓN GENERAL \nInvitacion
URL:https://itftkd.sport/event/v-campeonato-centro-sudamericano/
LOCATION:Unnamed Venue\, Ciutad de Foz do Iguacu\, Brazil
CATEGORIES:Regional Activities
ATTACH;FMTTYPE=:
END:VEVENT
BEGIN:VEVENT
DTSTART;TZID=Europe/Madrid:20150912T000000
DTEND;TZID=Europe/Madrid:20150912T235959
DTSTAMP:20260422T032550
CREATED:20150907T135917Z
LAST-MODIFIED:20150907T135917Z
UID:10000098-1442016000-1442102399@itftkd.sport
SUMMARY:Afiche Encuentro Femenino
DESCRIPTION:
URL:https://itftkd.sport/event/afiche-encuentro-femenino/
LOCATION:Centro Comercial Pasadena 2ª piso
CATEGORIES:Regional Activities
ATTACH;FMTTYPE=:
END:VEVENT
BEGIN:VEVENT
DTSTART;TZID=Europe/Madrid:20150927T080000
DTEND;TZID=Europe/Madrid:20150927T170000
DTSTAMP:20260422T032550
CREATED:20150624T071742Z
LAST-MODIFIED:20150624T071742Z
UID:10000003-1443340800-1443373200@itftkd.sport
SUMMARY:XX New York Taekwon-Do Tournament
DESCRIPTION:Invitation Package pdf \n \n 
URL:https://itftkd.sport/event/xx-new-york-taekwon-do-tournament/
LOCATION:Unnamed Venue\, New York\, NY\, United States
CATEGORIES:Regional Activities
ATTACH;FMTTYPE=:
END:VEVENT
BEGIN:VEVENT
DTSTART;TZID=Europe/Madrid:20151002T080000
DTEND;TZID=Europe/Madrid:20151002T170000
DTSTAMP:20260422T032550
CREATED:20150909T140145Z
LAST-MODIFIED:20150909T140145Z
UID:10000100-1443772800-1443805200@itftkd.sport
SUMMARY:Technical Seminar - Iran
DESCRIPTION:
URL:https://itftkd.sport/event/technical-seminar-iran/
CATEGORIES:Regional Activities
ATTACH;FMTTYPE=:
END:VEVENT
BEGIN:VEVENT
DTSTART;TZID=Europe/Madrid:20151004T080000
DTEND;TZID=Europe/Madrid:20151004T170000
DTSTAMP:20260422T032550
CREATED:20150709T080723Z
LAST-MODIFIED:20150709T080723Z
UID:10000088-1443945600-1443978000@itftkd.sport
SUMMARY:Battle of Utrecht
DESCRIPTION:2015 Toernooikampioen \nBattle 2015 Inschrijfformulier Engels \nInvitation Battle of Utrecht 4 October 2015
URL:https://itftkd.sport/event/battle-of-utrecht/
LOCATION:Utrecht\, Netherlands
CATEGORIES:Regional Activities
ATTACH;FMTTYPE=:
END:VEVENT
BEGIN:VEVENT
DTSTART;TZID=Europe/Madrid:20151017T000000
DTEND;TZID=Europe/Madrid:20151017T235959
DTSTAMP:20260422T032550
CREATED:20151008T080139Z
LAST-MODIFIED:20151008T080139Z
UID:10000118-1445040000-1445126399@itftkd.sport
SUMMARY:Encuentro Masculino Mayores de 35 años
DESCRIPTION:
URL:https://itftkd.sport/event/encuentro-masculino-mayores-de-35-anos/
LOCATION:Unnamed Venue\, Bogota\, Colombia
CATEGORIES:Regional Activities
ATTACH;FMTTYPE=:
END:VEVENT
BEGIN:VEVENT
DTSTART;TZID=Europe/Madrid:20151024T000000
DTEND;TZID=Europe/Madrid:20151024T235959
DTSTAMP:20260422T032550
CREATED:20150818T150856Z
LAST-MODIFIED:20150818T150856Z
UID:10000095-1445644800-1445731199@itftkd.sport
SUMMARY:2015 OFTA OPEN III
DESCRIPTION:2015 OTFA OPEN INVITATION
URL:https://itftkd.sport/event/2015-ofta-open-iii/
LOCATION:Longevity Sports Centre\, Vegas\, United States
CATEGORIES:Regional Activities
ATTACH;FMTTYPE=:
END:VEVENT
BEGIN:VEVENT
DTSTART;TZID=Europe/Madrid:20151107T080000
DTEND;TZID=Europe/Madrid:20151108T170000
DTSTAMP:20260422T032550
CREATED:20150701T145124Z
LAST-MODIFIED:20150701T145124Z
UID:10000001-1446883200-1447002000@itftkd.sport
SUMMARY:2015 North American and Caribbean ITF Taekwon-Do Championships
DESCRIPTION:  \n  \n \n  \n  \n2015 North American and Caribbean Championships – Invitation Package to Instructors \n 
URL:https://itftkd.sport/event/2015-north-american-and-caribbean-itf-taekwon-do-championships/
LOCATION:Richmond Olympic Oval\, Richmond Olympic Oval\,  Greater Vancouver\, Canada
CATEGORIES:Regional Activities
ATTACH;FMTTYPE=:
END:VEVENT
BEGIN:VEVENT
DTSTART;TZID=Europe/Madrid:20151114T080000
DTEND;TZID=Europe/Madrid:20151114T170000
DTSTAMP:20260422T032550
CREATED:20151005T164513Z
LAST-MODIFIED:20151005T164513Z
UID:10000117-1447488000-1447520400@itftkd.sport
SUMMARY:Black Belt Cup - Austria
DESCRIPTION:After the 15th June 2002 when we held our 1st Black Belt Cup we would like to invite you  again to the  2nd Black Belt Cup on 14th Nov 2015. \nThe Tournament will be held in St. Pölten (capital of Lower Austria) and is aimed to children\, cadets\, juniors and seniorsstarting from 8.Kup up to VI.DAN in the following competitions: \n  \n\nSparring – all age groups\nPattern – all age groups\nSpecial Technic – all age groups\nPower Test – seniors only from 4.Kup\n\n  \nTimes/procedure:               09:00                           Start of competition\n12:00                            Opening ceremony – line up of all competitors \n12:15                           Continuation of competition \n18:00                            Awards presentation and closing ceremony \n  \n  \nPlaces 1-3 will receive medals or trophies but all competitors will receive a certificate to commemorate their participation. \n  \nGM Tom MacCallum IX.DAN (ITF board member) will be our honorary guest at the Tournament! \n  \n2nd Black Belt Cup 2015 — Invitation \n  \n2nd Black Belt Cup 2015 — Registration Form \n  \nPlease don’t miss the registration deadline of 7th November 2015 — 24:00 hrs \n  \nIf you have any questions please don’t hesitate to contact me. \nkickingereder@itf-austria.at \n  \nI am looking forward to meeting you in Austria. \n  \nBest regards! \nElmar Kickingereder \nwww.itf-austria.at \n  \n Invitation 2nd BLACK BELT CUP 2015 – ITF-Austria (englisch) Registration Form 2nd BLACK BELT CUP 2015 – ITF-Austria 
URL:https://itftkd.sport/event/black-belt-cup-austria/
CATEGORIES:Regional Activities
ATTACH;FMTTYPE=:
END:VEVENT
END:VCALENDAR