BEGIN:VCALENDAR
VERSION:2.0
PRODID:-//ITF International Taekwon-Do Federation - ECPv6.15.20//NONSGML v1.0//EN
CALSCALE:GREGORIAN
METHOD:PUBLISH
X-ORIGINAL-URL:https://itftkd.sport
X-WR-CALDESC:Events for ITF International Taekwon-Do Federation
REFRESH-INTERVAL;VALUE=DURATION:PT1H
X-Robots-Tag:noindex
X-PUBLISHED-TTL:PT1H
BEGIN:VTIMEZONE
TZID:Europe/Madrid
BEGIN:DAYLIGHT
TZOFFSETFROM:+0100
TZOFFSETTO:+0200
TZNAME:CEST
DTSTART:20230326T010000
END:DAYLIGHT
BEGIN:STANDARD
TZOFFSETFROM:+0200
TZOFFSETTO:+0100
TZNAME:CET
DTSTART:20231029T010000
END:STANDARD
BEGIN:DAYLIGHT
TZOFFSETFROM:+0100
TZOFFSETTO:+0200
TZNAME:CEST
DTSTART:20240331T010000
END:DAYLIGHT
BEGIN:STANDARD
TZOFFSETFROM:+0200
TZOFFSETTO:+0100
TZNAME:CET
DTSTART:20241027T010000
END:STANDARD
BEGIN:DAYLIGHT
TZOFFSETFROM:+0100
TZOFFSETTO:+0200
TZNAME:CEST
DTSTART:20250330T010000
END:DAYLIGHT
BEGIN:STANDARD
TZOFFSETFROM:+0200
TZOFFSETTO:+0100
TZNAME:CET
DTSTART:20251026T010000
END:STANDARD
END:VTIMEZONE
BEGIN:VEVENT
DTSTART;VALUE=DATE:20241006
DTEND;VALUE=DATE:20241007
DTSTAMP:20260420T043056
CREATED:20241001T142918Z
LAST-MODIFIED:20241003T145905Z
UID:10000536-1728172800-1728259199@itftkd.sport
SUMMARY:ADT: Morocco seminar
DESCRIPTION:
URL:https://itftkd.sport/event/adt-morocco-seminar/
CATEGORIES:Regional Activities
ATTACH;FMTTYPE=image/jpeg:https://itftkd.sport/wp-content/uploads/2024/10/20241006_Marocco_seminar.jpeg
END:VEVENT
BEGIN:VEVENT
DTSTART;VALUE=DATE:20241012
DTEND;VALUE=DATE:20241014
DTSTAMP:20260420T043056
CREATED:20240913T154154Z
LAST-MODIFIED:20240921T085716Z
UID:10000534-1728691200-1728863999@itftkd.sport
SUMMARY:South Africa Seminar
DESCRIPTION:  \nWe are pleased to announce that our association will be hosting a seminar with GM Paul Weiler\, ITF President. \nWe are proud to have this opportunity and would formally like to invite your organisation to this prestigious event. \nThe seminar will take place on the weekend of the 12th and 13th of October 2024 in Johannesburg\, South Africa. Should you require any further information\, please do not hesitate to contact me. \nRegistration is available at https://tinyurl.com/2yjpjw9w. \nThe full invitation with additional information (travel\, accommodation\, full schedule\, etc) is found below. \nWe look forward to meeting you in Johannesburg \nYours sincerely\,\nSbn. Justin Glanville\nSouth African Taekwon-Do Association (SATA) – President\nMobile: +27 (0)76 050 1021\nEmail: simwha33@gmail.com \nAttention – Important Information – GM Weiler Technical Seminar South Africa 2024
URL:https://itftkd.sport/event/south-africa-seminar/
CATEGORIES:Regional Activities
ATTACH;FMTTYPE=image/jpeg:https://itftkd.sport/wp-content/uploads/2024/09/20241012_SouthAfricaSeminar-feature.jpg
END:VEVENT
END:VCALENDAR