BEGIN:VCALENDAR
VERSION:2.0
PRODID:-//ITF International Taekwon-Do Federation - ECPv6.15.20//NONSGML v1.0//EN
CALSCALE:GREGORIAN
METHOD:PUBLISH
X-WR-CALNAME:ITF International Taekwon-Do Federation
X-ORIGINAL-URL:https://itftkd.sport
X-WR-CALDESC:Events for ITF International Taekwon-Do Federation
REFRESH-INTERVAL;VALUE=DURATION:PT1H
X-Robots-Tag:noindex
X-PUBLISHED-TTL:PT1H
BEGIN:VTIMEZONE
TZID:Europe/Madrid
BEGIN:DAYLIGHT
TZOFFSETFROM:+0100
TZOFFSETTO:+0200
TZNAME:CEST
DTSTART:20230326T010000
END:DAYLIGHT
BEGIN:STANDARD
TZOFFSETFROM:+0200
TZOFFSETTO:+0100
TZNAME:CET
DTSTART:20231029T010000
END:STANDARD
BEGIN:DAYLIGHT
TZOFFSETFROM:+0100
TZOFFSETTO:+0200
TZNAME:CEST
DTSTART:20240331T010000
END:DAYLIGHT
BEGIN:STANDARD
TZOFFSETFROM:+0200
TZOFFSETTO:+0100
TZNAME:CET
DTSTART:20241027T010000
END:STANDARD
BEGIN:DAYLIGHT
TZOFFSETFROM:+0100
TZOFFSETTO:+0200
TZNAME:CEST
DTSTART:20250330T010000
END:DAYLIGHT
BEGIN:STANDARD
TZOFFSETFROM:+0200
TZOFFSETTO:+0100
TZNAME:CET
DTSTART:20251026T010000
END:STANDARD
END:VTIMEZONE
BEGIN:VEVENT
DTSTART;VALUE=DATE:20240914
DTEND;VALUE=DATE:20240916
DTSTAMP:20260420T085842
CREATED:20240818T062753Z
LAST-MODIFIED:20240818T062838Z
UID:10000526-1726272000-1726444799@itftkd.sport
SUMMARY:Online IUC - Africa only
DESCRIPTION:The Africa Taekwon-Do Federation (ATF) organizes an official International Umpire Course with GM Abelardo Benzaquén\, chair of the ITF Umpire Committee. \nThe course will be available only for members of the Africa Taekwon-Do Federation and it will be held online. \nMore information will follow soon.
URL:https://itftkd.sport/event/online-iuc-africa-only/
CATEGORIES:International Umpire Course,Regional Activities
ATTACH;FMTTYPE=image/jpeg:https://itftkd.sport/wp-content/uploads/2024/08/20240914_OnlineIUC_Africa.jpg
END:VEVENT
BEGIN:VEVENT
DTSTART;TZID=Europe/Madrid:20240921T150000
DTEND;TZID=Europe/Madrid:20240921T173000
DTSTAMP:20260420T085842
CREATED:20240902T165804Z
LAST-MODIFIED:20240905T124223Z
UID:10000528-1726930800-1726939800@itftkd.sport
SUMMARY:Patterns Peak Performance - Online Master Class
DESCRIPTION:The Ultimate Guide to Winning the World Championships\n\nJoin Master Mariusz Steckiewicz on Saturday\, September 21st\, at 3 pm Vietnam Time for a 2.5-hour “Patterns Peak Performance” Online Master Class. This session is designed for anyone competing or planning to compete in ITF-style Taekwon-Do Patterns\, from regional to World Championships.\n\nKey topics include:\n\nPerfecting Technical Accuracy\nAchieving Effortlessness and Energy Efficiency\nDeveloping the “Wow” Factor\nMastering the Psychology of a Winner\nTiming your peak performance with Periodization\n\nWith over 35 years of experience\, including coaching multiple European\, Asian\, and World Champions\, Master Steckiewicz offers invaluable insights to elevate your competitive edge.\n\nFee: 25 EUR\nRegister here: https://forms.gle/kH5YFUCwCF9KZtGP9\n\nDon’t miss this chance to take your patterns to the next level.\n\nBest regards\, \nMariusz Steckiewicz\nITF National Association Committee\nITF Asia Development Team
URL:https://itftkd.sport/event/patterns-peak-performance-online-master-class/
CATEGORIES:Regional Activities
ATTACH;FMTTYPE=image/jpeg:https://itftkd.sport/wp-content/uploads/2024/09/Technical-Master-Class-Mariusz.jpg
END:VEVENT
END:VCALENDAR