BEGIN:VCALENDAR
VERSION:2.0
PRODID:-//ITF Federación Internacional de Taekwon-Do - ECPv6.15.20//NONSGML v1.0//EN
CALSCALE:GREGORIAN
METHOD:PUBLISH
X-ORIGINAL-URL:https://itftkd.sport/es
X-WR-CALDESC:Eventos para ITF Federación Internacional de Taekwon-Do
REFRESH-INTERVAL;VALUE=DURATION:PT1H
X-Robots-Tag:noindex
X-PUBLISHED-TTL:PT1H
BEGIN:VTIMEZONE
TZID:Europe/Madrid
BEGIN:DAYLIGHT
TZOFFSETFROM:+0100
TZOFFSETTO:+0200
TZNAME:CEST
DTSTART:20190331T010000
END:DAYLIGHT
BEGIN:STANDARD
TZOFFSETFROM:+0200
TZOFFSETTO:+0100
TZNAME:CET
DTSTART:20191027T010000
END:STANDARD
BEGIN:DAYLIGHT
TZOFFSETFROM:+0100
TZOFFSETTO:+0200
TZNAME:CEST
DTSTART:20200329T010000
END:DAYLIGHT
BEGIN:STANDARD
TZOFFSETFROM:+0200
TZOFFSETTO:+0100
TZNAME:CET
DTSTART:20201025T010000
END:STANDARD
BEGIN:DAYLIGHT
TZOFFSETFROM:+0100
TZOFFSETTO:+0200
TZNAME:CEST
DTSTART:20210328T010000
END:DAYLIGHT
BEGIN:STANDARD
TZOFFSETFROM:+0200
TZOFFSETTO:+0100
TZNAME:CET
DTSTART:20211031T010000
END:STANDARD
END:VTIMEZONE
BEGIN:VEVENT
DTSTART;TZID=Europe/Madrid:20200712T170000
DTEND;TZID=Europe/Madrid:20200712T170000
DTSTAMP:20260424T093540
CREATED:20191128T150640Z
LAST-MODIFIED:20200930T201955Z
UID:10000342-1594573200-1594573200@itftkd.sport
SUMMARY:IIC Inglaterra 10-12 de julio de 2020
DESCRIPTION:  \n \nIIC Newcastle Upon Tyne course 2020 Information \nIIC Newcastle 2020 Registration Form \nIIC Newcastle 2020 Individual Application Form
URL:https://itftkd.sport/es/event/iic-england-10-12-july-2020/
CATEGORIES:International Instructor Course
ATTACH;FMTTYPE=image/jpeg:https://itftkd.sport/es/wp-content/uploads/sites/7/2019/11/WhatsApp-Image-2020-06-03-at-09.00.46.jpeg
ORGANIZER;CN="Taekwon-Do Association of England":MAILTO:info@itfengland.com
END:VEVENT
END:VCALENDAR