BEGIN:VCALENDAR
VERSION:2.0
PRODID:-//ITF Federación Internacional de Taekwon-Do - ECPv6.15.20//NONSGML v1.0//EN
CALSCALE:GREGORIAN
METHOD:PUBLISH
X-ORIGINAL-URL:https://itftkd.sport/es
X-WR-CALDESC:Eventos para ITF Federación Internacional de Taekwon-Do
REFRESH-INTERVAL;VALUE=DURATION:PT1H
X-Robots-Tag:noindex
X-PUBLISHED-TTL:PT1H
BEGIN:VTIMEZONE
TZID:Europe/Madrid
BEGIN:DAYLIGHT
TZOFFSETFROM:+0100
TZOFFSETTO:+0200
TZNAME:CEST
DTSTART:20150329T010000
END:DAYLIGHT
BEGIN:STANDARD
TZOFFSETFROM:+0200
TZOFFSETTO:+0100
TZNAME:CET
DTSTART:20151025T010000
END:STANDARD
BEGIN:DAYLIGHT
TZOFFSETFROM:+0100
TZOFFSETTO:+0200
TZNAME:CEST
DTSTART:20160327T010000
END:DAYLIGHT
BEGIN:STANDARD
TZOFFSETFROM:+0200
TZOFFSETTO:+0100
TZNAME:CET
DTSTART:20161030T010000
END:STANDARD
BEGIN:DAYLIGHT
TZOFFSETFROM:+0100
TZOFFSETTO:+0200
TZNAME:CEST
DTSTART:20170326T010000
END:DAYLIGHT
BEGIN:STANDARD
TZOFFSETFROM:+0200
TZOFFSETTO:+0100
TZNAME:CET
DTSTART:20171029T010000
END:STANDARD
END:VTIMEZONE
BEGIN:VEVENT
DTSTART;TZID=Europe/Madrid:20160923T000000
DTEND;TZID=Europe/Madrid:20160925T235959
DTSTAMP:20260424T071227
CREATED:20160411T062247Z
LAST-MODIFIED:20160411T062247Z
UID:10000168-1474588800-1474847999@itftkd.sport
SUMMARY:IIC 113 Quebec - Canada
DESCRIPTION:  \n  \n  \n  \nWebsite : http://www.atpl-itf.com/application-form/ \nE-mail:  iic@atpl-itf.com \n 
URL:https://itftkd.sport/es/event/iic-113-quebec-canada/
LOCATION:Auberge des Gouverneurs\, 1100 Promenade du St-Maurice\, Quebec\, G9N-1L8\, Canada
CATEGORIES:International Instructor Course
ATTACH;FMTTYPE=:
END:VEVENT
END:VCALENDAR