BEGIN:VCALENDAR
VERSION:2.0
PRODID:-//ITF Federación Internacional de Taekwon-Do - ECPv6.15.20//NONSGML v1.0//EN
CALSCALE:GREGORIAN
METHOD:PUBLISH
X-ORIGINAL-URL:https://itftkd.sport/es
X-WR-CALDESC:Eventos para ITF Federación Internacional de Taekwon-Do
REFRESH-INTERVAL;VALUE=DURATION:PT1H
X-Robots-Tag:noindex
X-PUBLISHED-TTL:PT1H
BEGIN:VTIMEZONE
TZID:Europe/Madrid
BEGIN:DAYLIGHT
TZOFFSETFROM:+0100
TZOFFSETTO:+0200
TZNAME:CEST
DTSTART:20240331T010000
END:DAYLIGHT
BEGIN:STANDARD
TZOFFSETFROM:+0200
TZOFFSETTO:+0100
TZNAME:CET
DTSTART:20241027T010000
END:STANDARD
BEGIN:DAYLIGHT
TZOFFSETFROM:+0100
TZOFFSETTO:+0200
TZNAME:CEST
DTSTART:20250330T010000
END:DAYLIGHT
BEGIN:STANDARD
TZOFFSETFROM:+0200
TZOFFSETTO:+0100
TZNAME:CET
DTSTART:20251026T010000
END:STANDARD
BEGIN:DAYLIGHT
TZOFFSETFROM:+0100
TZOFFSETTO:+0200
TZNAME:CEST
DTSTART:20260329T010000
END:DAYLIGHT
BEGIN:STANDARD
TZOFFSETFROM:+0200
TZOFFSETTO:+0100
TZNAME:CET
DTSTART:20261025T010000
END:STANDARD
END:VTIMEZONE
BEGIN:VEVENT
DTSTART;TZID=Europe/Madrid:20250621T080000
DTEND;TZID=Europe/Madrid:20250622T170000
DTSTAMP:20260419T183156
CREATED:20250414T123740Z
LAST-MODIFIED:20250515T124637Z
UID:10000477-1750492800-1750611600@itftkd.sport
SUMMARY:50º QIUC – Bogotá\, Colombia
DESCRIPTION:Archivos adjuntos: \n\n\n\n2025-061- Invitación IUC Bogotá ColombiaDescarga\n\n\n\nInvitation IUC Bogotá Colombia – EnglishDescarga
URL:https://itftkd.sport/es/event/50o-qiuc-bogota-colombia/
LOCATION:Radisson Bogotá Metrotel\, Calle 74 No 13-27\, Bogotá\, 11001\, Colombia
CATEGORIES:International Umpire Course
ATTACH;FMTTYPE=image/jpeg:https://itftkd.sport/es/wp-content/uploads/sites/7/2025/04/Featured-Image-QIUC-Colombia-2025.jpg
ORGANIZER;CN="Asociaci%C3%B3n Colombiana de Taekwon-Do ITF":MAILTO:asociacion@taekwondoitfcolombia.com
END:VEVENT
END:VCALENDAR