BEGIN:VCALENDAR
VERSION:2.0
PRODID:-//ITF Federación Internacional de Taekwon-Do - ECPv6.15.20//NONSGML v1.0//EN
CALSCALE:GREGORIAN
METHOD:PUBLISH
X-ORIGINAL-URL:https://itftkd.sport/es
X-WR-CALDESC:Eventos para ITF Federación Internacional de Taekwon-Do
REFRESH-INTERVAL;VALUE=DURATION:PT1H
X-Robots-Tag:noindex
X-PUBLISHED-TTL:PT1H
BEGIN:VTIMEZONE
TZID:Europe/Madrid
BEGIN:DAYLIGHT
TZOFFSETFROM:+0100
TZOFFSETTO:+0200
TZNAME:CEST
DTSTART:20220327T010000
END:DAYLIGHT
BEGIN:STANDARD
TZOFFSETFROM:+0200
TZOFFSETTO:+0100
TZNAME:CET
DTSTART:20221030T010000
END:STANDARD
BEGIN:DAYLIGHT
TZOFFSETFROM:+0100
TZOFFSETTO:+0200
TZNAME:CEST
DTSTART:20230326T010000
END:DAYLIGHT
BEGIN:STANDARD
TZOFFSETFROM:+0200
TZOFFSETTO:+0100
TZNAME:CET
DTSTART:20231029T010000
END:STANDARD
BEGIN:DAYLIGHT
TZOFFSETFROM:+0100
TZOFFSETTO:+0200
TZNAME:CEST
DTSTART:20240331T010000
END:DAYLIGHT
BEGIN:STANDARD
TZOFFSETFROM:+0200
TZOFFSETTO:+0100
TZNAME:CET
DTSTART:20241027T010000
END:STANDARD
END:VTIMEZONE
BEGIN:VEVENT
DTSTART;TZID=Europe/Madrid:20231010T080000
DTEND;TZID=Europe/Madrid:20231017T170000
DTSTAMP:20260420T073453
CREATED:20230727T184919Z
LAST-MODIFIED:20230801T171208Z
UID:10000437-1696924800-1697562000@itftkd.sport
SUMMARY:Triples Cursos Internacionales (Kids/ Adaptado/ Harmony)
DESCRIPTION:10-11 October 2023 – Caleta Olivia\, Santa Cruz\, Argentina.13-14 October 2023 – Buenos Aires\, Argentina.16-17 October 2023 – Salta\, Argentina.
URL:https://itftkd.sport/es/event/29768/
CATEGORIES:International Adapted Course,International Harmony Course,International Kids Course
ATTACH;FMTTYPE=image/jpeg:https://itftkd.sport/es/wp-content/uploads/sites/7/2023/07/Featured-Image-Triple-Curso-Argentina-2023.jpg
END:VEVENT
END:VCALENDAR