BEGIN:VCALENDAR
VERSION:2.0
PRODID:-//ITF Federación Internacional de Taekwon-Do - ECPv6.15.20//NONSGML v1.0//EN
CALSCALE:GREGORIAN
METHOD:PUBLISH
X-WR-CALNAME:ITF Federación Internacional de Taekwon-Do
X-ORIGINAL-URL:https://itftkd.sport/es
X-WR-CALDESC:Eventos para ITF Federación Internacional de Taekwon-Do
REFRESH-INTERVAL;VALUE=DURATION:PT1H
X-Robots-Tag:noindex
X-PUBLISHED-TTL:PT1H
BEGIN:VTIMEZONE
TZID:Europe/Madrid
BEGIN:DAYLIGHT
TZOFFSETFROM:+0100
TZOFFSETTO:+0200
TZNAME:CEST
DTSTART:20210328T010000
END:DAYLIGHT
BEGIN:STANDARD
TZOFFSETFROM:+0200
TZOFFSETTO:+0100
TZNAME:CET
DTSTART:20211031T010000
END:STANDARD
BEGIN:DAYLIGHT
TZOFFSETFROM:+0100
TZOFFSETTO:+0200
TZNAME:CEST
DTSTART:20220327T010000
END:DAYLIGHT
BEGIN:STANDARD
TZOFFSETFROM:+0200
TZOFFSETTO:+0100
TZNAME:CET
DTSTART:20221030T010000
END:STANDARD
BEGIN:DAYLIGHT
TZOFFSETFROM:+0100
TZOFFSETTO:+0200
TZNAME:CEST
DTSTART:20230326T010000
END:DAYLIGHT
BEGIN:STANDARD
TZOFFSETFROM:+0200
TZOFFSETTO:+0100
TZNAME:CET
DTSTART:20231029T010000
END:STANDARD
END:VTIMEZONE
BEGIN:VEVENT
DTSTART;TZID=Europe/Madrid:20220721T080000
DTEND;TZID=Europe/Madrid:20220722T170000
DTSTAMP:20260423T012745
CREATED:20220711T180929Z
LAST-MODIFIED:20220711T180933Z
UID:10000415-1658390400-1658509200@itftkd.sport
SUMMARY:Primer IAC en Sudamérica\, Asunción del Paraguay
DESCRIPTION:
URL:https://itftkd.sport/es/event/primer-iac-en-sudamerica-asuncion-del-paraguay/
CATEGORIES:International Adapted Course
ATTACH;FMTTYPE=image/jpeg:https://itftkd.sport/es/wp-content/uploads/sites/7/2022/07/Featured-Image-IAC-Paraguay.jpg
END:VEVENT
BEGIN:VEVENT
DTSTART;TZID=Europe/Madrid:20220728T080000
DTEND;TZID=Europe/Madrid:20220730T170000
DTSTAMP:20260423T012745
CREATED:20220114T190122Z
LAST-MODIFIED:20220114T190126Z
UID:10000404-1658995200-1659200400@itftkd.sport
SUMMARY:IIC Uruguay Julio 2022
DESCRIPTION:
URL:https://itftkd.sport/es/event/iic-uruguay-julio-2022/
CATEGORIES:International Adapted Course,International Instructor Course
ATTACH;FMTTYPE=image/jpeg:https://itftkd.sport/es/wp-content/uploads/sites/7/2022/01/IIC-Uruguay-2022.jpg
END:VEVENT
END:VCALENDAR