BEGIN:VCALENDAR
VERSION:2.0
PRODID:-//ITF Federación Internacional de Taekwon-Do - ECPv6.15.20//NONSGML v1.0//EN
CALSCALE:GREGORIAN
METHOD:PUBLISH
X-WR-CALNAME:ITF Federación Internacional de Taekwon-Do
X-ORIGINAL-URL:https://itftkd.sport/es
X-WR-CALDESC:Eventos para ITF Federación Internacional de Taekwon-Do
REFRESH-INTERVAL;VALUE=DURATION:PT1H
X-Robots-Tag:noindex
X-PUBLISHED-TTL:PT1H
BEGIN:VTIMEZONE
TZID:Europe/Madrid
BEGIN:DAYLIGHT
TZOFFSETFROM:+0100
TZOFFSETTO:+0200
TZNAME:CEST
DTSTART:20210328T010000
END:DAYLIGHT
BEGIN:STANDARD
TZOFFSETFROM:+0200
TZOFFSETTO:+0100
TZNAME:CET
DTSTART:20211031T010000
END:STANDARD
BEGIN:DAYLIGHT
TZOFFSETFROM:+0100
TZOFFSETTO:+0200
TZNAME:CEST
DTSTART:20220327T010000
END:DAYLIGHT
BEGIN:STANDARD
TZOFFSETFROM:+0200
TZOFFSETTO:+0100
TZNAME:CET
DTSTART:20221030T010000
END:STANDARD
BEGIN:DAYLIGHT
TZOFFSETFROM:+0100
TZOFFSETTO:+0200
TZNAME:CEST
DTSTART:20230326T010000
END:DAYLIGHT
BEGIN:STANDARD
TZOFFSETFROM:+0200
TZOFFSETTO:+0100
TZNAME:CET
DTSTART:20231029T010000
END:STANDARD
END:VTIMEZONE
BEGIN:VEVENT
DTSTART;TZID=Europe/Madrid:20220204T090000
DTEND;TZID=Europe/Madrid:20220206T180000
DTSTAMP:20260423T133254
CREATED:20210527T180753Z
LAST-MODIFIED:20220106T105445Z
UID:10000380-1643965200-1644170400@itftkd.sport
SUMMARY:Triple curso en México IIC+IKC+IAC
DESCRIPTION:La ITF sigue avanzando y trabajando en nuevos desafíos alrededor del mundo. Está vez con tres Cursos Especiales (𝐈𝐈𝐂+𝐈𝐊𝐂+𝐈𝐀𝐂) que se estarán dictando de forma presencial en Hermosillo-Sonora-México\, los días 4\, 5 y 6 de Febrero de 2022. \n\n\n\nEste Curso de Inclusión\, es una excelente oportunidad para todos los miembros de la ITF de fijar conocimientos\, continuar estandarizando y seguir aprendiendo junto al Chairman del Comité de Inclusión de la ITF\, Maestro Leo Oros Duek. \n\n\n\nUna nueva oportunidad para seguir aprendiendo junto a los referentes de cada especialidad de la ITF. \n\n\n\n\n\n\n\n¿Cómo me inscribo?Por favor ingrese a ITF-BOOKS.COM para inscribirse. \n\n\n\n¿Cuáles son las fechas y horarios de los Cursos?Los días 4\, 5 y 6 de Febrero de 2022 – Desde las 9:00 am hasta las 6:00 pm. \n\n\n\nIICIKCIAC-Mexico-Invitacion-1Descarga\n\n\n\nContacto: specialcourse@itftkd.sport
URL:https://itftkd.sport/es/event/triple-curso-en-mexico-iicikciac-3/
CATEGORIES:International Adapted Course
ATTACH;FMTTYPE=image/jpeg:https://itftkd.sport/es/wp-content/uploads/sites/7/2022/01/Special-Adapted-Course-Mexico-Pospuesto-800x600-1.jpg
END:VEVENT
END:VCALENDAR