BEGIN:VCALENDAR
VERSION:2.0
PRODID:-//ITF Federación Internacional de Taekwon-Do - ECPv6.15.20//NONSGML v1.0//EN
CALSCALE:GREGORIAN
METHOD:PUBLISH
X-WR-CALNAME:ITF Federación Internacional de Taekwon-Do
X-ORIGINAL-URL:https://itftkd.sport/es
X-WR-CALDESC:Eventos para ITF Federación Internacional de Taekwon-Do
REFRESH-INTERVAL;VALUE=DURATION:PT1H
X-Robots-Tag:noindex
X-PUBLISHED-TTL:PT1H
BEGIN:VTIMEZONE
TZID:Europe/Madrid
BEGIN:DAYLIGHT
TZOFFSETFROM:+0100
TZOFFSETTO:+0200
TZNAME:CEST
DTSTART:20230326T010000
END:DAYLIGHT
BEGIN:STANDARD
TZOFFSETFROM:+0200
TZOFFSETTO:+0100
TZNAME:CET
DTSTART:20231029T010000
END:STANDARD
BEGIN:DAYLIGHT
TZOFFSETFROM:+0100
TZOFFSETTO:+0200
TZNAME:CEST
DTSTART:20240331T010000
END:DAYLIGHT
BEGIN:STANDARD
TZOFFSETFROM:+0200
TZOFFSETTO:+0100
TZNAME:CET
DTSTART:20241027T010000
END:STANDARD
BEGIN:DAYLIGHT
TZOFFSETFROM:+0100
TZOFFSETTO:+0200
TZNAME:CEST
DTSTART:20250330T010000
END:DAYLIGHT
BEGIN:STANDARD
TZOFFSETFROM:+0200
TZOFFSETTO:+0100
TZNAME:CET
DTSTART:20251026T010000
END:STANDARD
BEGIN:DAYLIGHT
TZOFFSETFROM:+0100
TZOFFSETTO:+0200
TZNAME:CEST
DTSTART:20260329T010000
END:DAYLIGHT
BEGIN:STANDARD
TZOFFSETFROM:+0200
TZOFFSETTO:+0100
TZNAME:CET
DTSTART:20261025T010000
END:STANDARD
BEGIN:DAYLIGHT
TZOFFSETFROM:+0100
TZOFFSETTO:+0200
TZNAME:CEST
DTSTART:20270328T010000
END:DAYLIGHT
BEGIN:STANDARD
TZOFFSETFROM:+0200
TZOFFSETTO:+0100
TZNAME:CET
DTSTART:20271031T010000
END:STANDARD
END:VTIMEZONE
BEGIN:VEVENT
DTSTART;TZID=Europe/Madrid:20240316T080000
DTEND;TZID=Europe/Madrid:20240317T170000
DTSTAMP:20260421T213314
CREATED:20240103T190527Z
LAST-MODIFIED:20240115T111259Z
UID:10000447-1710576000-1710694800@itftkd.sport
SUMMARY:7th NI-KKO ROMA OPEN TAEKWON-DO ITF
DESCRIPTION:En colaboración con la Federación Italiana de Taekwon-Do FITAE-ITF\, le invitamos al 7º NI-KKO ROMA OPEN TAEKWON-DO ITF que se celebrará en el Pabellón de Deportes PALATORRINO\, Via Fiume Giallo 47\, Roma. \n\n\n\nEl sábado 16 de marzo de 2024\, según el siguiente programa:10.00-19.00 hrs Junior\, Senior y Veteranos / Competición individual y por equiposEl domingo 17 de marzo de 2024\, según el siguiente programa10.00-17.00 hrs Pollitos\, Dragones\, Infantiles y Pre-Juniors / Competición Individual y por Equipos \n\n\n\nEl sistema electrónico de puntuación y las grandes pantallas para la competición de cinturones negros están disponibles para tener un enfoque profesional. \n\n\n\nEl cierre de la inscripción en línea será el miércoles 13 de marzo de 2024\, a las 23:00 horas. \n\n\n\nInscripción en www.handlesport.com \n\n\n\nInfo: extremefighters1@gmail.com \n\n\n\nOrganizadores: GM Wim Bos\, Master Iagher\, Master Minotti\, Sabum Gentile\, Mrs Mimmocchi \n\n\n\nRoma Open – Official Invitation – March 2024Download
URL:https://itftkd.sport/es/event/7th-ni-kko-roma-open-taekwon-do-itf/
CATEGORIES:Campeonato Regional,Regional Activities
ATTACH;FMTTYPE=image/jpeg:https://itftkd.sport/es/wp-content/uploads/sites/7/2024/01/Highlight-Open-Roma-2024.jpg
END:VEVENT
BEGIN:VEVENT
DTSTART;TZID=Europe/Madrid:20240417T080000
DTEND;TZID=Europe/Madrid:20240421T170000
DTSTAMP:20260421T213314
CREATED:20231203T130702Z
LAST-MODIFIED:20240103T190952Z
UID:10000448-1713340800-1713718800@itftkd.sport
SUMMARY:European Taekwon-Do Championship 2024 in Poland
DESCRIPTION:El 38º Campeonato de Europa de Taekwon-Do\, el 29º Campeonato de Europa Junior de Taekwon-Do y el 1º Campeonato de Europa Pre-Junior de Taekwon-Do se celebrarán del 17 al 21 de abril de 2024 en Lublin\, Polonia. \n\n\n\nLa competencia tendrá lugar en la Sala de Deportes y Entretenimiento de la Universidad Médica de Lublin\, 15 Chodźki Str.\, 20-093 Lublin. \n\n\n\nPara la comodidad de los participantes y una comunicación eficiente\, hay un perfil FB para el Campeonato Europeo de Taekwon-Do 2024 en: https://www.facebook.com/profile.php?id=61553700399268.Los animamos a que le den me gusta y sigan el perfil. \n\n\n\nLas estadísticas y los resultados estarán disponibles en SportData\, que se abrirá el 1 de diciembre de 2023.Adults: https://www.sportdata.org/taekwondo_itf/set-online/veranstaltung_info_main.php?active_menu=calendar&vernr=475#a_eventhead \n\n\n\nJuniors: https://www.sportdata.org/taekwondo_itf/set-online/veranstaltung_info_main.php?active_menu=calendar&vernr=476#a_eventhead \n\n\n\nPre-Juniors: https://www.sportdata.org/taekwondo_itf/set-online/veranstaltung_info_main.php?active_menu=calendar&vernr=477#a_eventhead \n\n\n\nLos campeonatos están abiertos a todas las asociaciones nacionales afiliadas a la All Europe Taekwon-Do Federation. \n\n\n\nEsperamos verlos en Lublin\, la Ciudad de la Inspiración\, en abril de 2024. \n\n\n\n\n\n\n\n\n\nComité Organizador
URL:https://itftkd.sport/es/event/european-taekwon-do-championship-2024-in-poland/
CATEGORIES:Campeonato Continental
ATTACH;FMTTYPE=image/jpeg:https://itftkd.sport/es/wp-content/uploads/sites/7/2023/12/Highlighit-Euros-2024-Poland.jpg
END:VEVENT
BEGIN:VEVENT
DTSTART;TZID=Europe/Madrid:20240519T080000
DTEND;TZID=Europe/Madrid:20240519T170000
DTSTAMP:20260421T213314
CREATED:20231129T200222Z
LAST-MODIFIED:20240103T235827Z
UID:10000450-1716105600-1716138000@itftkd.sport
SUMMARY:THE ANXUR BATTLE 2024
DESCRIPTION:La Batalla Anxur 2024 – Campeonato Abierto de Taekwon-Do19 de mayo de 2024 – Palacio de Deportes PalaCarucci\, Viale Europa\, Terracina (LT)\, Italia \n\n\n\nCompetencia abierta a todas las categorías y cinturonesLa inscripción para este evento debe hacerse en línea a través de www.handlesport.comInformación: sia-terracina@iperadsl.it – sia.terracina@gmail.comCierre de la inscripción web el 22 de mayo de 2024 a las 23.00 horas \n\n\n\n\n\n\n\n01 English invitation Open Taekwon-do ITF Tournament Anxur Battle 19th May 2024_v2Download\n\n\n\n03 Accomodations Hotels Informations Open ASI Taekwon-do ITF Anxur Battle 19 th May 2024Download
URL:https://itftkd.sport/es/event/the-anxur-battle-2024/
CATEGORIES:Campeonato Regional,Regional Activities
ATTACH;FMTTYPE=image/jpeg:https://itftkd.sport/es/wp-content/uploads/sites/7/2023/11/anxur-new-2024_800x600.jpg
END:VEVENT
BEGIN:VEVENT
DTSTART;TZID=Europe/Madrid:20240624T080000
DTEND;TZID=Europe/Madrid:20240630T170000
DTSTAMP:20260421T213314
CREATED:20240318T164328Z
LAST-MODIFIED:20240319T151950Z
UID:10000458-1719216000-1719766800@itftkd.sport
SUMMARY:IX Campeonato Centro y Sudamericano
DESCRIPTION:IX Campeonato Centro y Sudamericano de Taekwon-Do ITF_Descarga
URL:https://itftkd.sport/es/event/ix-campeonato-centro-y-sudamericano/
CATEGORIES:Campeonato Regional
ATTACH;FMTTYPE=image/jpeg:https://itftkd.sport/es/wp-content/uploads/sites/7/2024/03/Featured-Image-Centro-Sudamericano.jpg
END:VEVENT
BEGIN:VEVENT
DTSTART;TZID=Europe/Madrid:20241028T080000
DTEND;TZID=Europe/Madrid:20241102T170000
DTSTAMP:20260421T213314
CREATED:20240218T201051Z
LAST-MODIFIED:20241003T140740Z
UID:10000457-1730102400-1730566800@itftkd.sport
SUMMARY:9º Copa del Mundo\, Mar del Plata - Argentina
DESCRIPTION:Invitación-WC 2024Descarga\n\n\n\n2024 World Cup Umpire COUNTRY APPLICATION.v20-FEB-2024Descarga\n\n\n\nWC 2024 Accommodation Booking Info ESP GRALDescarga
URL:https://itftkd.sport/es/event/9o-copa-del-mundo-mar-del-plata-argentina/
CATEGORIES:Copa del Mundo
ATTACH;FMTTYPE=image/jpeg:https://itftkd.sport/es/wp-content/uploads/sites/7/2024/02/Flyer-redes-Ok.jpg
END:VEVENT
BEGIN:VEVENT
DTSTART;TZID=Europe/Madrid:20241028T080000
DTEND;TZID=Europe/Madrid:20241103T170000
DTSTAMP:20260421T213315
CREATED:20240906T143543Z
LAST-MODIFIED:20240906T143727Z
UID:10000463-1730102400-1730653200@itftkd.sport
SUMMARY:1ª Competición de Taekwon-Do Adaptado ITF Copa del Mundo 2024
DESCRIPTION:República Argentina\, septiembre 2024 \nEstimados Grandes Maestros\, Maestros e Instructores\, \nEs un honor invitarles a participar en la «Primera Copa del Mundo de Taekwon-Do Adaptado ITF»\, un evento que marcará un hito en la historia de la ITF. Esta histórica competencia se llevará a cabo en el marco de la «9ª Copa del Mundo de Taekwon-Do Mar del Plata 2024»\, que se realizará en el Estadio Polideportivo Islas Malvinas\, Av. Juan B. Justo 3525\, Mar del Plata\, Buenos Aires\, Argentina\, del 28 de octubre al 3 de noviembre de 2024. \nPor primera vez en la historia de la ITF\, se celebrará una competencia exclusivamente para atletas con discapacidades\, ya sean físicas\, motoras\, sensoriales o intelectuales. Esta edición contará con la categoría de Formas Individuales\, abarcando desde 4to Kup hasta 4to Dan. Las divisiones por edad serán Pre-Junior\, Junior\, Adulto y Senior Avanzado. \nLas divisiones por edad serán las siguientes:\n– Pre-Junior: nacidos entre 2009 y 2011\n– Junior: nacidos entre 2006 y 2008\n– Adulto: nacidos entre 1988 y 2005\n– Senior: nacidos en 1987 o antes \nDespués del registro\, las categorías se dividirán según el nivel de cinturón y los diferentes grados de discapacidad. En caso de haber menos de 4 competidores en una categoría\, estas podrán ser fusionadas. \nLa evaluación del grado de discapacidad de cada competidor será realizada por la *Presidenta del Comité de Inclusión\, la Sra. Anabel Vicario\, junto con su equipo especializado. Todos los participantes deberán someterse a la revisión del comité de evaluación\, presentando su certificado médico de aptitud para la competencia\, en el que se indique claramente el tipo y grado de discapacidad. Además\, será necesario presentar el **Certificado Único de Discapacidad (CUD)*. La admisión y clasificación final de cada competidor será determinada por la Sra. Anabel Vicario\, y su decisión será definitiva e irrevocable. \nLa competencia será supervisada por un equipo especial de árbitros certificados en Taekwon-Do Adaptado\, bajo la dirección del Gran Maestro Abelardo Benzaquén\, Presidente del Comité de Árbitros. \nLas inscripciones estarán abiertas hasta el 5 de octubre de 2024 a través de la plataforma *sportdata.org* en Sportdata mediante la base de datos en línea de ITF (https://data.itftkd.sport). Cada inscripción deberá realizarse a través del club que participe en la Copa del Mundo\, siempre que tenga acceso a la plataforma\, o a través de la Asociación Nacional o Aliada de cada país. El CUD deberá ser enviado por correo electrónico a lorosduek@itftkd.org\, indicando el número de inscripción correspondiente. \nLa cuota de inscripción es de *USD 100*\, y no se aplicarán sanciones por alojamiento fuera de los hoteles oficiales. \nConfiamos en que este evento establecerá un nuevo estándar en nuestra comunidad\, permitiendo a los atletas con discapacidades demostrar su talento y espíritu en un escenario internacional. \n*Les saludamos afectuosamente y esperamos contar con su participación en este evento histórico para la ITF y nuestros atletas con discapacidades.* \nGM Abelardo Benzaquén\nPresidente del Comité de Árbitros \nSbn Anabel Vicario\nPresidenta del Comité de Inclusión
URL:https://itftkd.sport/es/event/1a-competicion-de-taekwon-do-adaptado-itf-copa-del-mundo-2024/
CATEGORIES:Copa del Mundo
ATTACH;FMTTYPE=image/jpeg:https://itftkd.sport/es/wp-content/uploads/sites/7/2024/09/Featured-image-Adapted-TKD-WC-2024.jpg
END:VEVENT
BEGIN:VEVENT
DTSTART;TZID=Europe/Madrid:20250315T093000
DTEND;TZID=Europe/Madrid:20250316T190000
DTSTAMP:20260421T213315
CREATED:20250108T200624Z
LAST-MODIFIED:20250225T115313Z
UID:10000472-1742031000-1742151600@itftkd.sport
SUMMARY:Roma Gladiator Open Taekwon-Do ITF Championship
DESCRIPTION:La presente tiene por objeto invitarle a participar en el ROMA GLADIATOR OPEN Taekwon-Do ITF Championship que se celebrará en Roma\, Italia\, en Sportshall Palatorrino Via Fiume Giallo 47\, organizado por A.S.D. Sparta Pugilato\, en colaboración con el equipo Bos Academy\, asociado a la Federación Italiana de Taekwon-Do FITAE-ITF y AICS (Associazione Italiana Cultura Sport)\, el día: \n\n\n\n Sábado 15 de marzo de 2025\, según el siguiente programa: \n\n\n\n\n09.30-19.00 hrs. Pre-Junior\, Junior y Senior\, Veteranos / Competición individual/Todos los cinturones\n\n\n\n\nDomingo 16 de marzo de 2025\, según el siguiente programa: \n\n\n\n\n10.00-16.00 hrs. Pollitos\, Dragones y Niños / Competición de Formas individual y por equipos / Todos los cinturones\n\n\n\n\nLa inscripción para esta competencia se realiza exclusivamente a través de www.sportdata.org \n\n\n\nCierre de la inscripción en línea Domingo 9 de marzo de 2025 a las 23.00 hrs. \n\n\n\nPresidente de la organización: GM Wim Bos \n\n\n\nEn el archivo adjunto la invitación oficial y el Poster. \n\n\n\nRoma Gladiator Open – Rome\, Italy March 15-16\, 2025 – Official InvitationDownload\n\n\n\nposter ROMA GLADIATOR OPEN 2025Download
URL:https://itftkd.sport/es/event/roma-gladiator-open-taekwon-do-itf-championship/
CATEGORIES:Campeonato Regional
ATTACH;FMTTYPE=image/jpeg:https://itftkd.sport/es/wp-content/uploads/sites/7/2025/01/Featured-Roma-Gladiator-Open-2025.jpg
END:VEVENT
BEGIN:VEVENT
DTSTART;TZID=Europe/Madrid:20250725T090000
DTEND;TZID=Europe/Madrid:20250727T170000
DTSTAMP:20260421T213315
CREATED:20250108T220119Z
LAST-MODIFIED:20250108T220122Z
UID:10000467-1753434000-1753635600@itftkd.sport
SUMMARY:OPEN TKD CENTROAMERICANO Y DEL CARIBE
DESCRIPTION:Grandes Maestros\, Maestros\, Instructores\, Practicantes\, Padres y Público en General. \n\n\n\nTenemos el agrado de dirigirnos a ustedes para hacerle llegar la invitación oficial del “OPEN TKD CENTROAMERICANO Y DEL CARIBE COPA DE LA RESTAURACIÓN 2025”\, que se realizará los días 25\,26 y 27 de julio del 2025 en la Gran Arena del Cibao de la ciudad de Santiago de los Caballeros\, República Dominicana. \n\n\n\n\n\n\n\nContamos con la experiencia necesaria para asegurar el mejor nivel y desarrollo de un campeonato de gran magnitud\, y desde ya estamos coordinando cada detalle para lograr un evento a la altura de lo que nuestra ITF y nuestro país se merecen. \n\n\n\nEl “OPEN TKD CENTROAMERICANO Y DEL CARIBE COPA DE LA RESTAURACIÓN 2025”\,” es un evento abierto para todas las líneas ITF\, y artes marciales afines\, donde se competirá desde los 4 años en adelante y desde cinturón blanco en adelante en las modalidades: Combate individual y por equipo\, Forma individual y por equipo\, Técnicas Especiales\, Habilidades Motrices y exclusivamente para cintas negras\, Rompimiento de Fuerza. \n\n\n\nSe utilizará un sistema Online de inscripción\, que ayudará al desarrollo ágil y ordenado del evento. Los Jueces y Árbitros trabajarán con el sistema de puntuación electrónica en 4 áreas simultáneas. \n\n\n\nSe ha organizado este evento pensando en todas las categorías\, desde los seis años en adelante\, previendo divisiones de edad\, sexo y cinturones para proteger al máximo a los competidores. \n\n\n\nSin dudarlo\, Santiago de los Caballeros es una ciudad turística reconocida internacionalmente\, y cuenta con servicios de alojamiento\, gastronomía y esparcimiento muy cercanos al lugar de competencia. \n\n\n\nLo saludamos cordial y respetuosamente. \n\n\n\nMiembros del Comité Organizador: \n\n\n\n• Lic. Fausto Castillo• Lic. Bolívar García• Sabunim Daniel Vivas.• Lic. Vladimil Pujols \n\n\n\nPAQUETE INVITACIONAL OPEN TKD CENTROAMERICANO Y DEL CARIBE COPA RESTAURACION VERSION ESPAÑOL USDDescarga
URL:https://itftkd.sport/es/event/open-tkd-centroamericano-y-del-caribe/
CATEGORIES:Campeonato Regional
ATTACH;FMTTYPE=image/jpeg:https://itftkd.sport/es/wp-content/uploads/sites/7/2025/01/Featured-Open-TKD-Centramericano-y-del-Caribe-2025.jpg
END:VEVENT
BEGIN:VEVENT
DTSTART;TZID=Europe/Madrid:20250815T000000
DTEND;TZID=Europe/Madrid:20250817T235959
DTSTAMP:20260421T213315
CREATED:20250617T132916Z
LAST-MODIFIED:20250726T165852Z
UID:10000483-1755216000-1755475199@itftkd.sport
SUMMARY:3er Campeonato de África
DESCRIPTION:3er Campeonato de África en Addis Abeba (Etiopía) \n\n\n\nEstimados Maestros\, Instructores\, Competidores\,En nombre de la Asociación Internacional Etíope de Taekwon-Do y de la Federación Africana de Taekwon-Do\, tenemos el gran placer de invitarles al 3er Campeonato Africano de Taekwon-Do\,que se celebrará del 15 al 17 de agosto de 2025 en Addis Abeba\, Etiopía\, la Tierra de Origen. \n\n\n\nFechas importantes: \n\n\n\n15 de julio de 2025 – Fecha límite para la inscripción en línea de participantes\, competidores y árbitros.15 de julio de 2025. \n\n\n\n14 de agosto de 2025– Llegada a Addis Abeba\, Etiopía. \n\n\n\n15 de agosto de 2025 – Fecha límite para el pago del 100%. \n\n\n\n15 de agosto de 2025 – Pesaje y curso de actualización en línea para árbitros. \n\n\n\n17 de agosto de 2025 – Congreso de la Federación Africana de Taekwon-Do. \n\n\n\n16 y 17 de agosto de 2025 – 3er Campeonato de África \n\n\n\nMe gustaría dar la bienvenida a nuestro país a todos los Maestros\, Instructores\, Competidores y Practicantes de Taekwon-Do para que disfruten de una experiencia increíble que les ofrece el Gimnasio Ras Hailu de la ciudad de Addis Abeba. \n\n\n\nEsperamos sinceramente que el 3er Campeonato Africano de Taekwon-Do sea un éxito para todos los competidores\, entrenadores\, árbitros\, personalidades y seguidores. \n\n\n\nEsperamos daros la bienvenida a todos en Addis Abeba\, Etiopía\, en agosto de 2025. \n\n\n\nSuyos en el Taekwon-Do\, \n\n\n\nSabunim Getachew Shiferaw\, Presidente de la Asociación Internacional Etíope de Taekwon-Do \n\n\n\neitatkd@yahoo.com Sabum Getachew Shiferaw\, \n\n\n\ntamratf@gmail.com Tamrat Feyessa. \n\n\n\nInvitation 3rd African TKD Championship (1)Download
URL:https://itftkd.sport/es/event/3er-campeonato-de-africa/
CATEGORIES:Campeonato Regional
ATTACH;FMTTYPE=image/jpeg:https://itftkd.sport/es/wp-content/uploads/sites/7/2025/06/Featured-3rd-African-ITF-Championships-Agu-2025.jpg
END:VEVENT
BEGIN:VEVENT
DTSTART;TZID=Europe/Madrid:20260316T200000
DTEND;TZID=Europe/Madrid:20260316T220000
DTSTAMP:20260421T213315
CREATED:20260311T053910Z
LAST-MODIFIED:20260311T053914Z
UID:10000512-1773691200-1773698400@itftkd.sport
SUMMARY:World Cup 2026 - Reunión Informativa Online
DESCRIPTION:Los planes oficiales para la Copa del Mundo de Taekwon-Do ITF 2026\, que se llevará a cabo del 28 de septiembre al 4 de octubre de 2026 en España\, están entrando en su siguiente fase. \n\n\n\nCon el fin de asegurar que todos los países miembros y clubes estén plenamente preparados para el próximo torneo\, el Comité Organizador tiene el gran placer de invitar a la comunidad global de Taekwon-Do a una serie de reuniones informativas virtuales de vital importancia. \n\n\n\nLas sesiones están diseñadas para adaptarse a la comunidad internacional y se llevarán a cabo en dos horarios distintos el lunes 16 de marzo: \n\n\n\n20:00 CET (Hora de España): Sesión para participantes de habla hispana. La Federación Internacional de Taekwon-Do le invita a una reunión de Zoom programada. Tema: Copa del Mundo de Taekwon-Do ITF – Reunión Informativa Online – Español Unirse a la reunión Zoom: https://us06web.zoom.us/j/82665840125?pwd=klY4XDlGJk6r9RX6UVFaU5la94mpIc.1  \n\n\n\n21:00 CET (Hora de España): Sesión para participantes de habla inglesa.La Federación Internacional de Taekwon-Do le invita a una reunión de Zoom programada.Tema: Copa del Mundo de Taekwon-Do ITF – Reunión Informativa Online – InglésUnirse a la reunión Zoom: https://us06web.zoom.us/j/83825718829?pwd=J4mx1aaTaEFSjpdCNWw49WDAnnATaf.1 \n\n\n\nPropósito y Coordinación El objetivo principal de estos seminarios web es proporcionar información detallada sobre la logística del evento\, responder preguntas directas de los clubes y federaciones nacionales\, y garantizar una coordinación fluida de cara a la competición. \n\n\n\nEl Comité Organizador también ha extendido la invitación a los Comités pertinentes de ITF para que estén presentes. Esto permitirá que las dudas técnicas sean aclaradas directamente por los expertos involucrados\, garantizando total transparencia y claridad para todos los asistentes. \n\n\n\nAl unirse a estas reuniones y reunir a atletas\, instructores y oficiales en estas sesiones\, el objetivo es construir una base sólida para lo que promete ser una histórica Copa del Mundo de Taekwon-Do 2026 en Benidorm. \n\n\n\nNota para los participantes: Se anima a todos los países miembros y clubes interesados a unirse a la sesión que coincida con su idioma de preferencia para mantenerse al día con los últimos requisitos y detalles del evento. \n\n\n\nSitio web oficial:🔗 worldcup2026.taekwondoitf.es Instagram oficial: https://www.instagram.com/itfworldcup_benidorm2026 \n\n\n\nEsperamos contar con su presencia el 16 de marzo vía Zoom y verles en otoño en Benidorm.
URL:https://itftkd.sport/es/event/world-cup-2026-online-information-meeting/
CATEGORIES:Copa del Mundo
ATTACH;FMTTYPE=image/jpeg:https://itftkd.sport/es/wp-content/uploads/sites/7/2025/12/WorldCup2026_feature.jpg
END:VEVENT
BEGIN:VEVENT
DTSTART;TZID=Europe/Madrid:20260412T000000
DTEND;TZID=Europe/Madrid:20260419T235959
DTSTAMP:20260421T213315
CREATED:20251218T080146Z
LAST-MODIFIED:20251218T080149Z
UID:10000502-1775952000-1776643199@itftkd.sport
SUMMARY:AETF Campeonatos de Europa 2026
DESCRIPTION:Más información en la web de la AETF.
URL:https://itftkd.sport/es/event/aetf-european-championships-2026/
CATEGORIES:Campeonato Continental,Campeonatos
ATTACH;FMTTYPE=image/jpeg:https://itftkd.sport/es/wp-content/uploads/sites/7/2025/12/20260412_AETF_Euros_feature.jpg
END:VEVENT
BEGIN:VEVENT
DTSTART;TZID=Europe/Madrid:20260622T000000
DTEND;TZID=Europe/Madrid:20260627T235959
DTSTAMP:20260421T213315
CREATED:20251218T074948Z
LAST-MODIFIED:20251218T074950Z
UID:10000499-1782086400-1782604799@itftkd.sport
SUMMARY:Campeonato Sudamericano 2026
DESCRIPTION:🏔🇵🇪 EL REGRESO A LA CUNA DE LAS LEYENDAS 🇵🇪🏔 \n\n\n\nEl continente se reúne una vez más en suelo peruano.⏳ Tras el inolvidable Campeonato Sudamericano de 2017\, Lima se prepara nuevamente para recibir a los campeones en el 10.º CAMPEONATO SUDAMERICANO DE TAEKWON-DO ITF. \n\n\n\n📅 22–27 de junio de 2026📍 Lima\, Perú \n\n\n\n🔥 Un regreso largamente esperado.🔥 Un país que combina historia milenaria con pasión deportiva.🔥 El lugar donde los guerreros modernos del tatami honrarán las tradiciones y construirán el futuro del Taekwon-Do Sudamericano. \n\n\n\nDesde la grandeza de los Incas hasta la energía de cada combate\, Perú será el escenario donde la unidad\, la disciplina y el orgullo sudamericano brillarán más que nunca. \n\n\n\n💪 La cuenta regresiva ha comenzado. ¡El espíritu del Taekwon-Do nos llama de vuelta a Lima! \n\n\n\n¡Más información próximamente! \n\n\n\n#SouthAmericanITF2026 #ReturnToTheCradle #Lima2026 #TaekwonDoITF #SouthAmericanPride
URL:https://itftkd.sport/es/event/campeonato-sudamericano-2026/
CATEGORIES:Campeonato Continental,Campeonatos
ATTACH;FMTTYPE=image/jpeg:https://itftkd.sport/es/wp-content/uploads/sites/7/2025/12/20260622_CampeonatoSudamericano_feature.jpg
END:VEVENT
BEGIN:VEVENT
DTSTART;TZID=Europe/Madrid:20260928T000000
DTEND;TZID=Europe/Madrid:20261004T235959
DTSTAMP:20260421T213315
CREATED:20251218T075616Z
LAST-MODIFIED:20260318T152616Z
UID:10000497-1790553600-1791158399@itftkd.sport
SUMMARY:ITF World Cup 2026
DESCRIPTION:La Copa del Mundo ITF 2026 será organizada por España ITF Taekwon-Do bajo la supervisión del Maestro Paco Ferrando. \n\n\n\nCorreo electrónico del organizador: infoITFWC2026@taekwondoitf.esSitio web del organizador: https://worldcup2026.taekwondoitf.esInstagram de la Copa del Mundo ITF 2026 \n\n\n\nDías oficiales de competición: desde el martes 29 de septiembre hasta el sábado 3 de octubre de 2026 \n\n\n\nLugar: Palau Liliana Steiner – L’Illa de Benidorm \n\n\n\nLa invitación oficial y la información sobre el alojamiento se encuentran a continuación: \n\n\n\nINVITATION-WORLD-CUP-2026-published_v4.1Download\n\n\n\nWORLD-CUP-2026-Declaration_of_consentDownload\n\n\n\nINSCRIPCIÓN DE ÁRBITROS 2026v1 – GUÍA PASO A PASODownload\n\n\n\nWORLD-CUP-2026-ACCOMMODATION-v3Download\n\n\n\nAPPENDIX 1 – VISA request form v2Download\n\n\n\nAPPENDIX 2 – Hotel form v2.2Download\n\n\n\nAPPENDIX-4-accommodation-form v2.2Download
URL:https://itftkd.sport/es/event/itf-world-cup-2026/
CATEGORIES:Campeonatos,Copa del Mundo,test
ATTACH;FMTTYPE=image/jpeg:https://itftkd.sport/es/wp-content/uploads/sites/7/2025/12/WorldCup2026_feature.jpg
END:VEVENT
END:VCALENDAR