BEGIN:VCALENDAR
VERSION:2.0
PRODID:-//ITF Federación Internacional de Taekwon-Do - ECPv6.15.20//NONSGML v1.0//EN
CALSCALE:GREGORIAN
METHOD:PUBLISH
X-ORIGINAL-URL:https://itftkd.sport/es
X-WR-CALDESC:Eventos para ITF Federación Internacional de Taekwon-Do
REFRESH-INTERVAL;VALUE=DURATION:PT1H
X-Robots-Tag:noindex
X-PUBLISHED-TTL:PT1H
BEGIN:VTIMEZONE
TZID:Europe/Madrid
BEGIN:DAYLIGHT
TZOFFSETFROM:+0100
TZOFFSETTO:+0200
TZNAME:CEST
DTSTART:20210328T010000
END:DAYLIGHT
BEGIN:STANDARD
TZOFFSETFROM:+0200
TZOFFSETTO:+0100
TZNAME:CET
DTSTART:20211031T010000
END:STANDARD
BEGIN:DAYLIGHT
TZOFFSETFROM:+0100
TZOFFSETTO:+0200
TZNAME:CEST
DTSTART:20220327T010000
END:DAYLIGHT
BEGIN:STANDARD
TZOFFSETFROM:+0200
TZOFFSETTO:+0100
TZNAME:CET
DTSTART:20221030T010000
END:STANDARD
BEGIN:DAYLIGHT
TZOFFSETFROM:+0100
TZOFFSETTO:+0200
TZNAME:CEST
DTSTART:20230326T010000
END:DAYLIGHT
BEGIN:STANDARD
TZOFFSETFROM:+0200
TZOFFSETTO:+0100
TZNAME:CET
DTSTART:20231029T010000
END:STANDARD
END:VTIMEZONE
BEGIN:VEVENT
DTSTART;TZID=Europe/Madrid:20221001T080000
DTEND;TZID=Europe/Madrid:20221009T170000
DTSTAMP:20260424T045418
CREATED:20210526T165515Z
LAST-MODIFIED:20220623T124843Z
UID:10000378-1664611200-1665334800@itftkd.sport
SUMMARY:VIII Taekwon-Do World Cup\, Koper Eslovenia\, 2022
DESCRIPTION:ITF World Cup 2022\, Koper Slovenia – 1.- 9. October\, 2022.  \n\n\n\n\n\n\n\nVisite la página web oficial: https://itfworldcup2022.si/ donde podrá encontrar información sobre Formularios tales como: solicitud de visa\, formulario de reserva preliminar y traslado al hotel.  \n\n\n\nESP-2022-06-20-World-Cup-Taekwon-Do-ITF-2020-Official-Invitation_OptimizeDescarga
URL:https://itftkd.sport/es/event/viii-taekwon-do-world-cup/
CATEGORIES:Copa del Mundo
ATTACH;FMTTYPE=image/jpeg:https://itftkd.sport/es/wp-content/uploads/sites/7/2021/05/banner-800x600-itfwc2022.jpg
END:VEVENT
END:VCALENDAR