BEGIN:VCALENDAR
VERSION:2.0
PRODID:-//ITF Federación Internacional de Taekwon-Do - ECPv6.15.20//NONSGML v1.0//EN
CALSCALE:GREGORIAN
METHOD:PUBLISH
X-ORIGINAL-URL:https://itftkd.sport/es
X-WR-CALDESC:Eventos para ITF Federación Internacional de Taekwon-Do
REFRESH-INTERVAL;VALUE=DURATION:PT1H
X-Robots-Tag:noindex
X-PUBLISHED-TTL:PT1H
BEGIN:VTIMEZONE
TZID:Europe/Madrid
BEGIN:DAYLIGHT
TZOFFSETFROM:+0100
TZOFFSETTO:+0200
TZNAME:CEST
DTSTART:20210328T010000
END:DAYLIGHT
BEGIN:STANDARD
TZOFFSETFROM:+0200
TZOFFSETTO:+0100
TZNAME:CET
DTSTART:20211031T010000
END:STANDARD
BEGIN:DAYLIGHT
TZOFFSETFROM:+0100
TZOFFSETTO:+0200
TZNAME:CEST
DTSTART:20220327T010000
END:DAYLIGHT
BEGIN:STANDARD
TZOFFSETFROM:+0200
TZOFFSETTO:+0100
TZNAME:CET
DTSTART:20221030T010000
END:STANDARD
BEGIN:DAYLIGHT
TZOFFSETFROM:+0100
TZOFFSETTO:+0200
TZNAME:CEST
DTSTART:20230326T010000
END:DAYLIGHT
BEGIN:STANDARD
TZOFFSETFROM:+0200
TZOFFSETTO:+0100
TZNAME:CET
DTSTART:20231029T010000
END:STANDARD
END:VTIMEZONE
BEGIN:VEVENT
DTSTART;TZID=Europe/Madrid:20220810T000000
DTEND;TZID=Europe/Madrid:20220813T235959
DTSTAMP:20260424T140014
CREATED:20210909T154100Z
LAST-MODIFIED:20220303T133641Z
UID:10000240-1660089600-1660435199@itftkd.sport
SUMMARY:8º Campeonato Centro Sudamericano
DESCRIPTION:Estimados Grandes Maestros\, Maestros\, Instructores y Alumnos \n\n\n\nLa Federación Brasileira de Taekwon-Do ITF\, tiene el placer de invitarlos a participar del 8° Campeonato Centro e Sudamericano de Taekwon-Do ITF\, que será realizado desde el 10 al 13 de Agosto de 2022 en el Gimnasio Costa Cavalcante en Foz do Iguaçú\, Brasil. \n\n\n\nEl evento será organizado por la Federação Brasileira de Taekwon-Do ITF en colaboración con la Secretaria de Esporte e Lazer de Foz de Iguaçú y Supervisado por la Federación Centro y Sudamericana de Taekwon-Do ITF (FCST). \n\n\n\nAbierto a las escuelas ITF\, los participantes podrán competir: Gup en Forma y Lucha individual\, Dan en Forma\, Lucha\, individual y por equipo. \n\n\n\nEsperamos contar con su presencia. Por un Taekwon-Do mejor Cordialmente\, \n\n\n\nGran Maestro Raúl Sánchez \n\n\n\nOrganizador mestresanchez@outlook.com \n\n\n\n+55 9 22 981 599755 \n\n\n\nPracticantes de Taekwon-Do de la Región\, CSBRASIL2022 los invita a visitar nuestro sitio web https://csbrasil2022.fcstkd-itf.org \n\n\n\nEl GM Raúl Sánchez anfitrión de tan importante evento ha puesto toda su experiencia para formar un equipo de organización que piensa en la satisfacción de todos los actores Competidores\, Coaches\, Jueces\, Colaboradores y Público en General.Un estadio magnifico en un entorno de belleza natural que ofrece Foz de Iguazú\, un punto turístico de excelencia. \n\n\n\n\n\n\n\n\n\nQué información podes encontrar hoy que hace diferente este campeonato de cualquier campeonato anterior que hayas vivido? \n\n\n\n1) INVITACIÓN.EL GM Raúl Sánchez junto al equipo conformado invitan a la región y al mundo a participar de la mayor competencia de los continentes Centro y Sudamericano y les da la Bienvenida a Foz de Iguazú\, Brasil. \n\n\n\n2) REGLAMENTO.Gracias a la ardua labor del comité de UMPIRE de la ITF que dirige el Maestrp Abelardo Benzaquén el reglamento de competencia de este Campeonato Centro y Sudamericano será aplicado por primera vez acorde a las nuevas reglas de la Copa del Mundo aprobadas recientemente por la ITF\, y la FCST\, en concordancia con el organizador del 8vo Centro y Sudamericano de Taekwon-Do ITF.\, GM Raúl Sánchez\, han trabajado para que este Centro y Sudamericano sea el primer campeonato de la región en adoptar el reglamento de ITF\, con algunas adaptaciones\, que en su mayoría contemplan a categorías de edad o de grado que no son contemplados en el reglamento de la Copa del Mundo. \n\n\n\n3) CRONOGRAMAEl sitio web contiene el cronograma del campeonato\, desde las fechas de inicio y fin de inscripción\, días de pesaje y de competencia. etc. \n\n\n\n4) PROPUESTA HOTELERAConoce la selección de hoteles recomendados por la organización del evento que se esmera para asegurarte la mejor experiencia. Esta selección ha contemplado la mejor relación precio/beneficio en toda la gama de la oferta hotelera de Foz de Iguazú. Conócela en nuestro web site y reserva tu hotel mencionando tu participación en el campeonato para acceder a los precios que se encuentran en la cartilla de hoteles que podrás ver o adquirir en la WEB. \n\n\n\n5) TRANSPORTE.Si no sabes como moverte en FOZ\, nosotros te sugerimos ECOFALLS\, la empresa de transporte turístico que te ofrece el mejor servicio de traslado. \n\n\n\n6) CATEGORIA POR EDADPoniendo tu fecha de nacimiento en el sitio podes calcular la edad con la que deberás inscribirte para competir\, dado que la edad que se toma es la que el competidor tenía el 31 de diciembre del año anterior (según las nuevas reglas de ITF). \n\n\n\n7) COMITÉ ORGANIZADOREl comité organizador del 8vo Centro y Sudamericano 2022 esta conformado por un equipo de trabajo altamente profesional y apasionado\, su composición es la siguiente: \n\n\n\nComité OrganizadorOrganizador General………………….: Gran Maestro Raúl Sánchez – Brasil \n\n\n\nOrganizador de Torneos FCST……..: Gran Maestro Omar Merodio. \n\n\n\nDirector Jueces y árbitros de I.T.F.: Maestro Abelardo Benzaquén \n\n\n\nASISTENTES \n\n\n\nMaestro Marcos Sánchez \n\n\n\nAdams Sánchez \n\n\n\nDaniel Martins \n\n\n\nFransisco Carvalho \n\n\n\nGabriel Colina \n\n\n\nGustavo Livon \n\n\n\nVisita seguido nuestro sitio\, tendrás toda la información\, novedades y noticias en un solo lugar.Súmate al 8vo Centro Sudamericano de Taekwon-Do I.T.F. y difundí nuestro sitio en las redes sociales.El primer evento Continental oficial te está esperando.
URL:https://itftkd.sport/es/event/8o-campeonato-centro-sudamericano/
CATEGORIES:Campeonato Regional
ATTACH;FMTTYPE=image/jpeg:https://itftkd.sport/es/wp-content/uploads/sites/7/2022/03/csb2022_flayer_800x600-1.jpg
END:VEVENT
END:VCALENDAR