BEGIN:VCALENDAR
VERSION:2.0
PRODID:-//ITF Federación Internacional de Taekwon-Do - ECPv6.15.20//NONSGML v1.0//EN
CALSCALE:GREGORIAN
METHOD:PUBLISH
X-WR-CALNAME:ITF Federación Internacional de Taekwon-Do
X-ORIGINAL-URL:https://itftkd.sport/es
X-WR-CALDESC:Eventos para ITF Federación Internacional de Taekwon-Do
REFRESH-INTERVAL;VALUE=DURATION:PT1H
X-Robots-Tag:noindex
X-PUBLISHED-TTL:PT1H
BEGIN:VTIMEZONE
TZID:Europe/Madrid
BEGIN:DAYLIGHT
TZOFFSETFROM:+0100
TZOFFSETTO:+0200
TZNAME:CEST
DTSTART:20190331T010000
END:DAYLIGHT
BEGIN:STANDARD
TZOFFSETFROM:+0200
TZOFFSETTO:+0100
TZNAME:CET
DTSTART:20191027T010000
END:STANDARD
BEGIN:DAYLIGHT
TZOFFSETFROM:+0100
TZOFFSETTO:+0200
TZNAME:CEST
DTSTART:20200329T010000
END:DAYLIGHT
BEGIN:STANDARD
TZOFFSETFROM:+0200
TZOFFSETTO:+0100
TZNAME:CET
DTSTART:20201025T010000
END:STANDARD
BEGIN:DAYLIGHT
TZOFFSETFROM:+0100
TZOFFSETTO:+0200
TZNAME:CEST
DTSTART:20210328T010000
END:DAYLIGHT
BEGIN:STANDARD
TZOFFSETFROM:+0200
TZOFFSETTO:+0100
TZNAME:CET
DTSTART:20211031T010000
END:STANDARD
BEGIN:DAYLIGHT
TZOFFSETFROM:+0100
TZOFFSETTO:+0200
TZNAME:CEST
DTSTART:20220327T010000
END:DAYLIGHT
BEGIN:STANDARD
TZOFFSETFROM:+0200
TZOFFSETTO:+0100
TZNAME:CET
DTSTART:20221030T010000
END:STANDARD
BEGIN:DAYLIGHT
TZOFFSETFROM:+0100
TZOFFSETTO:+0200
TZNAME:CEST
DTSTART:20230326T010000
END:DAYLIGHT
BEGIN:STANDARD
TZOFFSETFROM:+0200
TZOFFSETTO:+0100
TZNAME:CET
DTSTART:20231029T010000
END:STANDARD
BEGIN:DAYLIGHT
TZOFFSETFROM:+0100
TZOFFSETTO:+0200
TZNAME:CEST
DTSTART:20240331T010000
END:DAYLIGHT
BEGIN:STANDARD
TZOFFSETFROM:+0200
TZOFFSETTO:+0100
TZNAME:CET
DTSTART:20241027T010000
END:STANDARD
END:VTIMEZONE
BEGIN:VTIMEZONE
TZID:UTC
BEGIN:STANDARD
TZOFFSETFROM:+0000
TZOFFSETTO:+0000
TZNAME:UTC
DTSTART:20200101T000000
END:STANDARD
END:VTIMEZONE
BEGIN:VEVENT
DTSTART;TZID=Europe/Madrid:20200309T080000
DTEND;TZID=Europe/Madrid:20200309T170000
DTSTAMP:20260426T043011
CREATED:20200309T145148Z
LAST-MODIFIED:20200930T212408Z
UID:10000366-1583740800-1583773200@itftkd.sport
SUMMARY:ABIERTO INTERNACIONAL DE CERDEÑA
DESCRIPTION:  \n \nsardinia open invitation click here
URL:https://itftkd.sport/es/event/international-sardinia-open/
CATEGORIES:Regional Activities
END:VEVENT
BEGIN:VEVENT
DTSTART;TZID=Europe/Madrid:20200311T080000
DTEND;TZID=Europe/Madrid:20200311T170000
DTSTAMP:20260426T043011
CREATED:20191129T095005Z
LAST-MODIFIED:20200930T212154Z
UID:10000343-1583913600-1583946000@itftkd.sport
SUMMARY:POSPUESTO debido al COVID-19 - PRÓXIMAMENTE NUEVA FECHA
DESCRIPTION:POSTPONE due to COVID-19 – NEW DATE COMING SOON (Copa Benidorm)\n  \nPara obtener más información\, descargue el siguiente documento: DOSSIER_COPA_BENIDORM_2020 Ingles
URL:https://itftkd.sport/es/event/xii-open-international-taekwon-do-itf-copa-benidorm/
LOCATION:Palau I'illa de Benidorm\, Benidorm\, Alicante\, España
CATEGORIES:Regional Activities
ATTACH;FMTTYPE=:
ORGANIZER;CN="FEST":MAILTO:secretario@taekwondoitf.es
END:VEVENT
BEGIN:VEVENT
DTSTART;TZID=Europe/Madrid:20200321T080000
DTEND;TZID=Europe/Madrid:20200322T170000
DTSTAMP:20260426T043011
CREATED:20200217T175545Z
LAST-MODIFIED:20200930T211422Z
UID:10000360-1584777600-1584896400@itftkd.sport
SUMMARY:ITA Dublin Open International 2020
DESCRIPTION:ITA Dublin Open 2020 Invite \nITA Dublin Open 2020 Individual Entry Form \n 
URL:https://itftkd.sport/es/event/ita-dublin-open-international-2020/
LOCATION:National Indoor Arena\, Dublin\, Irlanda
CATEGORIES:Regional Activities
ATTACH;FMTTYPE=:
END:VEVENT
BEGIN:VEVENT
DTSTART;TZID=Europe/Madrid:20200326T080000
DTEND;TZID=Europe/Madrid:20200326T170000
DTSTAMP:20260426T043011
CREATED:20200206T095712Z
LAST-MODIFIED:20200930T211220Z
UID:10000356-1585209600-1585242000@itftkd.sport
SUMMARY:Cancelado - ITF Barcelona Fujimae Cup
DESCRIPTION:ITF Barcelona Fuji Mae Open Invitation (English)
URL:https://itftkd.sport/es/event/itf-barcelona-fuji-mae-open/
CATEGORIES:Regional Activities
ATTACH;FMTTYPE=:
END:VEVENT
BEGIN:VEVENT
DTSTART;TZID=Europe/Madrid:20200430T080000
DTEND;TZID=Europe/Madrid:20200503T170000
DTSTAMP:20260426T043011
CREATED:20200102T152406Z
LAST-MODIFIED:20200930T210356Z
UID:10000350-1588233600-1588525200@itftkd.sport
SUMMARY:Cancelado - Campeonato Europeo Slovakia 2020
DESCRIPTION:El Junta Directiva de la Federación de Taekwon-Do de toda Europa\, junto con el Comité Organizador de Euros 2020\, por todas las declaraciones vigentes sobre la propagación del Coronavirus COVID-19\, emitidas por la Organización Mundial de la Salud afirma que en la actualidad (12.03.2020) el 35 ° Campeonato Europeo Senior y el 26 ° Campeonato Europeo de Taekwon-Do Juvenil en Bratislava\, Eslovaquia en el término 29.04-3 están cancelados. \n   \n  \nInvitation EUROS 2020 \nwww.euros2020.sk \nhttps://www.facebook.com/euros2020/ \n 
URL:https://itftkd.sport/es/event/european-championship-slovakia-2020/
LOCATION:Sport Hall Elán
CATEGORIES:Campeonatos,Regional Activities
ATTACH;FMTTYPE=image/jpeg:https://itftkd.sport/es/wp-content/uploads/sites/7/2020/01/European-Champ-Cancelled.jpg
END:VEVENT
BEGIN:VEVENT
DTSTART;TZID=Europe/Madrid:20200522T123000
DTEND;TZID=Europe/Madrid:20200522T123000
DTSTAMP:20260426T043011
CREATED:20191206T132635Z
LAST-MODIFIED:20200930T204952Z
UID:10000345-1590150600-1590150600@itftkd.sport
SUMMARY:3er Campamento para lideres GM Trân Triêu Quân
DESCRIPTION:  \n \nPrepárese para formar parte de los nuevos líderes de la ITF.Para obtener más información\, descargue el siguiente documento: 3rd ITF Leadership Camp’s Information \n 
URL:https://itftkd.sport/es/event/third-leadership-camp/
CATEGORIES:Institutional,Regional Activities
ATTACH;FMTTYPE=image/jpeg:https://itftkd.sport/es/wp-content/uploads/sites/7/2019/12/3rd-Leaderships-Camp.jpeg
END:VEVENT
BEGIN:VEVENT
DTSTART;TZID=Europe/Madrid:20200524T170000
DTEND;TZID=Europe/Madrid:20200524T170000
DTSTAMP:20260426T043011
CREATED:20200225T210742Z
LAST-MODIFIED:20200930T204634Z
UID:10000364-1590339600-1590339600@itftkd.sport
SUMMARY:Holland Cup 2020
DESCRIPTION:Estimados (Grandes) Maestros\, Instructores y Competidores: \nNos gustaría invitarlos a la 11ª Copa de Holanda los días 23 y 24 de mayo en Holanda. La Copa de Holanda es bien conocida por su alto nivel de Taekwon-Do ITF\, su gran organización y su hospitalidad. La Copa de Holanda está abierta para todas las edades y graduaciones. \nEl día 11 de la Copa de Holanda\, los competidores pueden competir en Formas (por equipo)\, Combate\, Lucha Pre Establecida\, el desafío Chon-Ji\, Rotura de poder y combate de categoría general. El domingo comenzaremos el día con nuestro evento especial de amistoso por equipos\, en el que invitamos a competidores de clase mundial a competir entre sí. ¡Será espectacular! \nPuede encontrar más información y la invitación en www.hollandcup.net. Dale me gusta a nuestra página oficial de Instagram (hollandcup.tkd) y nuestra página de Facebook (hollandcup.net) para mantenerte actualizado. \n¡Los veremos a todos el 23 y 24 de mayo en Holanda!
URL:https://itftkd.sport/es/event/holland-cup-2020/
CATEGORIES:Regional Activities
ATTACH;FMTTYPE=image/jpeg:https://itftkd.sport/es/wp-content/uploads/sites/7/2020/02/Holland-Cup-2020.jpeg
END:VEVENT
BEGIN:VEVENT
DTSTART;TZID=Europe/Madrid:20200529T080000
DTEND;TZID=Europe/Madrid:20200531T170000
DTSTAMP:20260426T043011
CREATED:20200105T163650Z
LAST-MODIFIED:20200930T203349Z
UID:10000353-1590739200-1590944400@itftkd.sport
SUMMARY:Suspendido - Campeonato Panamericano Chile 2020
DESCRIPTION:
URL:https://itftkd.sport/es/event/panamerican-championship-chile-2020/
CATEGORIES:Campeonatos,Regional Activities
ATTACH;FMTTYPE=image/jpeg:https://itftkd.sport/es/wp-content/uploads/sites/7/2020/01/Panamericano-Chile-Suspended.jpg
END:VEVENT
BEGIN:VEVENT
DTSTART;TZID=Europe/Madrid:20200531T000000
DTEND;TZID=Europe/Madrid:20200531T235959
DTSTAMP:20260426T043011
CREATED:20191112T180157Z
LAST-MODIFIED:20221206T231938Z
UID:10000185-1590883200-1590969599@itftkd.sport
SUMMARY:4th Asia Open
DESCRIPTION:For more information\, please download the following Document: 4th Asia Open Taekwon-Do ITF Championship 2020 – New Delhi\, India – Invitation
URL:https://itftkd.sport/es/event/13164/
CATEGORIES:Regional Activities
ATTACH;FMTTYPE=image/jpeg:https://itftkd.sport/es/wp-content/uploads/sites/7/2019/11/4th-Asia-Open-Regional.jpeg
END:VEVENT
BEGIN:VEVENT
DTSTART;TZID=Europe/Madrid:20200607T170000
DTEND;TZID=Europe/Madrid:20200607T170000
DTSTAMP:20260426T043011
CREATED:20200102T142358Z
LAST-MODIFIED:20200930T202847Z
UID:10000349-1591549200-1591549200@itftkd.sport
SUMMARY:The Anxur Battle
DESCRIPTION:Debido a la pandemia del Coronavirus (COVID-19)\, la fecha ha sido reprogramada para el 7 de junio de 2020. \n \n  \nInvitation The Anxur Battle new date June 7th 2020 \nAccomodation Form The Anxur Battle June 7th 2020  \n 
URL:https://itftkd.sport/es/event/13532/
CATEGORIES:Regional Activities
ATTACH;FMTTYPE=image/jpeg:https://itftkd.sport/es/wp-content/uploads/sites/7/2020/01/WhatsApp-Image-2020-06-03-at-09.00.15.jpeg
END:VEVENT
BEGIN:VEVENT
DTSTART;TZID=Europe/Madrid:20200705T170000
DTEND;TZID=Europe/Madrid:20200705T170000
DTSTAMP:20260426T043011
CREATED:20200103T164714Z
LAST-MODIFIED:20200930T202308Z
UID:10000352-1593968400-1593968400@itftkd.sport
SUMMARY:Extreme Fighters ITF Summer Camp
DESCRIPTION:For complete information\, please download the following Documents: Extreme Fighters ITF Summer Camp 2020 Invitation \n Individual Registration Form
URL:https://itftkd.sport/es/event/extreme-fighters-itf-summer-camp/
CATEGORIES:Regional Activities
ATTACH;FMTTYPE=image/jpeg:https://itftkd.sport/es/wp-content/uploads/sites/7/2020/01/ExtremeCancelled.jpeg
END:VEVENT
BEGIN:VEVENT
DTSTART;TZID=Europe/Madrid:20201202T124936
DTEND;TZID=Europe/Madrid:20201202T124936
DTSTAMP:20260426T043011
CREATED:20201202T114913Z
LAST-MODIFIED:20201202T122045Z
UID:10000215-1606913376-1606913376@itftkd.sport
SUMMARY:Seminario de la ITF y Graduación en Masindi - Uganda
DESCRIPTION:Durante los próximos 5 y 6 de enero de 2021\, a cargo del Maestro Niklas Enander VII dan\, se llevará a cabo un seminario y examen de graduación en la Escuela de Capacitación Policial Kabalye\, en Masindi\, Uganda. \n\n\n\n\n\n\n\nEs importante destacar que el año pasado hubo 5.000 alumnos y que 9 de ellos presentarán el examen de la categoría dan.
URL:https://itftkd.sport/es/event/seminario-de-la-itf-y-graduacion-en-masindi-uganda-2/
CATEGORIES:Regional Activities
ATTACH;FMTTYPE=image/jpeg:https://itftkd.sport/es/wp-content/uploads/sites/7/2020/12/Destacado-ITF-Seminar-Masindi-Uganda.jpg
END:VEVENT
BEGIN:VEVENT
DTSTART;TZID=Europe/Madrid:20201202T125553
DTEND;TZID=Europe/Madrid:20201202T125553
DTSTAMP:20260426T043011
CREATED:20201201T214632Z
LAST-MODIFIED:20201201T214634Z
UID:10000214-1606913753-1606913753@itftkd.sport
SUMMARY:Seminario para Cinturones Negros en Kampala - Uganda
DESCRIPTION:Abierto para todos los cinturones negros e instructores de clubes de la ITF. \n\n\n\nDirigido el Maestro Niklas Enander VII dan\, miembro del Equipo de Desarrollo de África de la ITF.  \n\n\n\n\n\n\n\nContacto: Eddie Alboho +256 702 415964 – realalboho@gmail.com \n\n\n\nBuchunju Sedulaki +256 701 820203 \n\n\n\nRamadhan Khaukha +256 706 181565
URL:https://itftkd.sport/es/event/seminario-para-cinturones-negros-en-kampala-uganda/
CATEGORIES:Regional Activities
ATTACH;FMTTYPE=image/jpeg:https://itftkd.sport/es/wp-content/uploads/sites/7/2020/12/Destacado-Uganda-Seminar-2-3-Jan-2021.jpg
END:VEVENT
BEGIN:VEVENT
DTSTART;TZID=Europe/Madrid:20201228T080000
DTEND;TZID=Europe/Madrid:20201230T170000
DTSTAMP:20260426T043011
CREATED:20201219T141522Z
LAST-MODIFIED:20201219T141641Z
UID:10000210-1609142400-1609347600@itftkd.sport
SUMMARY:Seminario ITF en Kampala - 28-30 de Diciembre de 2020
DESCRIPTION:Seminario ITF en Kampala  28-30 Dec 2020 – Abierto para todos los estudiantes.  \n\n\n\nContactos:  \n\n\n\nEddie Alboho +256 702 415964 – realalboho@gmail.com \n\n\n\nRamadhan Khaukha +256 706 181565
URL:https://itftkd.sport/es/event/semianrio-itf-en-kampala-28-al-30-deciembre-de-2020/
CATEGORIES:Regional Activities
ATTACH;FMTTYPE=image/jpeg:https://itftkd.sport/es/wp-content/uploads/sites/7/2020/12/Kampala-ITF-Seminar-28-30-Dec-2020.jpg
END:VEVENT
BEGIN:VEVENT
DTSTART;TZID=Europe/Madrid:20210105T080000
DTEND;TZID=Europe/Madrid:20210106T170000
DTSTAMP:20260426T043011
CREATED:20201202T125639Z
LAST-MODIFIED:20201202T125702Z
UID:10000202-1609833600-1609952400@itftkd.sport
SUMMARY:Seminario de la ITF y Graduación en Masindi – Uganda
DESCRIPTION:Durante los próximos 5 y 6 de enero de 2021\, a cargo del Maestro Niklas Enander VII dan\, se llevará a cabo un seminario y examen de graduación en la Escuela de Capacitación Policial Kabalye\, en Masindi\, Uganda. \n\n\n\n\n\n\n\nEs importante destacar que el año pasado hubo 5.000 alumnos y que 9 de ellos presentarán el examen de la categoría dan.
URL:https://itftkd.sport/es/event/seminario-de-la-itf-y-graduacion-en-masindi-uganda-3/
CATEGORIES:Regional Activities
ATTACH;FMTTYPE=image/jpeg:https://itftkd.sport/es/wp-content/uploads/sites/7/2020/12/Destacado-ITF-Seminar-Masindi-Uganda.jpg
END:VEVENT
BEGIN:VEVENT
DTSTART;TZID=Europe/Madrid:20210107T080000
DTEND;TZID=Europe/Madrid:20210108T170000
DTSTAMP:20260426T043011
CREATED:20201219T140852Z
LAST-MODIFIED:20201219T140854Z
UID:10000208-1610006400-1610125200@itftkd.sport
SUMMARY:Seminario ITF en Lira 7 y 8 de Enero de 2021
DESCRIPTION:Dirigido por: El Maestro Niklas Enander Instructor Internacional VII Dan y Umpire A\, miembro del equipo para el Desarrollo de África de la ITF.Movimientos fundamentales\, Técnicas de pies\, Combate\, Defensa personal. \n\n\n\nContacto: Maxvell Ogwang 0786-150 018E-Mail: langotkd@gmail.com+256394001411 / +256750503922
URL:https://itftkd.sport/es/event/seminario-itf-en-lira-7-y-8-de-enero-de-2021/
CATEGORIES:Regional Activities
ATTACH;FMTTYPE=image/jpeg:https://itftkd.sport/es/wp-content/uploads/sites/7/2020/12/Lira-ITF-Seminar-7-8-JAn-2021.jpg
END:VEVENT
BEGIN:VEVENT
DTSTART;TZID=UTC:20210220T080000
DTEND;TZID=UTC:20210221T170000
DTSTAMP:20260426T043011
CREATED:20200713T183951Z
LAST-MODIFIED:20201218T224005Z
UID:10000367-1613808000-1613926800@itftkd.sport
SUMMARY:NI-KKO Roma Open Taekwon-Do ITF 2021
DESCRIPTION:En colaboración con la Federación Italiana de Taekwon-Do FITAE-ITF\, los inivitamos al 6th NI-KKO ROMA OPEN TAEKWON-DO ITF 2021 que se llevará a cabo en Roma\, Italia\, del 20 al 21 de febrero de 2021 según el siguiente programa diario: \n\n\n\nSábado 20 de febrero de 2020 – Juniors\, Seniors y Veteranos. \n\n\n\nDomingo 21 de febrero de 2020 – Niños y cadetes. \n\n\n\nPor favor\, recibirá todo lo necesario para asistir al evento NI-KKO ROMA ABIERTO Taekwon-Do ITF. \n\n\n\nEl registro será a través del sistema de handleport.com. El cierre de la inscripción online tendrá lugar el martes 16 de febrero de 2021\, a las 23.00 horas. \n\n\n\nEl sistema de puntuación electrónico y las pantallas grandes estarán disponibles para tener un enfoque profesional. \n\n\n\nLo invitamos a leer el informe de la edición anterior del torneo disponible en el siguiente enlace: https://itfeurope.org/post/success-at-the-5th-ni-kko-roma-open \n\n\n\nEsperamos encontrarnos con usted en la histórica ciudad de Roma.
URL:https://itftkd.sport/es/event/ni-kko-roma-open-taekwon-do-itf-202/
LOCATION:Palatorrino\, Via Fiume Giallo\, 47\, Roma\, Italy
CATEGORIES:Regional Activities
ATTACH;FMTTYPE=image/jpeg:https://itftkd.sport/es/wp-content/uploads/sites/7/2020/12/NIKKO-Roma-Open-2021-800x600-px-1.jpg
ORGANIZER;CN="The Extremefighters Team":MAILTO:extremefighters1@gmail.com
END:VEVENT
BEGIN:VEVENT
DTSTART;TZID=Europe/Madrid:20210514T200000
DTEND;TZID=Europe/Madrid:20210514T220000
DTSTAMP:20260426T043011
CREATED:20210429T011425Z
LAST-MODIFIED:20210429T011459Z
UID:10000376-1621022400-1621029600@itftkd.sport
SUMMARY:Seminario online para Árbitros de Irán
DESCRIPTION:
URL:https://itftkd.sport/es/event/seminario-en-linea-para-arbitros-de-iran/
CATEGORIES:Regional Activities
ATTACH;FMTTYPE=image/jpeg:https://itftkd.sport/es/wp-content/uploads/sites/7/2021/04/Featured-Image-Iran-Umpire-Online-Seminar-May-2021.jpg
END:VEVENT
BEGIN:VEVENT
DTSTART;TZID=Europe/Madrid:20210606T150000
DTEND;TZID=Europe/Madrid:20210606T170000
DTSTAMP:20260426T043011
CREATED:20210505T180808Z
LAST-MODIFIED:20210529T150454Z
UID:10000377-1622991600-1622998800@itftkd.sport
SUMMARY:Primer Fuji Mae Tour Online
DESCRIPTION:Primer Fuji Mae Tour Online con el Maestro Jurke Jedut & Sabum Nim Leo Oros Duek Invitado especial Maestro Jarosław Suska. \n\n\n\nPara más información e inscripción\, visite: itf-books.com
URL:https://itftkd.sport/es/event/primer-fuji-mae-tour-online/
CATEGORIES:Regional Activities
ATTACH;FMTTYPE=image/jpeg:https://itftkd.sport/es/wp-content/uploads/sites/7/2021/05/First-Fuji-Mae-Tour-Online-800x600-1.jpg
END:VEVENT
BEGIN:VEVENT
DTSTART;TZID=Europe/Madrid:20210723T100000
DTEND;TZID=Europe/Madrid:20210725T170000
DTSTAMP:20260426T043011
CREATED:20210701T014923Z
LAST-MODIFIED:20210701T015634Z
UID:10000386-1627034400-1627232400@itftkd.sport
SUMMARY:Seminario de Taekwon-Do ITF en Goma\, República Democrática del Congo
DESCRIPTION:
URL:https://itftkd.sport/es/event/seminario-de-taekwon-do-itf-en-goma-republica-democratica-del-congo/
CATEGORIES:Regional Activities
ATTACH;FMTTYPE=image/jpeg:https://itftkd.sport/es/wp-content/uploads/sites/7/2021/07/ITF-Taekwon-Do-Seminar-Goma-DR-Congo.jpg
END:VEVENT
BEGIN:VEVENT
DTSTART;TZID=Europe/Madrid:20210731T100000
DTEND;TZID=Europe/Madrid:20210801T170000
DTSTAMP:20260426T043011
CREATED:20210629T152608Z
LAST-MODIFIED:20210701T140152Z
UID:10000385-1627725600-1627837200@itftkd.sport
SUMMARY:3er Seminario de Taekwon-Do ITF en Bujumbura
DESCRIPTION:
URL:https://itftkd.sport/es/event/3er-seminario-de-taekwon-do-itf-en-bujumbura/
CATEGORIES:Regional Activities
ATTACH;FMTTYPE=image/jpeg:https://itftkd.sport/es/wp-content/uploads/sites/7/2021/07/3rd-ITF-Taekwon-Do-Seminar.-Bujumbra-Burundi.jpg
END:VEVENT
BEGIN:VEVENT
DTSTART;TZID=Europe/Madrid:20211016T080000
DTEND;TZID=Europe/Madrid:20211017T170000
DTSTAMP:20260426T043011
CREATED:20210924T205819Z
LAST-MODIFIED:20210924T210451Z
UID:10000246-1634371200-1634490000@itftkd.sport
SUMMARY:Seminario técnico en Costa de Marfil
DESCRIPTION:Los días 16 y 17 de Octubre de 2021\, en la ciudad de Abiyán al sur de Costa de Marfil y bajo la conducción del Maestro Niklas Enander miembro del Equipo para el Desarrollo de África de la ITF\, se llevará a cabo el primer Seminario de Movimientos Fundamentales\, Formas\, Defensa Personal\, lucha\, rotura y graduación. \n\n\n\nSe espera que participen del mismo 10 clubes de instructores principales\, instructores de Gambia\, Senegal y Mauritania\, por lo que contarán con la participación de al menos 50 cinturones negros de los diferentes clubes. \n\n\n\n\n\n\n\nPara más información contactarse a: Soumahoro Ibrahima – ibross1@yahoo.fr
URL:https://itftkd.sport/es/event/seminario-tecnico-en-costa-de-marfil/
CATEGORIES:Regional Activities
ATTACH;FMTTYPE=image/jpeg:https://itftkd.sport/es/wp-content/uploads/sites/7/2021/09/Poster-IC-2021-800x600-1.jpg
END:VEVENT
BEGIN:VEVENT
DTSTART;TZID=Europe/Madrid:20211218T090000
DTEND;TZID=Europe/Madrid:20211218T170000
DTSTAMP:20260426T043011
CREATED:20211118T022601Z
LAST-MODIFIED:20211118T022741Z
UID:10000238-1639818000-1639846800@itftkd.sport
SUMMARY:Seminario en Sud África
DESCRIPTION:Estimados miembros de la ITF \n\n\n\nLa Asociación Sudafricana de Taekwon-Do esta complacida de invitarlos al próximo Seminario dirigido por el Maestro Senior Niel Franks 8° Dan\, el día 18 de Diciembre de 2021.El Seminario dará comienzo a las 9:00 a.m. (TBC Time) \n\n\n\nPor más información se puede contactar con el Sabum Justin Glanville +27 76 050 1021.
URL:https://itftkd.sport/es/event/seminario-en-sud-africa/
CATEGORIES:Regional Activities
ATTACH;FMTTYPE=image/jpeg:https://itftkd.sport/es/wp-content/uploads/sites/7/2021/11/Highlight-SATA-Seminar-Johanseburg-Decembre-2021.jpg
END:VEVENT
BEGIN:VEVENT
DTSTART;TZID=Europe/Madrid:20220319T090000
DTEND;TZID=Europe/Madrid:20220319T210000
DTSTAMP:20260426T043011
CREATED:20210715T210810Z
LAST-MODIFIED:20220104T102904Z
UID:10000388-1647680400-1647723600@itftkd.sport
SUMMARY:6th NI-KKO ROMA OPEN INTERNATIONAL
DESCRIPTION:6th NI-KKO Roma Open Taekwon-Do ITF 202219 de Marzo de 2022  @ 9:00 am –  9:00 pmEn colaboración con la Federación Italiana de Taekwon-Do FITAE-ITF\, los invitamos al 6th NI-KKO ROMA OPEN TAEKWON-DO ITF 2022 que se llevará a cabo en Roma\, Italia\, el 19 de marzo de 2022 según el siguiente programa aproximado: \n\n\n\n09.00-12.00 hrs  Junior y Senior Cinturones de Color/Veteranos todos los cinturones.13.00-17.30 hrs  Niños y cadetes18.00-21.00 hrs  Junior y Senior cinturones negros \n\n\n\nReciba toda la información necesaria para asistir al 6th NI-KKO ROMA OPEN TAEKWON-DO ITF. \n\n\n\nEl registro se realiza a través de handlesport.com system. El cierre de la inscripción online tendrá lugar el lunes 14 de marzo de 2022 a las 23:00 horas. \n\n\n\nLos sistemas de puntuación electrónicos y las pantallas grandes estarán disponibles para tener un enfoque profesional. \n\n\n\nLos invitamos a leer el informe de la edición anterior del torneo\, disponible en el siguiente enlace: https://itfeurope.org/post/success-at-the-5th-ni-kko-roma-open \n\n\n\nEsperamos encontrarnos con Ustedes en la histórica ciudad de Roma. \n\n\n\nThe Extremefighters Team \n\n\n\n\n\n\n\n6th-Roma-Open-2022-InvitationDescarga
URL:https://itftkd.sport/es/event/6th-ni-kko-roma-open-taekwon-do-itf-2022/
CATEGORIES:Regional Activities
ATTACH;FMTTYPE=image/jpeg:https://itftkd.sport/es/wp-content/uploads/sites/7/2022/01/RomaOpen-800x600-ITF-Pospuesto.jpg
END:VEVENT
BEGIN:VEVENT
DTSTART;TZID=Europe/Madrid:20220409T174332
DTEND;TZID=Europe/Madrid:20220409T174332
DTSTAMP:20260426T043011
CREATED:20220409T154321Z
LAST-MODIFIED:20220616T120639Z
UID:10000411-1649526212-1649526212@itftkd.sport
SUMMARY:155º International Instructor Course - Túnez\, Junio 2022
DESCRIPTION:
URL:https://itftkd.sport/es/event/155o-international-instructor-course-tunez-junio-2022/
CATEGORIES:International Instructor Course,Regional Activities
ATTACH;FMTTYPE=image/jpeg:https://itftkd.sport/es/wp-content/uploads/sites/7/2022/04/Featured-image-IIC-155-Tunisia.jpg
END:VEVENT
BEGIN:VEVENT
DTSTART;TZID=Europe/Madrid:20220515T080000
DTEND;TZID=Europe/Madrid:20220520T170000
DTSTAMP:20260426T043011
CREATED:20210811T150045Z
LAST-MODIFIED:20220407T141733Z
UID:10000391-1652601600-1653066000@itftkd.sport
SUMMARY:La Cumbre Mundial de Deporte y Negocios ha sido reprogramada para el 15 y 20 de mayo de 2022.
DESCRIPTION:LAUSANA\, Suiza – SportAccord\, en total coordinación y acuerdo con la Federación de Rusia\, ha anunciado que la Cumbre Mundial de Deporte y Negocios en Ekaterimburgo se ha reprogramado para el 15 y 20 de mayo de 2022. \n\n\n\nDr. Raffaele Chiulli – Presidente de GAISF (Asociación Global de Federaciones Deportivas Internacionales) foto: sportaccord.sport\n\n\n\n«La Federación de Rusia acogerá una edición trascendental de SportAccord en Ekaterinburg\, por lo que es importante que la mayor cantidad posible de amigos y colegas puedan reunirse en persona de todo el mundo deportivo»\, dijo el presidente de SportAccord\, el Dr. Raffaele Chiulli. \n\n\n\n“La seguridad y el bienestar de nuestros delegados siempre ha sido nuestra máxima prioridad\, y las medidas desarrolladas por el Comité Organizador en Ekaterinburg seguirán siendo tan relevantes y aplicables cuando SportAccord tenga lugar el próximo año». \n\n\n\nPara obtener más información\, visite: https://www.sportaccord.sport/wsbs-2022/
URL:https://itftkd.sport/es/event/la-cumbre-mundial-de-deporte-y-negocios-ha-sido-reprogramada-para-el-15-y-20-de-mayo-de-2022/
CATEGORIES:Regional Activities
ATTACH;FMTTYPE=image/jpeg:https://itftkd.sport/es/wp-content/uploads/sites/7/2022/04/SportAccord-Cancelado.jpg
END:VEVENT
BEGIN:VEVENT
DTSTART;TZID=Europe/Madrid:20220720T020934
DTEND;TZID=Europe/Madrid:20220720T020934
DTSTAMP:20260426T043011
CREATED:20220720T000919Z
LAST-MODIFIED:20220720T000934Z
UID:10000417-1658282974-1658282974@itftkd.sport
SUMMARY:Cope Heroes & Seminario para Árbitros - Uganda
DESCRIPTION:Invitation-for-ITF-Uganda-events-2022 (Eng)Descarga
URL:https://itftkd.sport/es/event/cope-heroes-seminario-para-arbitros-uganda/
CATEGORIES:Campeonato Regional,Regional Activities
ATTACH;FMTTYPE=image/jpeg:https://itftkd.sport/es/wp-content/uploads/sites/7/2022/06/Uganda-Cup-and-Referees-Seminar-2.jpg
END:VEVENT
BEGIN:VEVENT
DTSTART;TZID=Europe/Madrid:20220917T080000
DTEND;TZID=Europe/Madrid:20220918T170000
DTSTAMP:20260426T043011
CREATED:20220416T222249Z
LAST-MODIFIED:20220416T222335Z
UID:10000412-1663401600-1663520400@itftkd.sport
SUMMARY:Mightyfist Eagles Cup\, Hungría 2022
DESCRIPTION:En nombre del Comité Organizador de la Mightyfist Eagles Cup\, Hungría\, nos gustaría invitarlo a que venga a nuestra competencia que se llevará a cabo el fin de semana del 17 al 18 de septiembre de 2022. \n\n\n\nDespués de años de inactividad a causa de la pandemia\, ¡ya podremos volver a organizar nuestro evento! Siendo esta una gran opción para una competición internacional en Europa Central\, justo al lado de Budapest\, no muy lejos del Aeropuerto de Budapest. \n\n\n\nEventos: \n\n\n\nFormas individual (niños\, cadetes\, juniors\, seniors)Lucha individual (niños\, cadetes\, juniors\, seniors\, seniors avanzados (35+))Técnicas especiales individuales (niños\, cadetes\, juniors\, seniors)Rotura de poder individual (niños\, cadetes\, juniors\, seniors)Lucha preestablecida (juniors\, seniors)Formas por equipos (juniors\, seniors)Lucha por equipos (juniors\, seniors)\n\n\n\n¿Por qué deberías elegir venir a Hungría? \n\n\n\n¿Irás a la Copa del Mundo en Koper\, solo 3 semanas después de nuestra competencia? ¡Estupendo! ¡Puedes practicar más en situaciones reales de competencia!¿No vas a ir al Mundial? ¡Estupendo! ¡Aún más razones para venir y competir con nosotros!Tendremos un sistema de todos contra todos en lugar del sistema piramidal regular: ¡más enceuntros!¡Reglas emocionantes y únicas para técnicas especiales y ruptura de poder!\n\n\n\nUbicación: Monor Városi Sportcsarnok (2200 Monor\, Balassi Bálint utca) \n\n\n\nLa invitación llegará en las próximas semanas\, síganos también en Facebook: https://www.facebook.com/eaglescup.hungary \n\n\n\nSi tiene alguna pregunta\, no dude en ponerse en contacto con nosotros en: eaglescup.hungary@gmail.com. \n\n\n\n¡Nos vemos en Hungría! \n\n\n\nGábor Szalay y Csaba Békássy
URL:https://itftkd.sport/es/event/mightyfist-eagles-cup-hungria-2022-2/
CATEGORIES:Campeonato Regional,Regional Activities
ATTACH;FMTTYPE=image/jpeg:https://itftkd.sport/es/wp-content/uploads/sites/7/2022/04/Mightyfist-Eagles-Cup-Hungary.jpg
END:VEVENT
BEGIN:VEVENT
DTSTART;TZID=Europe/Madrid:20230317T080000
DTEND;TZID=Europe/Madrid:20230319T170000
DTSTAMP:20260426T043011
CREATED:20230110T204725Z
LAST-MODIFIED:20230110T212544Z
UID:10000426-1679040000-1679245200@itftkd.sport
SUMMARY:Seminario Técnico en Zimbabue
DESCRIPTION:
URL:https://itftkd.sport/es/event/seminario-tecnico-en-zimbabue/
CATEGORIES:Regional Activities
ATTACH;FMTTYPE=image/jpeg:https://itftkd.sport/es/wp-content/uploads/sites/7/2023/01/Featured-Image-Technical-Seminar-Zimbabwe.jpg
END:VEVENT
BEGIN:VEVENT
DTSTART;TZID=Europe/Madrid:20230319T080000
DTEND;TZID=Europe/Madrid:20230319T200000
DTSTAMP:20260426T043011
CREATED:20221013T133534Z
LAST-MODIFIED:20230225T222456Z
UID:10000423-1679212800-1679256000@itftkd.sport
SUMMARY:6th NI-KKO ROMA OPEN TAEKWON-DO ITF
DESCRIPTION:6th NI-KKO ROMA OPEN TAEKWON-DO INTERNATIONALSports Hall PALA TORRINO\, Via Fiume Giallo 47\, Roma\, ItaliaDe 8.00 am a 8.00 pm \n\n\n\nOpen Taekwon-Do ITF TournamentOrganizado por GM Wim BosCinturones de Color y Cinturones Negros enveto individualNiñosCadetesJuvenilesSeniors \n\n\n\ninfo: extremefighters1@gmail.comhttps://www.fitae-itf.com/eventi/6-roma-open-2023-19-03-2023-palatorrino-roma/ \n\n\n\n2023 Roma Open – Invitation_ENG V1Download
URL:https://itftkd.sport/es/event/6th-ni-kko-roma-open-taekwon-do-itf/
CATEGORIES:Campeonato Regional,Regional Activities
ATTACH;FMTTYPE=image/jpeg:https://itftkd.sport/es/wp-content/uploads/sites/7/2022/10/POSTER-ROMA-OPEN-2023-800-x-600.jpg
END:VEVENT
END:VCALENDAR